BEGIN:VCALENDAR
VERSION:2.0
PRODID:-//Aaretraum - ECPv6.15.20//NONSGML v1.0//EN
CALSCALE:GREGORIAN
METHOD:PUBLISH
X-ORIGINAL-URL:https://aaretraum.ch
X-WR-CALDESC:Ereignisse für Aaretraum
REFRESH-INTERVAL;VALUE=DURATION:PT1H
X-Robots-Tag:noindex
X-PUBLISHED-TTL:PT1H
BEGIN:VTIMEZONE
TZID:Europe/Zurich
BEGIN:DAYLIGHT
TZOFFSETFROM:+0100
TZOFFSETTO:+0200
TZNAME:CEST
DTSTART:20240331T010000
END:DAYLIGHT
BEGIN:STANDARD
TZOFFSETFROM:+0200
TZOFFSETTO:+0100
TZNAME:CET
DTSTART:20241027T010000
END:STANDARD
BEGIN:DAYLIGHT
TZOFFSETFROM:+0100
TZOFFSETTO:+0200
TZNAME:CEST
DTSTART:20250330T010000
END:DAYLIGHT
BEGIN:STANDARD
TZOFFSETFROM:+0200
TZOFFSETTO:+0100
TZNAME:CET
DTSTART:20251026T010000
END:STANDARD
BEGIN:DAYLIGHT
TZOFFSETFROM:+0100
TZOFFSETTO:+0200
TZNAME:CEST
DTSTART:20260329T010000
END:DAYLIGHT
BEGIN:STANDARD
TZOFFSETFROM:+0200
TZOFFSETTO:+0100
TZNAME:CET
DTSTART:20261025T010000
END:STANDARD
END:VTIMEZONE
BEGIN:VEVENT
DTSTART;TZID=Europe/Zurich:20250423T130000
DTEND;TZID=Europe/Zurich:20250423T170000
DTSTAMP:20260422T043714
CREATED:20241214T173708Z
LAST-MODIFIED:20241214T204922Z
UID:10002351-1745413200-1745427600@aaretraum.ch
SUMMARY:MSC (Mindful Self Compassion) mit Rita Scholl
DESCRIPTION:Mindful Self Compassion oder Achtsames Selbstmitgefühl \n« Ein Weg\, mit sich selbst Freundschaft zu schliessen. »\nBist Du mit Dir selbst oft sehr kritisch\, streng\, abwertend und lieblos?\nDann kann für Dich ein MSC-Kurs wertvoll sein. \nSelbstmitgefühl ist eine Achtsamkeitspraxis\, die Stressresistenz und\nemotionales Wohlbefinden fördert. Wissenschaftliche Studien zeigen\,\ndass es Angst und Stress reduziert\, bei Depressionen hilft und eine\ngesunde Lebensweise unterstützt. Es bedeutet\, sich in schwierigen\nMomenten mit Respekt\, Liebe und Grosszügigkeit zu begegnen. \nMSC-Kurs vom 26.02. – 23.04.2025 \n\nZeit: Jeweils mittwochs von 13.45 – 16.30 Uhr\n\nKein Kurs am 26.03.2025\nRetreattag: Samstag\, 12.04.2025 von 10.00 – 15.00 Uhr\n\n\nOrt: Aaretraum\, Obere Hauptgasse 72\, 3600 Thun\nInvestition: 750.- (inkl. Handout und Audio-Dateien)\n\nReduktion sowie Beteiligung Zusatzversicherung möglich\nKostenlose Annulation bis 30 Tage vor Kursbeginn möglich\n\n\n\nFragen & Anmeldung:\nRita Scholl Born\, MSC-Lehrerin und Psychotherapeutin\ninfo@ritalscholl.ch oder 031 721 57 05\nWeitere Informationen: https://www.ritascholl.ch
URL:https://aaretraum.ch/event/msc-mindful-self-compassion-mit-rita-scholl/2025-04-23/
LOCATION:Aaretraum\, Obere Hauptgasse 72\, Thun\, Bern\, 3600\, Schweiz
ATTACH;FMTTYPE=image/jpeg:https://aaretraum.ch/wp-content/uploads/MSC-Kurs-Rita-Scholl.jpg
ORGANIZER;CN="Rita Scholl":MAILTO:info@ritascholl.ch
END:VEVENT
BEGIN:VEVENT
DTSTART;TZID=Europe/Zurich:20250416T130000
DTEND;TZID=Europe/Zurich:20250416T170000
DTSTAMP:20260422T043714
CREATED:20241214T173708Z
LAST-MODIFIED:20241214T204922Z
UID:10002350-1744808400-1744822800@aaretraum.ch
SUMMARY:MSC (Mindful Self Compassion) mit Rita Scholl
DESCRIPTION:Mindful Self Compassion oder Achtsames Selbstmitgefühl \n« Ein Weg\, mit sich selbst Freundschaft zu schliessen. »\nBist Du mit Dir selbst oft sehr kritisch\, streng\, abwertend und lieblos?\nDann kann für Dich ein MSC-Kurs wertvoll sein. \nSelbstmitgefühl ist eine Achtsamkeitspraxis\, die Stressresistenz und\nemotionales Wohlbefinden fördert. Wissenschaftliche Studien zeigen\,\ndass es Angst und Stress reduziert\, bei Depressionen hilft und eine\ngesunde Lebensweise unterstützt. Es bedeutet\, sich in schwierigen\nMomenten mit Respekt\, Liebe und Grosszügigkeit zu begegnen. \nMSC-Kurs vom 26.02. – 23.04.2025 \n\nZeit: Jeweils mittwochs von 13.45 – 16.30 Uhr\n\nKein Kurs am 26.03.2025\nRetreattag: Samstag\, 12.04.2025 von 10.00 – 15.00 Uhr\n\n\nOrt: Aaretraum\, Obere Hauptgasse 72\, 3600 Thun\nInvestition: 750.- (inkl. Handout und Audio-Dateien)\n\nReduktion sowie Beteiligung Zusatzversicherung möglich\nKostenlose Annulation bis 30 Tage vor Kursbeginn möglich\n\n\n\nFragen & Anmeldung:\nRita Scholl Born\, MSC-Lehrerin und Psychotherapeutin\ninfo@ritalscholl.ch oder 031 721 57 05\nWeitere Informationen: https://www.ritascholl.ch
URL:https://aaretraum.ch/event/msc-mindful-self-compassion-mit-rita-scholl/2025-04-16/
LOCATION:Aaretraum\, Obere Hauptgasse 72\, Thun\, Bern\, 3600\, Schweiz
ATTACH;FMTTYPE=image/jpeg:https://aaretraum.ch/wp-content/uploads/MSC-Kurs-Rita-Scholl.jpg
ORGANIZER;CN="Rita Scholl":MAILTO:info@ritascholl.ch
END:VEVENT
BEGIN:VEVENT
DTSTART;TZID=Europe/Zurich:20250412T090000
DTEND;TZID=Europe/Zurich:20250412T180000
DTSTAMP:20260422T043714
CREATED:20241214T204532Z
LAST-MODIFIED:20241214T204743Z
UID:10002352-1744448400-1744480800@aaretraum.ch
SUMMARY:MSC (Mindful Self Compassion) Retreattag mit Rita Scholl
DESCRIPTION:Mindful Self Compassion oder Achtsames Selbstmitgefühl – Retrettag \n« Ein Weg\, mit sich selbst Freundschaft zu schliessen. »\nBist Du mit Dir selbst oft sehr kritisch\, streng\, abwertend und lieblos?\nDann kann für Dich ein MSC-Kurs wertvoll sein. \nSelbstmitgefühl ist eine Achtsamkeitspraxis\, die Stressresistenz und\nemotionales Wohlbefinden fördert. Wissenschaftliche Studien zeigen\,\ndass es Angst und Stress reduziert\, bei Depressionen hilft und eine\ngesunde Lebensweise unterstützt. Es bedeutet\, sich in schwierigen\nMomenten mit Respekt\, Liebe und Grosszügigkeit zu begegnen. \nMSC-Kurs vom 26.02. – 23.04.2025 \n\nZeit: Jeweils mittwochs von 13.45 – 16.30 Uhr\n\nKein Kurs am 26.03.2025\nRetreattag: Samstag\, 12.04.2025 von 10.00 – 15.00 Uhr\n\n\nOrt: Aaretraum\, Obere Hauptgasse 72\, 3600 Thun\nInvestition: 750.- (inkl. Handout und Audio-Dateien)\n\nReduktion sowie Beteiligung Zusatzversicherung möglich\nKostenlose Annulation bis 30 Tage vor Kursbeginn möglich\n\n\n\nFragen & Anmeldung:\nRita Scholl Born\, MSC-Lehrerin und Psychotherapeutin\ninfo@ritalscholl.ch oder 031 721 57 05\nWeitere Informationen: https://www.ritascholl.ch
URL:https://aaretraum.ch/event/msc-mindful-self-compassion-retreattag-mit-rita-scholl/
LOCATION:Aaretraum\, Obere Hauptgasse 72\, Thun\, Bern\, 3600\, Schweiz
ATTACH;FMTTYPE=image/jpeg:https://aaretraum.ch/wp-content/uploads/MSC-Kurs-Rita-Scholl.jpg
ORGANIZER;CN="Rita Scholl":MAILTO:info@ritascholl.ch
END:VEVENT
BEGIN:VEVENT
DTSTART;TZID=Europe/Zurich:20250409T130000
DTEND;TZID=Europe/Zurich:20250409T170000
DTSTAMP:20260422T043714
CREATED:20241214T173708Z
LAST-MODIFIED:20241214T204922Z
UID:10002349-1744203600-1744218000@aaretraum.ch
SUMMARY:MSC (Mindful Self Compassion) mit Rita Scholl
DESCRIPTION:Mindful Self Compassion oder Achtsames Selbstmitgefühl \n« Ein Weg\, mit sich selbst Freundschaft zu schliessen. »\nBist Du mit Dir selbst oft sehr kritisch\, streng\, abwertend und lieblos?\nDann kann für Dich ein MSC-Kurs wertvoll sein. \nSelbstmitgefühl ist eine Achtsamkeitspraxis\, die Stressresistenz und\nemotionales Wohlbefinden fördert. Wissenschaftliche Studien zeigen\,\ndass es Angst und Stress reduziert\, bei Depressionen hilft und eine\ngesunde Lebensweise unterstützt. Es bedeutet\, sich in schwierigen\nMomenten mit Respekt\, Liebe und Grosszügigkeit zu begegnen. \nMSC-Kurs vom 26.02. – 23.04.2025 \n\nZeit: Jeweils mittwochs von 13.45 – 16.30 Uhr\n\nKein Kurs am 26.03.2025\nRetreattag: Samstag\, 12.04.2025 von 10.00 – 15.00 Uhr\n\n\nOrt: Aaretraum\, Obere Hauptgasse 72\, 3600 Thun\nInvestition: 750.- (inkl. Handout und Audio-Dateien)\n\nReduktion sowie Beteiligung Zusatzversicherung möglich\nKostenlose Annulation bis 30 Tage vor Kursbeginn möglich\n\n\n\nFragen & Anmeldung:\nRita Scholl Born\, MSC-Lehrerin und Psychotherapeutin\ninfo@ritalscholl.ch oder 031 721 57 05\nWeitere Informationen: https://www.ritascholl.ch
URL:https://aaretraum.ch/event/msc-mindful-self-compassion-mit-rita-scholl/2025-04-09/
LOCATION:Aaretraum\, Obere Hauptgasse 72\, Thun\, Bern\, 3600\, Schweiz
ATTACH;FMTTYPE=image/jpeg:https://aaretraum.ch/wp-content/uploads/MSC-Kurs-Rita-Scholl.jpg
ORGANIZER;CN="Rita Scholl":MAILTO:info@ritascholl.ch
END:VEVENT
BEGIN:VEVENT
DTSTART;TZID=Europe/Zurich:20250402T130000
DTEND;TZID=Europe/Zurich:20250402T170000
DTSTAMP:20260422T043714
CREATED:20241214T173708Z
LAST-MODIFIED:20241214T204922Z
UID:10002348-1743598800-1743613200@aaretraum.ch
SUMMARY:MSC (Mindful Self Compassion) mit Rita Scholl
DESCRIPTION:Mindful Self Compassion oder Achtsames Selbstmitgefühl \n« Ein Weg\, mit sich selbst Freundschaft zu schliessen. »\nBist Du mit Dir selbst oft sehr kritisch\, streng\, abwertend und lieblos?\nDann kann für Dich ein MSC-Kurs wertvoll sein. \nSelbstmitgefühl ist eine Achtsamkeitspraxis\, die Stressresistenz und\nemotionales Wohlbefinden fördert. Wissenschaftliche Studien zeigen\,\ndass es Angst und Stress reduziert\, bei Depressionen hilft und eine\ngesunde Lebensweise unterstützt. Es bedeutet\, sich in schwierigen\nMomenten mit Respekt\, Liebe und Grosszügigkeit zu begegnen. \nMSC-Kurs vom 26.02. – 23.04.2025 \n\nZeit: Jeweils mittwochs von 13.45 – 16.30 Uhr\n\nKein Kurs am 26.03.2025\nRetreattag: Samstag\, 12.04.2025 von 10.00 – 15.00 Uhr\n\n\nOrt: Aaretraum\, Obere Hauptgasse 72\, 3600 Thun\nInvestition: 750.- (inkl. Handout und Audio-Dateien)\n\nReduktion sowie Beteiligung Zusatzversicherung möglich\nKostenlose Annulation bis 30 Tage vor Kursbeginn möglich\n\n\n\nFragen & Anmeldung:\nRita Scholl Born\, MSC-Lehrerin und Psychotherapeutin\ninfo@ritalscholl.ch oder 031 721 57 05\nWeitere Informationen: https://www.ritascholl.ch
URL:https://aaretraum.ch/event/msc-mindful-self-compassion-mit-rita-scholl/2025-04-02/
LOCATION:Aaretraum\, Obere Hauptgasse 72\, Thun\, Bern\, 3600\, Schweiz
ATTACH;FMTTYPE=image/jpeg:https://aaretraum.ch/wp-content/uploads/MSC-Kurs-Rita-Scholl.jpg
ORGANIZER;CN="Rita Scholl":MAILTO:info@ritascholl.ch
END:VEVENT
BEGIN:VEVENT
DTSTART;TZID=Europe/Zurich:20250319T130000
DTEND;TZID=Europe/Zurich:20250319T170000
DTSTAMP:20260422T043714
CREATED:20241214T173708Z
LAST-MODIFIED:20241214T204922Z
UID:10002347-1742389200-1742403600@aaretraum.ch
SUMMARY:MSC (Mindful Self Compassion) mit Rita Scholl
DESCRIPTION:Mindful Self Compassion oder Achtsames Selbstmitgefühl \n« Ein Weg\, mit sich selbst Freundschaft zu schliessen. »\nBist Du mit Dir selbst oft sehr kritisch\, streng\, abwertend und lieblos?\nDann kann für Dich ein MSC-Kurs wertvoll sein. \nSelbstmitgefühl ist eine Achtsamkeitspraxis\, die Stressresistenz und\nemotionales Wohlbefinden fördert. Wissenschaftliche Studien zeigen\,\ndass es Angst und Stress reduziert\, bei Depressionen hilft und eine\ngesunde Lebensweise unterstützt. Es bedeutet\, sich in schwierigen\nMomenten mit Respekt\, Liebe und Grosszügigkeit zu begegnen. \nMSC-Kurs vom 26.02. – 23.04.2025 \n\nZeit: Jeweils mittwochs von 13.45 – 16.30 Uhr\n\nKein Kurs am 26.03.2025\nRetreattag: Samstag\, 12.04.2025 von 10.00 – 15.00 Uhr\n\n\nOrt: Aaretraum\, Obere Hauptgasse 72\, 3600 Thun\nInvestition: 750.- (inkl. Handout und Audio-Dateien)\n\nReduktion sowie Beteiligung Zusatzversicherung möglich\nKostenlose Annulation bis 30 Tage vor Kursbeginn möglich\n\n\n\nFragen & Anmeldung:\nRita Scholl Born\, MSC-Lehrerin und Psychotherapeutin\ninfo@ritalscholl.ch oder 031 721 57 05\nWeitere Informationen: https://www.ritascholl.ch
URL:https://aaretraum.ch/event/msc-mindful-self-compassion-mit-rita-scholl/2025-03-19/
LOCATION:Aaretraum\, Obere Hauptgasse 72\, Thun\, Bern\, 3600\, Schweiz
ATTACH;FMTTYPE=image/jpeg:https://aaretraum.ch/wp-content/uploads/MSC-Kurs-Rita-Scholl.jpg
ORGANIZER;CN="Rita Scholl":MAILTO:info@ritascholl.ch
END:VEVENT
BEGIN:VEVENT
DTSTART;TZID=Europe/Zurich:20250312T130000
DTEND;TZID=Europe/Zurich:20250312T170000
DTSTAMP:20260422T043714
CREATED:20241214T173708Z
LAST-MODIFIED:20241214T204922Z
UID:10002346-1741784400-1741798800@aaretraum.ch
SUMMARY:MSC (Mindful Self Compassion) mit Rita Scholl
DESCRIPTION:Mindful Self Compassion oder Achtsames Selbstmitgefühl \n« Ein Weg\, mit sich selbst Freundschaft zu schliessen. »\nBist Du mit Dir selbst oft sehr kritisch\, streng\, abwertend und lieblos?\nDann kann für Dich ein MSC-Kurs wertvoll sein. \nSelbstmitgefühl ist eine Achtsamkeitspraxis\, die Stressresistenz und\nemotionales Wohlbefinden fördert. Wissenschaftliche Studien zeigen\,\ndass es Angst und Stress reduziert\, bei Depressionen hilft und eine\ngesunde Lebensweise unterstützt. Es bedeutet\, sich in schwierigen\nMomenten mit Respekt\, Liebe und Grosszügigkeit zu begegnen. \nMSC-Kurs vom 26.02. – 23.04.2025 \n\nZeit: Jeweils mittwochs von 13.45 – 16.30 Uhr\n\nKein Kurs am 26.03.2025\nRetreattag: Samstag\, 12.04.2025 von 10.00 – 15.00 Uhr\n\n\nOrt: Aaretraum\, Obere Hauptgasse 72\, 3600 Thun\nInvestition: 750.- (inkl. Handout und Audio-Dateien)\n\nReduktion sowie Beteiligung Zusatzversicherung möglich\nKostenlose Annulation bis 30 Tage vor Kursbeginn möglich\n\n\n\nFragen & Anmeldung:\nRita Scholl Born\, MSC-Lehrerin und Psychotherapeutin\ninfo@ritalscholl.ch oder 031 721 57 05\nWeitere Informationen: https://www.ritascholl.ch
URL:https://aaretraum.ch/event/msc-mindful-self-compassion-mit-rita-scholl/2025-03-12/
LOCATION:Aaretraum\, Obere Hauptgasse 72\, Thun\, Bern\, 3600\, Schweiz
ATTACH;FMTTYPE=image/jpeg:https://aaretraum.ch/wp-content/uploads/MSC-Kurs-Rita-Scholl.jpg
ORGANIZER;CN="Rita Scholl":MAILTO:info@ritascholl.ch
END:VEVENT
BEGIN:VEVENT
DTSTART;TZID=Europe/Zurich:20250305T130000
DTEND;TZID=Europe/Zurich:20250305T170000
DTSTAMP:20260422T043714
CREATED:20241214T173708Z
LAST-MODIFIED:20241214T204922Z
UID:10002345-1741179600-1741194000@aaretraum.ch
SUMMARY:MSC (Mindful Self Compassion) mit Rita Scholl
DESCRIPTION:Mindful Self Compassion oder Achtsames Selbstmitgefühl \n« Ein Weg\, mit sich selbst Freundschaft zu schliessen. »\nBist Du mit Dir selbst oft sehr kritisch\, streng\, abwertend und lieblos?\nDann kann für Dich ein MSC-Kurs wertvoll sein. \nSelbstmitgefühl ist eine Achtsamkeitspraxis\, die Stressresistenz und\nemotionales Wohlbefinden fördert. Wissenschaftliche Studien zeigen\,\ndass es Angst und Stress reduziert\, bei Depressionen hilft und eine\ngesunde Lebensweise unterstützt. Es bedeutet\, sich in schwierigen\nMomenten mit Respekt\, Liebe und Grosszügigkeit zu begegnen. \nMSC-Kurs vom 26.02. – 23.04.2025 \n\nZeit: Jeweils mittwochs von 13.45 – 16.30 Uhr\n\nKein Kurs am 26.03.2025\nRetreattag: Samstag\, 12.04.2025 von 10.00 – 15.00 Uhr\n\n\nOrt: Aaretraum\, Obere Hauptgasse 72\, 3600 Thun\nInvestition: 750.- (inkl. Handout und Audio-Dateien)\n\nReduktion sowie Beteiligung Zusatzversicherung möglich\nKostenlose Annulation bis 30 Tage vor Kursbeginn möglich\n\n\n\nFragen & Anmeldung:\nRita Scholl Born\, MSC-Lehrerin und Psychotherapeutin\ninfo@ritalscholl.ch oder 031 721 57 05\nWeitere Informationen: https://www.ritascholl.ch
URL:https://aaretraum.ch/event/msc-mindful-self-compassion-mit-rita-scholl/2025-03-05/
LOCATION:Aaretraum\, Obere Hauptgasse 72\, Thun\, Bern\, 3600\, Schweiz
ATTACH;FMTTYPE=image/jpeg:https://aaretraum.ch/wp-content/uploads/MSC-Kurs-Rita-Scholl.jpg
ORGANIZER;CN="Rita Scholl":MAILTO:info@ritascholl.ch
END:VEVENT
BEGIN:VEVENT
DTSTART;TZID=Europe/Zurich:20250226T130000
DTEND;TZID=Europe/Zurich:20250226T170000
DTSTAMP:20260422T043714
CREATED:20241214T173708Z
LAST-MODIFIED:20241214T204922Z
UID:10002344-1740574800-1740589200@aaretraum.ch
SUMMARY:MSC (Mindful Self Compassion) mit Rita Scholl
DESCRIPTION:Mindful Self Compassion oder Achtsames Selbstmitgefühl \n« Ein Weg\, mit sich selbst Freundschaft zu schliessen. »\nBist Du mit Dir selbst oft sehr kritisch\, streng\, abwertend und lieblos?\nDann kann für Dich ein MSC-Kurs wertvoll sein. \nSelbstmitgefühl ist eine Achtsamkeitspraxis\, die Stressresistenz und\nemotionales Wohlbefinden fördert. Wissenschaftliche Studien zeigen\,\ndass es Angst und Stress reduziert\, bei Depressionen hilft und eine\ngesunde Lebensweise unterstützt. Es bedeutet\, sich in schwierigen\nMomenten mit Respekt\, Liebe und Grosszügigkeit zu begegnen. \nMSC-Kurs vom 26.02. – 23.04.2025 \n\nZeit: Jeweils mittwochs von 13.45 – 16.30 Uhr\n\nKein Kurs am 26.03.2025\nRetreattag: Samstag\, 12.04.2025 von 10.00 – 15.00 Uhr\n\n\nOrt: Aaretraum\, Obere Hauptgasse 72\, 3600 Thun\nInvestition: 750.- (inkl. Handout und Audio-Dateien)\n\nReduktion sowie Beteiligung Zusatzversicherung möglich\nKostenlose Annulation bis 30 Tage vor Kursbeginn möglich\n\n\n\nFragen & Anmeldung:\nRita Scholl Born\, MSC-Lehrerin und Psychotherapeutin\ninfo@ritalscholl.ch oder 031 721 57 05\nWeitere Informationen: https://www.ritascholl.ch
URL:https://aaretraum.ch/event/msc-mindful-self-compassion-mit-rita-scholl/2025-02-26/
LOCATION:Aaretraum\, Obere Hauptgasse 72\, Thun\, Bern\, 3600\, Schweiz
ATTACH;FMTTYPE=image/jpeg:https://aaretraum.ch/wp-content/uploads/MSC-Kurs-Rita-Scholl.jpg
ORGANIZER;CN="Rita Scholl":MAILTO:info@ritascholl.ch
END:VEVENT
END:VCALENDAR