BEGIN:VCALENDAR
VERSION:2.0
PRODID:-//Aaretraum - ECPv6.15.20//NONSGML v1.0//EN
CALSCALE:GREGORIAN
METHOD:PUBLISH
X-ORIGINAL-URL:https://aaretraum.ch
X-WR-CALDESC:Ereignisse für Aaretraum
REFRESH-INTERVAL;VALUE=DURATION:PT1H
X-Robots-Tag:noindex
X-PUBLISHED-TTL:PT1H
BEGIN:VTIMEZONE
TZID:Europe/Zurich
BEGIN:DAYLIGHT
TZOFFSETFROM:+0100
TZOFFSETTO:+0200
TZNAME:CEST
DTSTART:20240331T010000
END:DAYLIGHT
BEGIN:STANDARD
TZOFFSETFROM:+0200
TZOFFSETTO:+0100
TZNAME:CET
DTSTART:20241027T010000
END:STANDARD
BEGIN:DAYLIGHT
TZOFFSETFROM:+0100
TZOFFSETTO:+0200
TZNAME:CEST
DTSTART:20250330T010000
END:DAYLIGHT
BEGIN:STANDARD
TZOFFSETFROM:+0200
TZOFFSETTO:+0100
TZNAME:CET
DTSTART:20251026T010000
END:STANDARD
BEGIN:DAYLIGHT
TZOFFSETFROM:+0100
TZOFFSETTO:+0200
TZNAME:CEST
DTSTART:20260329T010000
END:DAYLIGHT
BEGIN:STANDARD
TZOFFSETFROM:+0200
TZOFFSETTO:+0100
TZNAME:CET
DTSTART:20261025T010000
END:STANDARD
BEGIN:DAYLIGHT
TZOFFSETFROM:+0100
TZOFFSETTO:+0200
TZNAME:CEST
DTSTART:20270328T010000
END:DAYLIGHT
BEGIN:STANDARD
TZOFFSETFROM:+0200
TZOFFSETTO:+0100
TZNAME:CET
DTSTART:20271031T010000
END:STANDARD
END:VTIMEZONE
BEGIN:VEVENT
DTSTART;TZID=Europe/Zurich:20260128T080000
DTEND;TZID=Europe/Zurich:20260128T110000
DTSTAMP:20260426T060603
CREATED:20240612T064031Z
LAST-MODIFIED:20250511T135808Z
UID:10002563-1769587200-1769598000@aaretraum.ch
SUMMARY:Gyrokinesis mit Maria Gadient
DESCRIPTION:
URL:https://aaretraum.ch/event/gyrokinesis-mit-maria-gadient/2026-01-28/
LOCATION:Aaretraum\, Obere Hauptgasse 72\, Thun\, Bern\, 3600\, Schweiz
ATTACH;FMTTYPE=image/jpeg:https://aaretraum.ch/wp-content/uploads/eaf31524a1cba0615139444e5734bc61.jpg
END:VEVENT
BEGIN:VEVENT
DTSTART;TZID=Europe/Zurich:20260121T080000
DTEND;TZID=Europe/Zurich:20260121T110000
DTSTAMP:20260426T060603
CREATED:20240612T064031Z
LAST-MODIFIED:20250511T135808Z
UID:10002562-1768982400-1768993200@aaretraum.ch
SUMMARY:Gyrokinesis mit Maria Gadient
DESCRIPTION:
URL:https://aaretraum.ch/event/gyrokinesis-mit-maria-gadient/2026-01-21/
LOCATION:Aaretraum\, Obere Hauptgasse 72\, Thun\, Bern\, 3600\, Schweiz
ATTACH;FMTTYPE=image/jpeg:https://aaretraum.ch/wp-content/uploads/eaf31524a1cba0615139444e5734bc61.jpg
END:VEVENT
BEGIN:VEVENT
DTSTART;TZID=Europe/Zurich:20260114T080000
DTEND;TZID=Europe/Zurich:20260114T110000
DTSTAMP:20260426T060603
CREATED:20240612T064031Z
LAST-MODIFIED:20250511T135808Z
UID:10002561-1768377600-1768388400@aaretraum.ch
SUMMARY:Gyrokinesis mit Maria Gadient
DESCRIPTION:
URL:https://aaretraum.ch/event/gyrokinesis-mit-maria-gadient/2026-01-14/
LOCATION:Aaretraum\, Obere Hauptgasse 72\, Thun\, Bern\, 3600\, Schweiz
ATTACH;FMTTYPE=image/jpeg:https://aaretraum.ch/wp-content/uploads/eaf31524a1cba0615139444e5734bc61.jpg
END:VEVENT
BEGIN:VEVENT
DTSTART;TZID=Europe/Zurich:20260107T080000
DTEND;TZID=Europe/Zurich:20260107T110000
DTSTAMP:20260426T060603
CREATED:20240612T064031Z
LAST-MODIFIED:20250511T135808Z
UID:10002560-1767772800-1767783600@aaretraum.ch
SUMMARY:Gyrokinesis mit Maria Gadient
DESCRIPTION:
URL:https://aaretraum.ch/event/gyrokinesis-mit-maria-gadient/2026-01-07/
LOCATION:Aaretraum\, Obere Hauptgasse 72\, Thun\, Bern\, 3600\, Schweiz
ATTACH;FMTTYPE=image/jpeg:https://aaretraum.ch/wp-content/uploads/eaf31524a1cba0615139444e5734bc61.jpg
END:VEVENT
BEGIN:VEVENT
DTSTART;TZID=Europe/Zurich:20251231T080000
DTEND;TZID=Europe/Zurich:20251231T110000
DTSTAMP:20260426T060603
CREATED:20240612T064031Z
LAST-MODIFIED:20250511T135808Z
UID:10000668-1767168000-1767178800@aaretraum.ch
SUMMARY:Gyrokinesis mit Maria Gadient
DESCRIPTION:
URL:https://aaretraum.ch/event/gyrokinesis-mit-maria-gadient/2025-12-31/
LOCATION:Aaretraum\, Obere Hauptgasse 72\, Thun\, Bern\, 3600\, Schweiz
ATTACH;FMTTYPE=image/jpeg:https://aaretraum.ch/wp-content/uploads/eaf31524a1cba0615139444e5734bc61.jpg
END:VEVENT
BEGIN:VEVENT
DTSTART;TZID=Europe/Zurich:20251224T080000
DTEND;TZID=Europe/Zurich:20251224T110000
DTSTAMP:20260426T060603
CREATED:20240612T064031Z
LAST-MODIFIED:20250511T135808Z
UID:10000667-1766563200-1766574000@aaretraum.ch
SUMMARY:Gyrokinesis mit Maria Gadient
DESCRIPTION:
URL:https://aaretraum.ch/event/gyrokinesis-mit-maria-gadient/2025-12-24/
LOCATION:Aaretraum\, Obere Hauptgasse 72\, Thun\, Bern\, 3600\, Schweiz
ATTACH;FMTTYPE=image/jpeg:https://aaretraum.ch/wp-content/uploads/eaf31524a1cba0615139444e5734bc61.jpg
END:VEVENT
BEGIN:VEVENT
DTSTART;TZID=Europe/Zurich:20251217T080000
DTEND;TZID=Europe/Zurich:20251217T110000
DTSTAMP:20260426T060603
CREATED:20240612T064031Z
LAST-MODIFIED:20250511T135808Z
UID:10000666-1765958400-1765969200@aaretraum.ch
SUMMARY:Gyrokinesis mit Maria Gadient
DESCRIPTION:
URL:https://aaretraum.ch/event/gyrokinesis-mit-maria-gadient/2025-12-17/
LOCATION:Aaretraum\, Obere Hauptgasse 72\, Thun\, Bern\, 3600\, Schweiz
ATTACH;FMTTYPE=image/jpeg:https://aaretraum.ch/wp-content/uploads/eaf31524a1cba0615139444e5734bc61.jpg
END:VEVENT
BEGIN:VEVENT
DTSTART;TZID=Europe/Zurich:20251210T080000
DTEND;TZID=Europe/Zurich:20251210T110000
DTSTAMP:20260426T060603
CREATED:20240612T064031Z
LAST-MODIFIED:20250511T135808Z
UID:10000665-1765353600-1765364400@aaretraum.ch
SUMMARY:Gyrokinesis mit Maria Gadient
DESCRIPTION:
URL:https://aaretraum.ch/event/gyrokinesis-mit-maria-gadient/2025-12-10/
LOCATION:Aaretraum\, Obere Hauptgasse 72\, Thun\, Bern\, 3600\, Schweiz
ATTACH;FMTTYPE=image/jpeg:https://aaretraum.ch/wp-content/uploads/eaf31524a1cba0615139444e5734bc61.jpg
END:VEVENT
BEGIN:VEVENT
DTSTART;TZID=Europe/Zurich:20251203T080000
DTEND;TZID=Europe/Zurich:20251203T110000
DTSTAMP:20260426T060603
CREATED:20240612T064031Z
LAST-MODIFIED:20250511T135808Z
UID:10000664-1764748800-1764759600@aaretraum.ch
SUMMARY:Gyrokinesis mit Maria Gadient
DESCRIPTION:
URL:https://aaretraum.ch/event/gyrokinesis-mit-maria-gadient/2025-12-03/
LOCATION:Aaretraum\, Obere Hauptgasse 72\, Thun\, Bern\, 3600\, Schweiz
ATTACH;FMTTYPE=image/jpeg:https://aaretraum.ch/wp-content/uploads/eaf31524a1cba0615139444e5734bc61.jpg
END:VEVENT
BEGIN:VEVENT
DTSTART;TZID=Europe/Zurich:20251126T080000
DTEND;TZID=Europe/Zurich:20251126T110000
DTSTAMP:20260426T060603
CREATED:20240612T064031Z
LAST-MODIFIED:20250511T135808Z
UID:10000663-1764144000-1764154800@aaretraum.ch
SUMMARY:Gyrokinesis mit Maria Gadient
DESCRIPTION:
URL:https://aaretraum.ch/event/gyrokinesis-mit-maria-gadient/2025-11-26/
LOCATION:Aaretraum\, Obere Hauptgasse 72\, Thun\, Bern\, 3600\, Schweiz
ATTACH;FMTTYPE=image/jpeg:https://aaretraum.ch/wp-content/uploads/eaf31524a1cba0615139444e5734bc61.jpg
END:VEVENT
BEGIN:VEVENT
DTSTART;TZID=Europe/Zurich:20251119T080000
DTEND;TZID=Europe/Zurich:20251119T110000
DTSTAMP:20260426T060603
CREATED:20240612T064031Z
LAST-MODIFIED:20250511T135808Z
UID:10000662-1763539200-1763550000@aaretraum.ch
SUMMARY:Gyrokinesis mit Maria Gadient
DESCRIPTION:
URL:https://aaretraum.ch/event/gyrokinesis-mit-maria-gadient/2025-11-19/
LOCATION:Aaretraum\, Obere Hauptgasse 72\, Thun\, Bern\, 3600\, Schweiz
ATTACH;FMTTYPE=image/jpeg:https://aaretraum.ch/wp-content/uploads/eaf31524a1cba0615139444e5734bc61.jpg
END:VEVENT
BEGIN:VEVENT
DTSTART;TZID=Europe/Zurich:20251112T080000
DTEND;TZID=Europe/Zurich:20251112T110000
DTSTAMP:20260426T060603
CREATED:20240612T064031Z
LAST-MODIFIED:20250511T135808Z
UID:10000661-1762934400-1762945200@aaretraum.ch
SUMMARY:Gyrokinesis mit Maria Gadient
DESCRIPTION:
URL:https://aaretraum.ch/event/gyrokinesis-mit-maria-gadient/2025-11-12/
LOCATION:Aaretraum\, Obere Hauptgasse 72\, Thun\, Bern\, 3600\, Schweiz
ATTACH;FMTTYPE=image/jpeg:https://aaretraum.ch/wp-content/uploads/eaf31524a1cba0615139444e5734bc61.jpg
END:VEVENT
BEGIN:VEVENT
DTSTART;TZID=Europe/Zurich:20251105T080000
DTEND;TZID=Europe/Zurich:20251105T110000
DTSTAMP:20260426T060603
CREATED:20240612T064031Z
LAST-MODIFIED:20250511T135808Z
UID:10000660-1762329600-1762340400@aaretraum.ch
SUMMARY:Gyrokinesis mit Maria Gadient
DESCRIPTION:
URL:https://aaretraum.ch/event/gyrokinesis-mit-maria-gadient/2025-11-05/
LOCATION:Aaretraum\, Obere Hauptgasse 72\, Thun\, Bern\, 3600\, Schweiz
ATTACH;FMTTYPE=image/jpeg:https://aaretraum.ch/wp-content/uploads/eaf31524a1cba0615139444e5734bc61.jpg
END:VEVENT
BEGIN:VEVENT
DTSTART;TZID=Europe/Zurich:20251029T080000
DTEND;TZID=Europe/Zurich:20251029T110000
DTSTAMP:20260426T060603
CREATED:20240612T064031Z
LAST-MODIFIED:20250511T135808Z
UID:10000659-1761724800-1761735600@aaretraum.ch
SUMMARY:Gyrokinesis mit Maria Gadient
DESCRIPTION:
URL:https://aaretraum.ch/event/gyrokinesis-mit-maria-gadient/2025-10-29/
LOCATION:Aaretraum\, Obere Hauptgasse 72\, Thun\, Bern\, 3600\, Schweiz
ATTACH;FMTTYPE=image/jpeg:https://aaretraum.ch/wp-content/uploads/eaf31524a1cba0615139444e5734bc61.jpg
END:VEVENT
BEGIN:VEVENT
DTSTART;TZID=Europe/Zurich:20251022T080000
DTEND;TZID=Europe/Zurich:20251022T110000
DTSTAMP:20260426T060603
CREATED:20240612T064031Z
LAST-MODIFIED:20250511T135808Z
UID:10000658-1761120000-1761130800@aaretraum.ch
SUMMARY:Gyrokinesis mit Maria Gadient
DESCRIPTION:
URL:https://aaretraum.ch/event/gyrokinesis-mit-maria-gadient/2025-10-22/
LOCATION:Aaretraum\, Obere Hauptgasse 72\, Thun\, Bern\, 3600\, Schweiz
ATTACH;FMTTYPE=image/jpeg:https://aaretraum.ch/wp-content/uploads/eaf31524a1cba0615139444e5734bc61.jpg
END:VEVENT
BEGIN:VEVENT
DTSTART;TZID=Europe/Zurich:20251015T080000
DTEND;TZID=Europe/Zurich:20251015T110000
DTSTAMP:20260426T060603
CREATED:20240612T064031Z
LAST-MODIFIED:20250511T135808Z
UID:10000657-1760515200-1760526000@aaretraum.ch
SUMMARY:Gyrokinesis mit Maria Gadient
DESCRIPTION:
URL:https://aaretraum.ch/event/gyrokinesis-mit-maria-gadient/2025-10-15/
LOCATION:Aaretraum\, Obere Hauptgasse 72\, Thun\, Bern\, 3600\, Schweiz
ATTACH;FMTTYPE=image/jpeg:https://aaretraum.ch/wp-content/uploads/eaf31524a1cba0615139444e5734bc61.jpg
END:VEVENT
BEGIN:VEVENT
DTSTART;TZID=Europe/Zurich:20251008T080000
DTEND;TZID=Europe/Zurich:20251008T110000
DTSTAMP:20260426T060603
CREATED:20240612T064031Z
LAST-MODIFIED:20250511T135808Z
UID:10000656-1759910400-1759921200@aaretraum.ch
SUMMARY:Gyrokinesis mit Maria Gadient
DESCRIPTION:
URL:https://aaretraum.ch/event/gyrokinesis-mit-maria-gadient/2025-10-08/
LOCATION:Aaretraum\, Obere Hauptgasse 72\, Thun\, Bern\, 3600\, Schweiz
ATTACH;FMTTYPE=image/jpeg:https://aaretraum.ch/wp-content/uploads/eaf31524a1cba0615139444e5734bc61.jpg
END:VEVENT
BEGIN:VEVENT
DTSTART;TZID=Europe/Zurich:20251001T080000
DTEND;TZID=Europe/Zurich:20251001T110000
DTSTAMP:20260426T060603
CREATED:20240612T064031Z
LAST-MODIFIED:20250511T135808Z
UID:10000655-1759305600-1759316400@aaretraum.ch
SUMMARY:Gyrokinesis mit Maria Gadient
DESCRIPTION:
URL:https://aaretraum.ch/event/gyrokinesis-mit-maria-gadient/2025-10-01/
LOCATION:Aaretraum\, Obere Hauptgasse 72\, Thun\, Bern\, 3600\, Schweiz
ATTACH;FMTTYPE=image/jpeg:https://aaretraum.ch/wp-content/uploads/eaf31524a1cba0615139444e5734bc61.jpg
END:VEVENT
BEGIN:VEVENT
DTSTART;TZID=Europe/Zurich:20250924T080000
DTEND;TZID=Europe/Zurich:20250924T110000
DTSTAMP:20260426T060603
CREATED:20240612T064031Z
LAST-MODIFIED:20250511T135808Z
UID:10000654-1758700800-1758711600@aaretraum.ch
SUMMARY:Gyrokinesis mit Maria Gadient
DESCRIPTION:
URL:https://aaretraum.ch/event/gyrokinesis-mit-maria-gadient/2025-09-24/
LOCATION:Aaretraum\, Obere Hauptgasse 72\, Thun\, Bern\, 3600\, Schweiz
ATTACH;FMTTYPE=image/jpeg:https://aaretraum.ch/wp-content/uploads/eaf31524a1cba0615139444e5734bc61.jpg
END:VEVENT
BEGIN:VEVENT
DTSTART;TZID=Europe/Zurich:20250917T080000
DTEND;TZID=Europe/Zurich:20250917T110000
DTSTAMP:20260426T060603
CREATED:20240612T064031Z
LAST-MODIFIED:20250511T135808Z
UID:10000653-1758096000-1758106800@aaretraum.ch
SUMMARY:Gyrokinesis mit Maria Gadient
DESCRIPTION:
URL:https://aaretraum.ch/event/gyrokinesis-mit-maria-gadient/2025-09-17/
LOCATION:Aaretraum\, Obere Hauptgasse 72\, Thun\, Bern\, 3600\, Schweiz
ATTACH;FMTTYPE=image/jpeg:https://aaretraum.ch/wp-content/uploads/eaf31524a1cba0615139444e5734bc61.jpg
END:VEVENT
BEGIN:VEVENT
DTSTART;TZID=Europe/Zurich:20250910T080000
DTEND;TZID=Europe/Zurich:20250910T110000
DTSTAMP:20260426T060603
CREATED:20240612T064031Z
LAST-MODIFIED:20250511T135808Z
UID:10000652-1757491200-1757502000@aaretraum.ch
SUMMARY:Gyrokinesis mit Maria Gadient
DESCRIPTION:
URL:https://aaretraum.ch/event/gyrokinesis-mit-maria-gadient/2025-09-10/
LOCATION:Aaretraum\, Obere Hauptgasse 72\, Thun\, Bern\, 3600\, Schweiz
ATTACH;FMTTYPE=image/jpeg:https://aaretraum.ch/wp-content/uploads/eaf31524a1cba0615139444e5734bc61.jpg
END:VEVENT
BEGIN:VEVENT
DTSTART;TZID=Europe/Zurich:20250903T080000
DTEND;TZID=Europe/Zurich:20250903T110000
DTSTAMP:20260426T060603
CREATED:20240612T064031Z
LAST-MODIFIED:20250511T135808Z
UID:10000651-1756886400-1756897200@aaretraum.ch
SUMMARY:Gyrokinesis mit Maria Gadient
DESCRIPTION:
URL:https://aaretraum.ch/event/gyrokinesis-mit-maria-gadient/2025-09-03/
LOCATION:Aaretraum\, Obere Hauptgasse 72\, Thun\, Bern\, 3600\, Schweiz
ATTACH;FMTTYPE=image/jpeg:https://aaretraum.ch/wp-content/uploads/eaf31524a1cba0615139444e5734bc61.jpg
END:VEVENT
BEGIN:VEVENT
DTSTART;TZID=Europe/Zurich:20250827T080000
DTEND;TZID=Europe/Zurich:20250827T110000
DTSTAMP:20260426T060603
CREATED:20240612T064031Z
LAST-MODIFIED:20250511T135808Z
UID:10000650-1756281600-1756292400@aaretraum.ch
SUMMARY:Gyrokinesis mit Maria Gadient
DESCRIPTION:
URL:https://aaretraum.ch/event/gyrokinesis-mit-maria-gadient/2025-08-27/
LOCATION:Aaretraum\, Obere Hauptgasse 72\, Thun\, Bern\, 3600\, Schweiz
ATTACH;FMTTYPE=image/jpeg:https://aaretraum.ch/wp-content/uploads/eaf31524a1cba0615139444e5734bc61.jpg
END:VEVENT
BEGIN:VEVENT
DTSTART;TZID=Europe/Zurich:20250820T080000
DTEND;TZID=Europe/Zurich:20250820T110000
DTSTAMP:20260426T060603
CREATED:20240612T064031Z
LAST-MODIFIED:20250511T135808Z
UID:10000649-1755676800-1755687600@aaretraum.ch
SUMMARY:Gyrokinesis mit Maria Gadient
DESCRIPTION:
URL:https://aaretraum.ch/event/gyrokinesis-mit-maria-gadient/2025-08-20/
LOCATION:Aaretraum\, Obere Hauptgasse 72\, Thun\, Bern\, 3600\, Schweiz
ATTACH;FMTTYPE=image/jpeg:https://aaretraum.ch/wp-content/uploads/eaf31524a1cba0615139444e5734bc61.jpg
END:VEVENT
BEGIN:VEVENT
DTSTART;TZID=Europe/Zurich:20250813T080000
DTEND;TZID=Europe/Zurich:20250813T110000
DTSTAMP:20260426T060603
CREATED:20240612T064031Z
LAST-MODIFIED:20250511T135808Z
UID:10000648-1755072000-1755082800@aaretraum.ch
SUMMARY:Gyrokinesis mit Maria Gadient
DESCRIPTION:
URL:https://aaretraum.ch/event/gyrokinesis-mit-maria-gadient/2025-08-13/
LOCATION:Aaretraum\, Obere Hauptgasse 72\, Thun\, Bern\, 3600\, Schweiz
ATTACH;FMTTYPE=image/jpeg:https://aaretraum.ch/wp-content/uploads/eaf31524a1cba0615139444e5734bc61.jpg
END:VEVENT
BEGIN:VEVENT
DTSTART;TZID=Europe/Zurich:20250806T080000
DTEND;TZID=Europe/Zurich:20250806T110000
DTSTAMP:20260426T060603
CREATED:20240612T064031Z
LAST-MODIFIED:20250511T135808Z
UID:10000647-1754467200-1754478000@aaretraum.ch
SUMMARY:Gyrokinesis mit Maria Gadient
DESCRIPTION:
URL:https://aaretraum.ch/event/gyrokinesis-mit-maria-gadient/2025-08-06/
LOCATION:Aaretraum\, Obere Hauptgasse 72\, Thun\, Bern\, 3600\, Schweiz
ATTACH;FMTTYPE=image/jpeg:https://aaretraum.ch/wp-content/uploads/eaf31524a1cba0615139444e5734bc61.jpg
END:VEVENT
BEGIN:VEVENT
DTSTART;TZID=Europe/Zurich:20250730T080000
DTEND;TZID=Europe/Zurich:20250730T110000
DTSTAMP:20260426T060603
CREATED:20240612T064031Z
LAST-MODIFIED:20250511T135808Z
UID:10000646-1753862400-1753873200@aaretraum.ch
SUMMARY:Gyrokinesis mit Maria Gadient
DESCRIPTION:
URL:https://aaretraum.ch/event/gyrokinesis-mit-maria-gadient/2025-07-30/
LOCATION:Aaretraum\, Obere Hauptgasse 72\, Thun\, Bern\, 3600\, Schweiz
ATTACH;FMTTYPE=image/jpeg:https://aaretraum.ch/wp-content/uploads/eaf31524a1cba0615139444e5734bc61.jpg
END:VEVENT
BEGIN:VEVENT
DTSTART;TZID=Europe/Zurich:20250723T080000
DTEND;TZID=Europe/Zurich:20250723T110000
DTSTAMP:20260426T060603
CREATED:20240612T064031Z
LAST-MODIFIED:20250511T135808Z
UID:10000645-1753257600-1753268400@aaretraum.ch
SUMMARY:Gyrokinesis mit Maria Gadient
DESCRIPTION:
URL:https://aaretraum.ch/event/gyrokinesis-mit-maria-gadient/2025-07-23/
LOCATION:Aaretraum\, Obere Hauptgasse 72\, Thun\, Bern\, 3600\, Schweiz
ATTACH;FMTTYPE=image/jpeg:https://aaretraum.ch/wp-content/uploads/eaf31524a1cba0615139444e5734bc61.jpg
END:VEVENT
BEGIN:VEVENT
DTSTART;TZID=Europe/Zurich:20250716T080000
DTEND;TZID=Europe/Zurich:20250716T110000
DTSTAMP:20260426T060603
CREATED:20240612T064031Z
LAST-MODIFIED:20250511T135808Z
UID:10000644-1752652800-1752663600@aaretraum.ch
SUMMARY:Gyrokinesis mit Maria Gadient
DESCRIPTION:
URL:https://aaretraum.ch/event/gyrokinesis-mit-maria-gadient/2025-07-16/
LOCATION:Aaretraum\, Obere Hauptgasse 72\, Thun\, Bern\, 3600\, Schweiz
ATTACH;FMTTYPE=image/jpeg:https://aaretraum.ch/wp-content/uploads/eaf31524a1cba0615139444e5734bc61.jpg
END:VEVENT
BEGIN:VEVENT
DTSTART;TZID=Europe/Zurich:20250709T080000
DTEND;TZID=Europe/Zurich:20250709T110000
DTSTAMP:20260426T060603
CREATED:20240612T064031Z
LAST-MODIFIED:20250511T135808Z
UID:10000643-1752048000-1752058800@aaretraum.ch
SUMMARY:Gyrokinesis mit Maria Gadient
DESCRIPTION:
URL:https://aaretraum.ch/event/gyrokinesis-mit-maria-gadient/2025-07-09/
LOCATION:Aaretraum\, Obere Hauptgasse 72\, Thun\, Bern\, 3600\, Schweiz
ATTACH;FMTTYPE=image/jpeg:https://aaretraum.ch/wp-content/uploads/eaf31524a1cba0615139444e5734bc61.jpg
END:VEVENT
END:VCALENDAR