BEGIN:VCALENDAR
VERSION:2.0
PRODID:-//Aaretraum - ECPv6.15.20//NONSGML v1.0//EN
CALSCALE:GREGORIAN
METHOD:PUBLISH
X-WR-CALNAME:Aaretraum
X-ORIGINAL-URL:https://aaretraum.ch
X-WR-CALDESC:Ereignisse für Aaretraum
REFRESH-INTERVAL;VALUE=DURATION:PT1H
X-Robots-Tag:noindex
X-PUBLISHED-TTL:PT1H
BEGIN:VTIMEZONE
TZID:Europe/Zurich
BEGIN:DAYLIGHT
TZOFFSETFROM:+0100
TZOFFSETTO:+0200
TZNAME:CEST
DTSTART:20260329T010000
END:DAYLIGHT
BEGIN:STANDARD
TZOFFSETFROM:+0200
TZOFFSETTO:+0100
TZNAME:CET
DTSTART:20261025T010000
END:STANDARD
BEGIN:DAYLIGHT
TZOFFSETFROM:+0100
TZOFFSETTO:+0200
TZNAME:CEST
DTSTART:20270328T010000
END:DAYLIGHT
BEGIN:STANDARD
TZOFFSETFROM:+0200
TZOFFSETTO:+0100
TZNAME:CET
DTSTART:20271031T010000
END:STANDARD
BEGIN:DAYLIGHT
TZOFFSETFROM:+0100
TZOFFSETTO:+0200
TZNAME:CEST
DTSTART:20280326T010000
END:DAYLIGHT
BEGIN:STANDARD
TZOFFSETFROM:+0200
TZOFFSETTO:+0100
TZNAME:CET
DTSTART:20281029T010000
END:STANDARD
END:VTIMEZONE
BEGIN:VEVENT
DTSTART;TZID=Europe/Zurich:20270108T120000
DTEND;TZID=Europe/Zurich:20270108T150000
DTSTAMP:20260426T020751
CREATED:20250716T211827Z
LAST-MODIFIED:20250716T211827Z
UID:10002903-1799409600-1799420400@aaretraum.ch
SUMMARY:Betriebsyoga
DESCRIPTION:
URL:https://aaretraum.ch/event/betriebsyoga/2027-01-08/
LOCATION:Aaretraum\, Obere Hauptgasse 72\, Thun\, Bern\, 3600\, Schweiz
ATTACH;FMTTYPE=image/jpeg:https://aaretraum.ch/wp-content/uploads/entspannung-neutrales-bild.jpg
ORGANIZER;CN="Adrienne Schumacher":MAILTO:arjuna16@bluemail.ch
END:VEVENT
BEGIN:VEVENT
DTSTART;TZID=Europe/Zurich:20270115T120000
DTEND;TZID=Europe/Zurich:20270115T150000
DTSTAMP:20260426T020751
CREATED:20250716T211827Z
LAST-MODIFIED:20250716T211827Z
UID:10002904-1800014400-1800025200@aaretraum.ch
SUMMARY:Betriebsyoga
DESCRIPTION:
URL:https://aaretraum.ch/event/betriebsyoga/2027-01-15/
LOCATION:Aaretraum\, Obere Hauptgasse 72\, Thun\, Bern\, 3600\, Schweiz
ATTACH;FMTTYPE=image/jpeg:https://aaretraum.ch/wp-content/uploads/entspannung-neutrales-bild.jpg
ORGANIZER;CN="Adrienne Schumacher":MAILTO:arjuna16@bluemail.ch
END:VEVENT
BEGIN:VEVENT
DTSTART;TZID=Europe/Zurich:20270122T120000
DTEND;TZID=Europe/Zurich:20270122T150000
DTSTAMP:20260426T020751
CREATED:20250716T211827Z
LAST-MODIFIED:20250716T211827Z
UID:10002905-1800619200-1800630000@aaretraum.ch
SUMMARY:Betriebsyoga
DESCRIPTION:
URL:https://aaretraum.ch/event/betriebsyoga/2027-01-22/
LOCATION:Aaretraum\, Obere Hauptgasse 72\, Thun\, Bern\, 3600\, Schweiz
ATTACH;FMTTYPE=image/jpeg:https://aaretraum.ch/wp-content/uploads/entspannung-neutrales-bild.jpg
ORGANIZER;CN="Adrienne Schumacher":MAILTO:arjuna16@bluemail.ch
END:VEVENT
BEGIN:VEVENT
DTSTART;TZID=Europe/Zurich:20270129T120000
DTEND;TZID=Europe/Zurich:20270129T150000
DTSTAMP:20260426T020751
CREATED:20250716T211827Z
LAST-MODIFIED:20250716T211827Z
UID:10002906-1801224000-1801234800@aaretraum.ch
SUMMARY:Betriebsyoga
DESCRIPTION:
URL:https://aaretraum.ch/event/betriebsyoga/2027-01-29/
LOCATION:Aaretraum\, Obere Hauptgasse 72\, Thun\, Bern\, 3600\, Schweiz
ATTACH;FMTTYPE=image/jpeg:https://aaretraum.ch/wp-content/uploads/entspannung-neutrales-bild.jpg
ORGANIZER;CN="Adrienne Schumacher":MAILTO:arjuna16@bluemail.ch
END:VEVENT
BEGIN:VEVENT
DTSTART;TZID=Europe/Zurich:20270205T120000
DTEND;TZID=Europe/Zurich:20270205T150000
DTSTAMP:20260426T020751
CREATED:20250716T211827Z
LAST-MODIFIED:20250716T211827Z
UID:10002907-1801828800-1801839600@aaretraum.ch
SUMMARY:Betriebsyoga
DESCRIPTION:
URL:https://aaretraum.ch/event/betriebsyoga/2027-02-05/
LOCATION:Aaretraum\, Obere Hauptgasse 72\, Thun\, Bern\, 3600\, Schweiz
ATTACH;FMTTYPE=image/jpeg:https://aaretraum.ch/wp-content/uploads/entspannung-neutrales-bild.jpg
ORGANIZER;CN="Adrienne Schumacher":MAILTO:arjuna16@bluemail.ch
END:VEVENT
BEGIN:VEVENT
DTSTART;TZID=Europe/Zurich:20270212T120000
DTEND;TZID=Europe/Zurich:20270212T150000
DTSTAMP:20260426T020751
CREATED:20250716T211827Z
LAST-MODIFIED:20250716T211827Z
UID:10002908-1802433600-1802444400@aaretraum.ch
SUMMARY:Betriebsyoga
DESCRIPTION:
URL:https://aaretraum.ch/event/betriebsyoga/2027-02-12/
LOCATION:Aaretraum\, Obere Hauptgasse 72\, Thun\, Bern\, 3600\, Schweiz
ATTACH;FMTTYPE=image/jpeg:https://aaretraum.ch/wp-content/uploads/entspannung-neutrales-bild.jpg
ORGANIZER;CN="Adrienne Schumacher":MAILTO:arjuna16@bluemail.ch
END:VEVENT
BEGIN:VEVENT
DTSTART;TZID=Europe/Zurich:20270219T120000
DTEND;TZID=Europe/Zurich:20270219T150000
DTSTAMP:20260426T020751
CREATED:20250716T211827Z
LAST-MODIFIED:20250716T211827Z
UID:10002909-1803038400-1803049200@aaretraum.ch
SUMMARY:Betriebsyoga
DESCRIPTION:
URL:https://aaretraum.ch/event/betriebsyoga/2027-02-19/
LOCATION:Aaretraum\, Obere Hauptgasse 72\, Thun\, Bern\, 3600\, Schweiz
ATTACH;FMTTYPE=image/jpeg:https://aaretraum.ch/wp-content/uploads/entspannung-neutrales-bild.jpg
ORGANIZER;CN="Adrienne Schumacher":MAILTO:arjuna16@bluemail.ch
END:VEVENT
BEGIN:VEVENT
DTSTART;TZID=Europe/Zurich:20270226T120000
DTEND;TZID=Europe/Zurich:20270226T150000
DTSTAMP:20260426T020751
CREATED:20250716T211827Z
LAST-MODIFIED:20250716T211827Z
UID:10002910-1803643200-1803654000@aaretraum.ch
SUMMARY:Betriebsyoga
DESCRIPTION:
URL:https://aaretraum.ch/event/betriebsyoga/2027-02-26/
LOCATION:Aaretraum\, Obere Hauptgasse 72\, Thun\, Bern\, 3600\, Schweiz
ATTACH;FMTTYPE=image/jpeg:https://aaretraum.ch/wp-content/uploads/entspannung-neutrales-bild.jpg
ORGANIZER;CN="Adrienne Schumacher":MAILTO:arjuna16@bluemail.ch
END:VEVENT
BEGIN:VEVENT
DTSTART;TZID=Europe/Zurich:20270305T120000
DTEND;TZID=Europe/Zurich:20270305T150000
DTSTAMP:20260426T020751
CREATED:20250716T211827Z
LAST-MODIFIED:20250716T211827Z
UID:10002911-1804248000-1804258800@aaretraum.ch
SUMMARY:Betriebsyoga
DESCRIPTION:
URL:https://aaretraum.ch/event/betriebsyoga/2027-03-05/
LOCATION:Aaretraum\, Obere Hauptgasse 72\, Thun\, Bern\, 3600\, Schweiz
ATTACH;FMTTYPE=image/jpeg:https://aaretraum.ch/wp-content/uploads/entspannung-neutrales-bild.jpg
ORGANIZER;CN="Adrienne Schumacher":MAILTO:arjuna16@bluemail.ch
END:VEVENT
BEGIN:VEVENT
DTSTART;TZID=Europe/Zurich:20270312T120000
DTEND;TZID=Europe/Zurich:20270312T150000
DTSTAMP:20260426T020751
CREATED:20250716T211827Z
LAST-MODIFIED:20250716T211827Z
UID:10002912-1804852800-1804863600@aaretraum.ch
SUMMARY:Betriebsyoga
DESCRIPTION:
URL:https://aaretraum.ch/event/betriebsyoga/2027-03-12/
LOCATION:Aaretraum\, Obere Hauptgasse 72\, Thun\, Bern\, 3600\, Schweiz
ATTACH;FMTTYPE=image/jpeg:https://aaretraum.ch/wp-content/uploads/entspannung-neutrales-bild.jpg
ORGANIZER;CN="Adrienne Schumacher":MAILTO:arjuna16@bluemail.ch
END:VEVENT
BEGIN:VEVENT
DTSTART;TZID=Europe/Zurich:20270319T120000
DTEND;TZID=Europe/Zurich:20270319T150000
DTSTAMP:20260426T020751
CREATED:20250716T211827Z
LAST-MODIFIED:20250716T211827Z
UID:10002913-1805457600-1805468400@aaretraum.ch
SUMMARY:Betriebsyoga
DESCRIPTION:
URL:https://aaretraum.ch/event/betriebsyoga/2027-03-19/
LOCATION:Aaretraum\, Obere Hauptgasse 72\, Thun\, Bern\, 3600\, Schweiz
ATTACH;FMTTYPE=image/jpeg:https://aaretraum.ch/wp-content/uploads/entspannung-neutrales-bild.jpg
ORGANIZER;CN="Adrienne Schumacher":MAILTO:arjuna16@bluemail.ch
END:VEVENT
BEGIN:VEVENT
DTSTART;TZID=Europe/Zurich:20270326T120000
DTEND;TZID=Europe/Zurich:20270326T150000
DTSTAMP:20260426T020751
CREATED:20250716T211827Z
LAST-MODIFIED:20250716T211827Z
UID:10002914-1806062400-1806073200@aaretraum.ch
SUMMARY:Betriebsyoga
DESCRIPTION:
URL:https://aaretraum.ch/event/betriebsyoga/2027-03-26/
LOCATION:Aaretraum\, Obere Hauptgasse 72\, Thun\, Bern\, 3600\, Schweiz
ATTACH;FMTTYPE=image/jpeg:https://aaretraum.ch/wp-content/uploads/entspannung-neutrales-bild.jpg
ORGANIZER;CN="Adrienne Schumacher":MAILTO:arjuna16@bluemail.ch
END:VEVENT
BEGIN:VEVENT
DTSTART;TZID=Europe/Zurich:20270402T120000
DTEND;TZID=Europe/Zurich:20270402T150000
DTSTAMP:20260426T020751
CREATED:20250716T211827Z
LAST-MODIFIED:20250716T211827Z
UID:10002915-1806667200-1806678000@aaretraum.ch
SUMMARY:Betriebsyoga
DESCRIPTION:
URL:https://aaretraum.ch/event/betriebsyoga/2027-04-02/
LOCATION:Aaretraum\, Obere Hauptgasse 72\, Thun\, Bern\, 3600\, Schweiz
ATTACH;FMTTYPE=image/jpeg:https://aaretraum.ch/wp-content/uploads/entspannung-neutrales-bild.jpg
ORGANIZER;CN="Adrienne Schumacher":MAILTO:arjuna16@bluemail.ch
END:VEVENT
BEGIN:VEVENT
DTSTART;TZID=Europe/Zurich:20270409T120000
DTEND;TZID=Europe/Zurich:20270409T150000
DTSTAMP:20260426T020751
CREATED:20250716T211827Z
LAST-MODIFIED:20250716T211827Z
UID:10002916-1807272000-1807282800@aaretraum.ch
SUMMARY:Betriebsyoga
DESCRIPTION:
URL:https://aaretraum.ch/event/betriebsyoga/2027-04-09/
LOCATION:Aaretraum\, Obere Hauptgasse 72\, Thun\, Bern\, 3600\, Schweiz
ATTACH;FMTTYPE=image/jpeg:https://aaretraum.ch/wp-content/uploads/entspannung-neutrales-bild.jpg
ORGANIZER;CN="Adrienne Schumacher":MAILTO:arjuna16@bluemail.ch
END:VEVENT
BEGIN:VEVENT
DTSTART;TZID=Europe/Zurich:20270416T120000
DTEND;TZID=Europe/Zurich:20270416T150000
DTSTAMP:20260426T020751
CREATED:20250716T211827Z
LAST-MODIFIED:20250716T211827Z
UID:10002917-1807876800-1807887600@aaretraum.ch
SUMMARY:Betriebsyoga
DESCRIPTION:
URL:https://aaretraum.ch/event/betriebsyoga/2027-04-16/
LOCATION:Aaretraum\, Obere Hauptgasse 72\, Thun\, Bern\, 3600\, Schweiz
ATTACH;FMTTYPE=image/jpeg:https://aaretraum.ch/wp-content/uploads/entspannung-neutrales-bild.jpg
ORGANIZER;CN="Adrienne Schumacher":MAILTO:arjuna16@bluemail.ch
END:VEVENT
BEGIN:VEVENT
DTSTART;TZID=Europe/Zurich:20270423T120000
DTEND;TZID=Europe/Zurich:20270423T150000
DTSTAMP:20260426T020751
CREATED:20250716T211827Z
LAST-MODIFIED:20250716T211827Z
UID:10002918-1808481600-1808492400@aaretraum.ch
SUMMARY:Betriebsyoga
DESCRIPTION:
URL:https://aaretraum.ch/event/betriebsyoga/2027-04-23/
LOCATION:Aaretraum\, Obere Hauptgasse 72\, Thun\, Bern\, 3600\, Schweiz
ATTACH;FMTTYPE=image/jpeg:https://aaretraum.ch/wp-content/uploads/entspannung-neutrales-bild.jpg
ORGANIZER;CN="Adrienne Schumacher":MAILTO:arjuna16@bluemail.ch
END:VEVENT
BEGIN:VEVENT
DTSTART;TZID=Europe/Zurich:20270430T120000
DTEND;TZID=Europe/Zurich:20270430T150000
DTSTAMP:20260426T020751
CREATED:20250716T211827Z
LAST-MODIFIED:20250716T211827Z
UID:10002919-1809086400-1809097200@aaretraum.ch
SUMMARY:Betriebsyoga
DESCRIPTION:
URL:https://aaretraum.ch/event/betriebsyoga/2027-04-30/
LOCATION:Aaretraum\, Obere Hauptgasse 72\, Thun\, Bern\, 3600\, Schweiz
ATTACH;FMTTYPE=image/jpeg:https://aaretraum.ch/wp-content/uploads/entspannung-neutrales-bild.jpg
ORGANIZER;CN="Adrienne Schumacher":MAILTO:arjuna16@bluemail.ch
END:VEVENT
BEGIN:VEVENT
DTSTART;TZID=Europe/Zurich:20270507T120000
DTEND;TZID=Europe/Zurich:20270507T150000
DTSTAMP:20260426T020751
CREATED:20250716T211827Z
LAST-MODIFIED:20250716T211827Z
UID:10002920-1809691200-1809702000@aaretraum.ch
SUMMARY:Betriebsyoga
DESCRIPTION:
URL:https://aaretraum.ch/event/betriebsyoga/2027-05-07/
LOCATION:Aaretraum\, Obere Hauptgasse 72\, Thun\, Bern\, 3600\, Schweiz
ATTACH;FMTTYPE=image/jpeg:https://aaretraum.ch/wp-content/uploads/entspannung-neutrales-bild.jpg
ORGANIZER;CN="Adrienne Schumacher":MAILTO:arjuna16@bluemail.ch
END:VEVENT
BEGIN:VEVENT
DTSTART;TZID=Europe/Zurich:20270514T120000
DTEND;TZID=Europe/Zurich:20270514T150000
DTSTAMP:20260426T020751
CREATED:20250716T211827Z
LAST-MODIFIED:20250716T211827Z
UID:10002921-1810296000-1810306800@aaretraum.ch
SUMMARY:Betriebsyoga
DESCRIPTION:
URL:https://aaretraum.ch/event/betriebsyoga/2027-05-14/
LOCATION:Aaretraum\, Obere Hauptgasse 72\, Thun\, Bern\, 3600\, Schweiz
ATTACH;FMTTYPE=image/jpeg:https://aaretraum.ch/wp-content/uploads/entspannung-neutrales-bild.jpg
ORGANIZER;CN="Adrienne Schumacher":MAILTO:arjuna16@bluemail.ch
END:VEVENT
BEGIN:VEVENT
DTSTART;TZID=Europe/Zurich:20270521T120000
DTEND;TZID=Europe/Zurich:20270521T150000
DTSTAMP:20260426T020751
CREATED:20250716T211827Z
LAST-MODIFIED:20250716T211827Z
UID:10002922-1810900800-1810911600@aaretraum.ch
SUMMARY:Betriebsyoga
DESCRIPTION:
URL:https://aaretraum.ch/event/betriebsyoga/2027-05-21/
LOCATION:Aaretraum\, Obere Hauptgasse 72\, Thun\, Bern\, 3600\, Schweiz
ATTACH;FMTTYPE=image/jpeg:https://aaretraum.ch/wp-content/uploads/entspannung-neutrales-bild.jpg
ORGANIZER;CN="Adrienne Schumacher":MAILTO:arjuna16@bluemail.ch
END:VEVENT
BEGIN:VEVENT
DTSTART;TZID=Europe/Zurich:20270528T120000
DTEND;TZID=Europe/Zurich:20270528T150000
DTSTAMP:20260426T020751
CREATED:20250716T211827Z
LAST-MODIFIED:20250716T211827Z
UID:10002923-1811505600-1811516400@aaretraum.ch
SUMMARY:Betriebsyoga
DESCRIPTION:
URL:https://aaretraum.ch/event/betriebsyoga/2027-05-28/
LOCATION:Aaretraum\, Obere Hauptgasse 72\, Thun\, Bern\, 3600\, Schweiz
ATTACH;FMTTYPE=image/jpeg:https://aaretraum.ch/wp-content/uploads/entspannung-neutrales-bild.jpg
ORGANIZER;CN="Adrienne Schumacher":MAILTO:arjuna16@bluemail.ch
END:VEVENT
BEGIN:VEVENT
DTSTART;TZID=Europe/Zurich:20270604T120000
DTEND;TZID=Europe/Zurich:20270604T150000
DTSTAMP:20260426T020751
CREATED:20250716T211827Z
LAST-MODIFIED:20250716T211827Z
UID:10002924-1812110400-1812121200@aaretraum.ch
SUMMARY:Betriebsyoga
DESCRIPTION:
URL:https://aaretraum.ch/event/betriebsyoga/2027-06-04/
LOCATION:Aaretraum\, Obere Hauptgasse 72\, Thun\, Bern\, 3600\, Schweiz
ATTACH;FMTTYPE=image/jpeg:https://aaretraum.ch/wp-content/uploads/entspannung-neutrales-bild.jpg
ORGANIZER;CN="Adrienne Schumacher":MAILTO:arjuna16@bluemail.ch
END:VEVENT
BEGIN:VEVENT
DTSTART;TZID=Europe/Zurich:20270611T120000
DTEND;TZID=Europe/Zurich:20270611T150000
DTSTAMP:20260426T020751
CREATED:20250716T211827Z
LAST-MODIFIED:20250716T211827Z
UID:10002925-1812715200-1812726000@aaretraum.ch
SUMMARY:Betriebsyoga
DESCRIPTION:
URL:https://aaretraum.ch/event/betriebsyoga/2027-06-11/
LOCATION:Aaretraum\, Obere Hauptgasse 72\, Thun\, Bern\, 3600\, Schweiz
ATTACH;FMTTYPE=image/jpeg:https://aaretraum.ch/wp-content/uploads/entspannung-neutrales-bild.jpg
ORGANIZER;CN="Adrienne Schumacher":MAILTO:arjuna16@bluemail.ch
END:VEVENT
BEGIN:VEVENT
DTSTART;TZID=Europe/Zurich:20270618T120000
DTEND;TZID=Europe/Zurich:20270618T150000
DTSTAMP:20260426T020751
CREATED:20250716T211827Z
LAST-MODIFIED:20250716T211827Z
UID:10002926-1813320000-1813330800@aaretraum.ch
SUMMARY:Betriebsyoga
DESCRIPTION:
URL:https://aaretraum.ch/event/betriebsyoga/2027-06-18/
LOCATION:Aaretraum\, Obere Hauptgasse 72\, Thun\, Bern\, 3600\, Schweiz
ATTACH;FMTTYPE=image/jpeg:https://aaretraum.ch/wp-content/uploads/entspannung-neutrales-bild.jpg
ORGANIZER;CN="Adrienne Schumacher":MAILTO:arjuna16@bluemail.ch
END:VEVENT
BEGIN:VEVENT
DTSTART;TZID=Europe/Zurich:20270625T120000
DTEND;TZID=Europe/Zurich:20270625T150000
DTSTAMP:20260426T020751
CREATED:20250716T211827Z
LAST-MODIFIED:20250716T211827Z
UID:10002927-1813924800-1813935600@aaretraum.ch
SUMMARY:Betriebsyoga
DESCRIPTION:
URL:https://aaretraum.ch/event/betriebsyoga/2027-06-25/
LOCATION:Aaretraum\, Obere Hauptgasse 72\, Thun\, Bern\, 3600\, Schweiz
ATTACH;FMTTYPE=image/jpeg:https://aaretraum.ch/wp-content/uploads/entspannung-neutrales-bild.jpg
ORGANIZER;CN="Adrienne Schumacher":MAILTO:arjuna16@bluemail.ch
END:VEVENT
BEGIN:VEVENT
DTSTART;TZID=Europe/Zurich:20270702T120000
DTEND;TZID=Europe/Zurich:20270702T150000
DTSTAMP:20260426T020751
CREATED:20250716T211827Z
LAST-MODIFIED:20250716T211827Z
UID:10002928-1814529600-1814540400@aaretraum.ch
SUMMARY:Betriebsyoga
DESCRIPTION:
URL:https://aaretraum.ch/event/betriebsyoga/2027-07-02/
LOCATION:Aaretraum\, Obere Hauptgasse 72\, Thun\, Bern\, 3600\, Schweiz
ATTACH;FMTTYPE=image/jpeg:https://aaretraum.ch/wp-content/uploads/entspannung-neutrales-bild.jpg
ORGANIZER;CN="Adrienne Schumacher":MAILTO:arjuna16@bluemail.ch
END:VEVENT
BEGIN:VEVENT
DTSTART;TZID=Europe/Zurich:20270709T120000
DTEND;TZID=Europe/Zurich:20270709T150000
DTSTAMP:20260426T020751
CREATED:20250716T211827Z
LAST-MODIFIED:20250716T211827Z
UID:10002929-1815134400-1815145200@aaretraum.ch
SUMMARY:Betriebsyoga
DESCRIPTION:
URL:https://aaretraum.ch/event/betriebsyoga/2027-07-09/
LOCATION:Aaretraum\, Obere Hauptgasse 72\, Thun\, Bern\, 3600\, Schweiz
ATTACH;FMTTYPE=image/jpeg:https://aaretraum.ch/wp-content/uploads/entspannung-neutrales-bild.jpg
ORGANIZER;CN="Adrienne Schumacher":MAILTO:arjuna16@bluemail.ch
END:VEVENT
BEGIN:VEVENT
DTSTART;TZID=Europe/Zurich:20270716T120000
DTEND;TZID=Europe/Zurich:20270716T150000
DTSTAMP:20260426T020751
CREATED:20250716T211827Z
LAST-MODIFIED:20250716T211827Z
UID:10002930-1815739200-1815750000@aaretraum.ch
SUMMARY:Betriebsyoga
DESCRIPTION:
URL:https://aaretraum.ch/event/betriebsyoga/2027-07-16/
LOCATION:Aaretraum\, Obere Hauptgasse 72\, Thun\, Bern\, 3600\, Schweiz
ATTACH;FMTTYPE=image/jpeg:https://aaretraum.ch/wp-content/uploads/entspannung-neutrales-bild.jpg
ORGANIZER;CN="Adrienne Schumacher":MAILTO:arjuna16@bluemail.ch
END:VEVENT
BEGIN:VEVENT
DTSTART;TZID=Europe/Zurich:20270723T120000
DTEND;TZID=Europe/Zurich:20270723T150000
DTSTAMP:20260426T020751
CREATED:20250716T211827Z
LAST-MODIFIED:20250716T211827Z
UID:10002931-1816344000-1816354800@aaretraum.ch
SUMMARY:Betriebsyoga
DESCRIPTION:
URL:https://aaretraum.ch/event/betriebsyoga/2027-07-23/
LOCATION:Aaretraum\, Obere Hauptgasse 72\, Thun\, Bern\, 3600\, Schweiz
ATTACH;FMTTYPE=image/jpeg:https://aaretraum.ch/wp-content/uploads/entspannung-neutrales-bild.jpg
ORGANIZER;CN="Adrienne Schumacher":MAILTO:arjuna16@bluemail.ch
END:VEVENT
BEGIN:VEVENT
DTSTART;TZID=Europe/Zurich:20270730T120000
DTEND;TZID=Europe/Zurich:20270730T150000
DTSTAMP:20260426T020751
CREATED:20250716T211827Z
LAST-MODIFIED:20250716T211827Z
UID:10002932-1816948800-1816959600@aaretraum.ch
SUMMARY:Betriebsyoga
DESCRIPTION:
URL:https://aaretraum.ch/event/betriebsyoga/2027-07-30/
LOCATION:Aaretraum\, Obere Hauptgasse 72\, Thun\, Bern\, 3600\, Schweiz
ATTACH;FMTTYPE=image/jpeg:https://aaretraum.ch/wp-content/uploads/entspannung-neutrales-bild.jpg
ORGANIZER;CN="Adrienne Schumacher":MAILTO:arjuna16@bluemail.ch
END:VEVENT
END:VCALENDAR