BEGIN:VCALENDAR
VERSION:2.0
PRODID:-//Aaretraum - ECPv6.15.20//NONSGML v1.0//EN
CALSCALE:GREGORIAN
METHOD:PUBLISH
X-ORIGINAL-URL:https://aaretraum.ch
X-WR-CALDESC:Ereignisse für Aaretraum
REFRESH-INTERVAL;VALUE=DURATION:PT1H
X-Robots-Tag:noindex
X-PUBLISHED-TTL:PT1H
BEGIN:VTIMEZONE
TZID:Europe/Zurich
BEGIN:DAYLIGHT
TZOFFSETFROM:+0100
TZOFFSETTO:+0200
TZNAME:CEST
DTSTART:20240331T010000
END:DAYLIGHT
BEGIN:STANDARD
TZOFFSETFROM:+0200
TZOFFSETTO:+0100
TZNAME:CET
DTSTART:20241027T010000
END:STANDARD
BEGIN:DAYLIGHT
TZOFFSETFROM:+0100
TZOFFSETTO:+0200
TZNAME:CEST
DTSTART:20250330T010000
END:DAYLIGHT
BEGIN:STANDARD
TZOFFSETFROM:+0200
TZOFFSETTO:+0100
TZNAME:CET
DTSTART:20251026T010000
END:STANDARD
BEGIN:DAYLIGHT
TZOFFSETFROM:+0100
TZOFFSETTO:+0200
TZNAME:CEST
DTSTART:20260329T010000
END:DAYLIGHT
BEGIN:STANDARD
TZOFFSETFROM:+0200
TZOFFSETTO:+0100
TZNAME:CET
DTSTART:20261025T010000
END:STANDARD
END:VTIMEZONE
BEGIN:VEVENT
DTSTART;TZID=Europe/Zurich:20250926T120000
DTEND;TZID=Europe/Zurich:20250926T150000
DTSTAMP:20260426T020827
CREATED:20250716T211827Z
LAST-MODIFIED:20250716T211827Z
UID:10002836-1758888000-1758898800@aaretraum.ch
SUMMARY:Betriebsyoga
DESCRIPTION:
URL:https://aaretraum.ch/event/betriebsyoga/2025-09-26/
LOCATION:Aaretraum\, Obere Hauptgasse 72\, Thun\, Bern\, 3600\, Schweiz
ATTACH;FMTTYPE=image/jpeg:https://aaretraum.ch/wp-content/uploads/entspannung-neutrales-bild.jpg
ORGANIZER;CN="Adrienne Schumacher":MAILTO:arjuna16@bluemail.ch
END:VEVENT
BEGIN:VEVENT
DTSTART;TZID=Europe/Zurich:20250925T080000
DTEND;TZID=Europe/Zurich:20250925T120000
DTSTAMP:20260426T020827
CREATED:20240612T064329Z
LAST-MODIFIED:20250511T135929Z
UID:10002211-1758787200-1758801600@aaretraum.ch
SUMMARY:Hatha Yoga für Senioren mit Adrienne Schumacher
DESCRIPTION:Mit Hatha Yoga eine Brücke bauen für Körper Geist und Seele\, um in belastenden Alltagssituationen das Gleichgewicht nicht zu verlieren. \nIn der Ruhe liegt die Kraft. \nBeginn: fortlaufend möglich\nOrt: „Aaretraum“\, obere Hauptgasse 72\, Thun\nZeit: Jeden Donnerstag\nKurs 1: 08.45 – 10.00 Uhr\nKurs 2: 10.30 – 11.45 Uhr\nKosten: CHF 25.-/Lektion\nMitbringen: bequeme Kleidung \nKontakt:\nAdrienne Schumacher\n079 289 73 43
URL:https://aaretraum.ch/event/hatha-yoga-fuer-senioren-mit-adrienne-schumacher/2025-09-25/
LOCATION:Aaretraum\, Obere Hauptgasse 72\, Thun\, Bern\, 3600\, Schweiz
ATTACH;FMTTYPE=image/png:https://aaretraum.ch/wp-content/uploads/2e3f0ab24d2949afa4cb17f26e5c6c57.png
ORGANIZER;CN="Adrienne Schumacher":MAILTO:arjuna16@bluemail.ch
END:VEVENT
BEGIN:VEVENT
DTSTART;TZID=Europe/Zurich:20250919T120000
DTEND;TZID=Europe/Zurich:20250919T150000
DTSTAMP:20260426T020827
CREATED:20250716T211827Z
LAST-MODIFIED:20250716T211827Z
UID:10002835-1758283200-1758294000@aaretraum.ch
SUMMARY:Betriebsyoga
DESCRIPTION:
URL:https://aaretraum.ch/event/betriebsyoga/2025-09-19/
LOCATION:Aaretraum\, Obere Hauptgasse 72\, Thun\, Bern\, 3600\, Schweiz
ATTACH;FMTTYPE=image/jpeg:https://aaretraum.ch/wp-content/uploads/entspannung-neutrales-bild.jpg
ORGANIZER;CN="Adrienne Schumacher":MAILTO:arjuna16@bluemail.ch
END:VEVENT
BEGIN:VEVENT
DTSTART;TZID=Europe/Zurich:20250918T080000
DTEND;TZID=Europe/Zurich:20250918T120000
DTSTAMP:20260426T020827
CREATED:20240612T064329Z
LAST-MODIFIED:20250511T135929Z
UID:10002210-1758182400-1758196800@aaretraum.ch
SUMMARY:Hatha Yoga für Senioren mit Adrienne Schumacher
DESCRIPTION:Mit Hatha Yoga eine Brücke bauen für Körper Geist und Seele\, um in belastenden Alltagssituationen das Gleichgewicht nicht zu verlieren. \nIn der Ruhe liegt die Kraft. \nBeginn: fortlaufend möglich\nOrt: „Aaretraum“\, obere Hauptgasse 72\, Thun\nZeit: Jeden Donnerstag\nKurs 1: 08.45 – 10.00 Uhr\nKurs 2: 10.30 – 11.45 Uhr\nKosten: CHF 25.-/Lektion\nMitbringen: bequeme Kleidung \nKontakt:\nAdrienne Schumacher\n079 289 73 43
URL:https://aaretraum.ch/event/hatha-yoga-fuer-senioren-mit-adrienne-schumacher/2025-09-18/
LOCATION:Aaretraum\, Obere Hauptgasse 72\, Thun\, Bern\, 3600\, Schweiz
ATTACH;FMTTYPE=image/png:https://aaretraum.ch/wp-content/uploads/2e3f0ab24d2949afa4cb17f26e5c6c57.png
ORGANIZER;CN="Adrienne Schumacher":MAILTO:arjuna16@bluemail.ch
END:VEVENT
BEGIN:VEVENT
DTSTART;TZID=Europe/Zurich:20250912T120000
DTEND;TZID=Europe/Zurich:20250912T150000
DTSTAMP:20260426T020827
CREATED:20250716T211827Z
LAST-MODIFIED:20250716T211827Z
UID:10002834-1757678400-1757689200@aaretraum.ch
SUMMARY:Betriebsyoga
DESCRIPTION:
URL:https://aaretraum.ch/event/betriebsyoga/2025-09-12/
LOCATION:Aaretraum\, Obere Hauptgasse 72\, Thun\, Bern\, 3600\, Schweiz
ATTACH;FMTTYPE=image/jpeg:https://aaretraum.ch/wp-content/uploads/entspannung-neutrales-bild.jpg
ORGANIZER;CN="Adrienne Schumacher":MAILTO:arjuna16@bluemail.ch
END:VEVENT
BEGIN:VEVENT
DTSTART;TZID=Europe/Zurich:20250911T080000
DTEND;TZID=Europe/Zurich:20250911T120000
DTSTAMP:20260426T020827
CREATED:20240612T064329Z
LAST-MODIFIED:20250511T135929Z
UID:10002209-1757577600-1757592000@aaretraum.ch
SUMMARY:Hatha Yoga für Senioren mit Adrienne Schumacher
DESCRIPTION:Mit Hatha Yoga eine Brücke bauen für Körper Geist und Seele\, um in belastenden Alltagssituationen das Gleichgewicht nicht zu verlieren. \nIn der Ruhe liegt die Kraft. \nBeginn: fortlaufend möglich\nOrt: „Aaretraum“\, obere Hauptgasse 72\, Thun\nZeit: Jeden Donnerstag\nKurs 1: 08.45 – 10.00 Uhr\nKurs 2: 10.30 – 11.45 Uhr\nKosten: CHF 25.-/Lektion\nMitbringen: bequeme Kleidung \nKontakt:\nAdrienne Schumacher\n079 289 73 43
URL:https://aaretraum.ch/event/hatha-yoga-fuer-senioren-mit-adrienne-schumacher/2025-09-11/
LOCATION:Aaretraum\, Obere Hauptgasse 72\, Thun\, Bern\, 3600\, Schweiz
ATTACH;FMTTYPE=image/png:https://aaretraum.ch/wp-content/uploads/2e3f0ab24d2949afa4cb17f26e5c6c57.png
ORGANIZER;CN="Adrienne Schumacher":MAILTO:arjuna16@bluemail.ch
END:VEVENT
BEGIN:VEVENT
DTSTART;TZID=Europe/Zurich:20250905T120000
DTEND;TZID=Europe/Zurich:20250905T150000
DTSTAMP:20260426T020827
CREATED:20250716T211827Z
LAST-MODIFIED:20250716T211827Z
UID:10002833-1757073600-1757084400@aaretraum.ch
SUMMARY:Betriebsyoga
DESCRIPTION:
URL:https://aaretraum.ch/event/betriebsyoga/2025-09-05/
LOCATION:Aaretraum\, Obere Hauptgasse 72\, Thun\, Bern\, 3600\, Schweiz
ATTACH;FMTTYPE=image/jpeg:https://aaretraum.ch/wp-content/uploads/entspannung-neutrales-bild.jpg
ORGANIZER;CN="Adrienne Schumacher":MAILTO:arjuna16@bluemail.ch
END:VEVENT
BEGIN:VEVENT
DTSTART;TZID=Europe/Zurich:20250904T080000
DTEND;TZID=Europe/Zurich:20250904T120000
DTSTAMP:20260426T020827
CREATED:20240612T064329Z
LAST-MODIFIED:20250511T135929Z
UID:10002208-1756972800-1756987200@aaretraum.ch
SUMMARY:Hatha Yoga für Senioren mit Adrienne Schumacher
DESCRIPTION:Mit Hatha Yoga eine Brücke bauen für Körper Geist und Seele\, um in belastenden Alltagssituationen das Gleichgewicht nicht zu verlieren. \nIn der Ruhe liegt die Kraft. \nBeginn: fortlaufend möglich\nOrt: „Aaretraum“\, obere Hauptgasse 72\, Thun\nZeit: Jeden Donnerstag\nKurs 1: 08.45 – 10.00 Uhr\nKurs 2: 10.30 – 11.45 Uhr\nKosten: CHF 25.-/Lektion\nMitbringen: bequeme Kleidung \nKontakt:\nAdrienne Schumacher\n079 289 73 43
URL:https://aaretraum.ch/event/hatha-yoga-fuer-senioren-mit-adrienne-schumacher/2025-09-04/
LOCATION:Aaretraum\, Obere Hauptgasse 72\, Thun\, Bern\, 3600\, Schweiz
ATTACH;FMTTYPE=image/png:https://aaretraum.ch/wp-content/uploads/2e3f0ab24d2949afa4cb17f26e5c6c57.png
ORGANIZER;CN="Adrienne Schumacher":MAILTO:arjuna16@bluemail.ch
END:VEVENT
BEGIN:VEVENT
DTSTART;TZID=Europe/Zurich:20250829T120000
DTEND;TZID=Europe/Zurich:20250829T150000
DTSTAMP:20260426T020827
CREATED:20250716T211827Z
LAST-MODIFIED:20250716T211827Z
UID:10002832-1756468800-1756479600@aaretraum.ch
SUMMARY:Betriebsyoga
DESCRIPTION:
URL:https://aaretraum.ch/event/betriebsyoga/2025-08-29/
LOCATION:Aaretraum\, Obere Hauptgasse 72\, Thun\, Bern\, 3600\, Schweiz
ATTACH;FMTTYPE=image/jpeg:https://aaretraum.ch/wp-content/uploads/entspannung-neutrales-bild.jpg
ORGANIZER;CN="Adrienne Schumacher":MAILTO:arjuna16@bluemail.ch
END:VEVENT
BEGIN:VEVENT
DTSTART;TZID=Europe/Zurich:20250828T080000
DTEND;TZID=Europe/Zurich:20250828T120000
DTSTAMP:20260426T020827
CREATED:20240612T064329Z
LAST-MODIFIED:20250511T135929Z
UID:10002207-1756368000-1756382400@aaretraum.ch
SUMMARY:Hatha Yoga für Senioren mit Adrienne Schumacher
DESCRIPTION:Mit Hatha Yoga eine Brücke bauen für Körper Geist und Seele\, um in belastenden Alltagssituationen das Gleichgewicht nicht zu verlieren. \nIn der Ruhe liegt die Kraft. \nBeginn: fortlaufend möglich\nOrt: „Aaretraum“\, obere Hauptgasse 72\, Thun\nZeit: Jeden Donnerstag\nKurs 1: 08.45 – 10.00 Uhr\nKurs 2: 10.30 – 11.45 Uhr\nKosten: CHF 25.-/Lektion\nMitbringen: bequeme Kleidung \nKontakt:\nAdrienne Schumacher\n079 289 73 43
URL:https://aaretraum.ch/event/hatha-yoga-fuer-senioren-mit-adrienne-schumacher/2025-08-28/
LOCATION:Aaretraum\, Obere Hauptgasse 72\, Thun\, Bern\, 3600\, Schweiz
ATTACH;FMTTYPE=image/png:https://aaretraum.ch/wp-content/uploads/2e3f0ab24d2949afa4cb17f26e5c6c57.png
ORGANIZER;CN="Adrienne Schumacher":MAILTO:arjuna16@bluemail.ch
END:VEVENT
BEGIN:VEVENT
DTSTART;TZID=Europe/Zurich:20250822T120000
DTEND;TZID=Europe/Zurich:20250822T150000
DTSTAMP:20260426T020827
CREATED:20250716T211827Z
LAST-MODIFIED:20250716T211827Z
UID:10002831-1755864000-1755874800@aaretraum.ch
SUMMARY:Betriebsyoga
DESCRIPTION:
URL:https://aaretraum.ch/event/betriebsyoga/2025-08-22/
LOCATION:Aaretraum\, Obere Hauptgasse 72\, Thun\, Bern\, 3600\, Schweiz
ATTACH;FMTTYPE=image/jpeg:https://aaretraum.ch/wp-content/uploads/entspannung-neutrales-bild.jpg
ORGANIZER;CN="Adrienne Schumacher":MAILTO:arjuna16@bluemail.ch
END:VEVENT
BEGIN:VEVENT
DTSTART;TZID=Europe/Zurich:20250821T080000
DTEND;TZID=Europe/Zurich:20250821T120000
DTSTAMP:20260426T020827
CREATED:20240612T064329Z
LAST-MODIFIED:20250511T135929Z
UID:10002206-1755763200-1755777600@aaretraum.ch
SUMMARY:Hatha Yoga für Senioren mit Adrienne Schumacher
DESCRIPTION:Mit Hatha Yoga eine Brücke bauen für Körper Geist und Seele\, um in belastenden Alltagssituationen das Gleichgewicht nicht zu verlieren. \nIn der Ruhe liegt die Kraft. \nBeginn: fortlaufend möglich\nOrt: „Aaretraum“\, obere Hauptgasse 72\, Thun\nZeit: Jeden Donnerstag\nKurs 1: 08.45 – 10.00 Uhr\nKurs 2: 10.30 – 11.45 Uhr\nKosten: CHF 25.-/Lektion\nMitbringen: bequeme Kleidung \nKontakt:\nAdrienne Schumacher\n079 289 73 43
URL:https://aaretraum.ch/event/hatha-yoga-fuer-senioren-mit-adrienne-schumacher/2025-08-21/
LOCATION:Aaretraum\, Obere Hauptgasse 72\, Thun\, Bern\, 3600\, Schweiz
ATTACH;FMTTYPE=image/png:https://aaretraum.ch/wp-content/uploads/2e3f0ab24d2949afa4cb17f26e5c6c57.png
ORGANIZER;CN="Adrienne Schumacher":MAILTO:arjuna16@bluemail.ch
END:VEVENT
BEGIN:VEVENT
DTSTART;TZID=Europe/Zurich:20250815T120000
DTEND;TZID=Europe/Zurich:20250815T150000
DTSTAMP:20260426T020827
CREATED:20250716T211827Z
LAST-MODIFIED:20250716T211827Z
UID:10002830-1755259200-1755270000@aaretraum.ch
SUMMARY:Betriebsyoga
DESCRIPTION:
URL:https://aaretraum.ch/event/betriebsyoga/2025-08-15/
LOCATION:Aaretraum\, Obere Hauptgasse 72\, Thun\, Bern\, 3600\, Schweiz
ATTACH;FMTTYPE=image/jpeg:https://aaretraum.ch/wp-content/uploads/entspannung-neutrales-bild.jpg
ORGANIZER;CN="Adrienne Schumacher":MAILTO:arjuna16@bluemail.ch
END:VEVENT
BEGIN:VEVENT
DTSTART;TZID=Europe/Zurich:20250814T080000
DTEND;TZID=Europe/Zurich:20250814T120000
DTSTAMP:20260426T020827
CREATED:20240612T064329Z
LAST-MODIFIED:20250511T135929Z
UID:10002205-1755158400-1755172800@aaretraum.ch
SUMMARY:Hatha Yoga für Senioren mit Adrienne Schumacher
DESCRIPTION:Mit Hatha Yoga eine Brücke bauen für Körper Geist und Seele\, um in belastenden Alltagssituationen das Gleichgewicht nicht zu verlieren. \nIn der Ruhe liegt die Kraft. \nBeginn: fortlaufend möglich\nOrt: „Aaretraum“\, obere Hauptgasse 72\, Thun\nZeit: Jeden Donnerstag\nKurs 1: 08.45 – 10.00 Uhr\nKurs 2: 10.30 – 11.45 Uhr\nKosten: CHF 25.-/Lektion\nMitbringen: bequeme Kleidung \nKontakt:\nAdrienne Schumacher\n079 289 73 43
URL:https://aaretraum.ch/event/hatha-yoga-fuer-senioren-mit-adrienne-schumacher/2025-08-14/
LOCATION:Aaretraum\, Obere Hauptgasse 72\, Thun\, Bern\, 3600\, Schweiz
ATTACH;FMTTYPE=image/png:https://aaretraum.ch/wp-content/uploads/2e3f0ab24d2949afa4cb17f26e5c6c57.png
ORGANIZER;CN="Adrienne Schumacher":MAILTO:arjuna16@bluemail.ch
END:VEVENT
BEGIN:VEVENT
DTSTART;TZID=Europe/Zurich:20250807T080000
DTEND;TZID=Europe/Zurich:20250807T120000
DTSTAMP:20260426T020827
CREATED:20240612T064329Z
LAST-MODIFIED:20250511T135929Z
UID:10002204-1754553600-1754568000@aaretraum.ch
SUMMARY:Hatha Yoga für Senioren mit Adrienne Schumacher
DESCRIPTION:Mit Hatha Yoga eine Brücke bauen für Körper Geist und Seele\, um in belastenden Alltagssituationen das Gleichgewicht nicht zu verlieren. \nIn der Ruhe liegt die Kraft. \nBeginn: fortlaufend möglich\nOrt: „Aaretraum“\, obere Hauptgasse 72\, Thun\nZeit: Jeden Donnerstag\nKurs 1: 08.45 – 10.00 Uhr\nKurs 2: 10.30 – 11.45 Uhr\nKosten: CHF 25.-/Lektion\nMitbringen: bequeme Kleidung \nKontakt:\nAdrienne Schumacher\n079 289 73 43
URL:https://aaretraum.ch/event/hatha-yoga-fuer-senioren-mit-adrienne-schumacher/2025-08-07/
LOCATION:Aaretraum\, Obere Hauptgasse 72\, Thun\, Bern\, 3600\, Schweiz
ATTACH;FMTTYPE=image/png:https://aaretraum.ch/wp-content/uploads/2e3f0ab24d2949afa4cb17f26e5c6c57.png
ORGANIZER;CN="Adrienne Schumacher":MAILTO:arjuna16@bluemail.ch
END:VEVENT
BEGIN:VEVENT
DTSTART;TZID=Europe/Zurich:20250731T080000
DTEND;TZID=Europe/Zurich:20250731T120000
DTSTAMP:20260426T020827
CREATED:20240612T064329Z
LAST-MODIFIED:20250511T135929Z
UID:10002203-1753948800-1753963200@aaretraum.ch
SUMMARY:Hatha Yoga für Senioren mit Adrienne Schumacher
DESCRIPTION:Mit Hatha Yoga eine Brücke bauen für Körper Geist und Seele\, um in belastenden Alltagssituationen das Gleichgewicht nicht zu verlieren. \nIn der Ruhe liegt die Kraft. \nBeginn: fortlaufend möglich\nOrt: „Aaretraum“\, obere Hauptgasse 72\, Thun\nZeit: Jeden Donnerstag\nKurs 1: 08.45 – 10.00 Uhr\nKurs 2: 10.30 – 11.45 Uhr\nKosten: CHF 25.-/Lektion\nMitbringen: bequeme Kleidung \nKontakt:\nAdrienne Schumacher\n079 289 73 43
URL:https://aaretraum.ch/event/hatha-yoga-fuer-senioren-mit-adrienne-schumacher/2025-07-31/
LOCATION:Aaretraum\, Obere Hauptgasse 72\, Thun\, Bern\, 3600\, Schweiz
ATTACH;FMTTYPE=image/png:https://aaretraum.ch/wp-content/uploads/2e3f0ab24d2949afa4cb17f26e5c6c57.png
ORGANIZER;CN="Adrienne Schumacher":MAILTO:arjuna16@bluemail.ch
END:VEVENT
BEGIN:VEVENT
DTSTART;TZID=Europe/Zurich:20250724T080000
DTEND;TZID=Europe/Zurich:20250724T120000
DTSTAMP:20260426T020827
CREATED:20240612T064329Z
LAST-MODIFIED:20250511T135929Z
UID:10002202-1753344000-1753358400@aaretraum.ch
SUMMARY:Hatha Yoga für Senioren mit Adrienne Schumacher
DESCRIPTION:Mit Hatha Yoga eine Brücke bauen für Körper Geist und Seele\, um in belastenden Alltagssituationen das Gleichgewicht nicht zu verlieren. \nIn der Ruhe liegt die Kraft. \nBeginn: fortlaufend möglich\nOrt: „Aaretraum“\, obere Hauptgasse 72\, Thun\nZeit: Jeden Donnerstag\nKurs 1: 08.45 – 10.00 Uhr\nKurs 2: 10.30 – 11.45 Uhr\nKosten: CHF 25.-/Lektion\nMitbringen: bequeme Kleidung \nKontakt:\nAdrienne Schumacher\n079 289 73 43
URL:https://aaretraum.ch/event/hatha-yoga-fuer-senioren-mit-adrienne-schumacher/2025-07-24/
LOCATION:Aaretraum\, Obere Hauptgasse 72\, Thun\, Bern\, 3600\, Schweiz
ATTACH;FMTTYPE=image/png:https://aaretraum.ch/wp-content/uploads/2e3f0ab24d2949afa4cb17f26e5c6c57.png
ORGANIZER;CN="Adrienne Schumacher":MAILTO:arjuna16@bluemail.ch
END:VEVENT
BEGIN:VEVENT
DTSTART;TZID=Europe/Zurich:20250717T080000
DTEND;TZID=Europe/Zurich:20250717T120000
DTSTAMP:20260426T020827
CREATED:20240612T064329Z
LAST-MODIFIED:20250511T135929Z
UID:10002201-1752739200-1752753600@aaretraum.ch
SUMMARY:Hatha Yoga für Senioren mit Adrienne Schumacher
DESCRIPTION:Mit Hatha Yoga eine Brücke bauen für Körper Geist und Seele\, um in belastenden Alltagssituationen das Gleichgewicht nicht zu verlieren. \nIn der Ruhe liegt die Kraft. \nBeginn: fortlaufend möglich\nOrt: „Aaretraum“\, obere Hauptgasse 72\, Thun\nZeit: Jeden Donnerstag\nKurs 1: 08.45 – 10.00 Uhr\nKurs 2: 10.30 – 11.45 Uhr\nKosten: CHF 25.-/Lektion\nMitbringen: bequeme Kleidung \nKontakt:\nAdrienne Schumacher\n079 289 73 43
URL:https://aaretraum.ch/event/hatha-yoga-fuer-senioren-mit-adrienne-schumacher/2025-07-17/
LOCATION:Aaretraum\, Obere Hauptgasse 72\, Thun\, Bern\, 3600\, Schweiz
ATTACH;FMTTYPE=image/png:https://aaretraum.ch/wp-content/uploads/2e3f0ab24d2949afa4cb17f26e5c6c57.png
ORGANIZER;CN="Adrienne Schumacher":MAILTO:arjuna16@bluemail.ch
END:VEVENT
BEGIN:VEVENT
DTSTART;TZID=Europe/Zurich:20250710T080000
DTEND;TZID=Europe/Zurich:20250710T120000
DTSTAMP:20260426T020827
CREATED:20240612T064329Z
LAST-MODIFIED:20250511T135929Z
UID:10002200-1752134400-1752148800@aaretraum.ch
SUMMARY:Hatha Yoga für Senioren mit Adrienne Schumacher
DESCRIPTION:Mit Hatha Yoga eine Brücke bauen für Körper Geist und Seele\, um in belastenden Alltagssituationen das Gleichgewicht nicht zu verlieren. \nIn der Ruhe liegt die Kraft. \nBeginn: fortlaufend möglich\nOrt: „Aaretraum“\, obere Hauptgasse 72\, Thun\nZeit: Jeden Donnerstag\nKurs 1: 08.45 – 10.00 Uhr\nKurs 2: 10.30 – 11.45 Uhr\nKosten: CHF 25.-/Lektion\nMitbringen: bequeme Kleidung \nKontakt:\nAdrienne Schumacher\n079 289 73 43
URL:https://aaretraum.ch/event/hatha-yoga-fuer-senioren-mit-adrienne-schumacher/2025-07-10/
LOCATION:Aaretraum\, Obere Hauptgasse 72\, Thun\, Bern\, 3600\, Schweiz
ATTACH;FMTTYPE=image/png:https://aaretraum.ch/wp-content/uploads/2e3f0ab24d2949afa4cb17f26e5c6c57.png
ORGANIZER;CN="Adrienne Schumacher":MAILTO:arjuna16@bluemail.ch
END:VEVENT
BEGIN:VEVENT
DTSTART;TZID=Europe/Zurich:20250703T080000
DTEND;TZID=Europe/Zurich:20250703T120000
DTSTAMP:20260426T020827
CREATED:20240612T064329Z
LAST-MODIFIED:20250511T135929Z
UID:10002199-1751529600-1751544000@aaretraum.ch
SUMMARY:Hatha Yoga für Senioren mit Adrienne Schumacher
DESCRIPTION:Mit Hatha Yoga eine Brücke bauen für Körper Geist und Seele\, um in belastenden Alltagssituationen das Gleichgewicht nicht zu verlieren. \nIn der Ruhe liegt die Kraft. \nBeginn: fortlaufend möglich\nOrt: „Aaretraum“\, obere Hauptgasse 72\, Thun\nZeit: Jeden Donnerstag\nKurs 1: 08.45 – 10.00 Uhr\nKurs 2: 10.30 – 11.45 Uhr\nKosten: CHF 25.-/Lektion\nMitbringen: bequeme Kleidung \nKontakt:\nAdrienne Schumacher\n079 289 73 43
URL:https://aaretraum.ch/event/hatha-yoga-fuer-senioren-mit-adrienne-schumacher/2025-07-03/
LOCATION:Aaretraum\, Obere Hauptgasse 72\, Thun\, Bern\, 3600\, Schweiz
ATTACH;FMTTYPE=image/png:https://aaretraum.ch/wp-content/uploads/2e3f0ab24d2949afa4cb17f26e5c6c57.png
ORGANIZER;CN="Adrienne Schumacher":MAILTO:arjuna16@bluemail.ch
END:VEVENT
BEGIN:VEVENT
DTSTART;TZID=Europe/Zurich:20250626T080000
DTEND;TZID=Europe/Zurich:20250626T120000
DTSTAMP:20260426T020827
CREATED:20240612T064329Z
LAST-MODIFIED:20250511T135929Z
UID:10002198-1750924800-1750939200@aaretraum.ch
SUMMARY:Hatha Yoga für Senioren mit Adrienne Schumacher
DESCRIPTION:Mit Hatha Yoga eine Brücke bauen für Körper Geist und Seele\, um in belastenden Alltagssituationen das Gleichgewicht nicht zu verlieren. \nIn der Ruhe liegt die Kraft. \nBeginn: fortlaufend möglich\nOrt: „Aaretraum“\, obere Hauptgasse 72\, Thun\nZeit: Jeden Donnerstag\nKurs 1: 08.45 – 10.00 Uhr\nKurs 2: 10.30 – 11.45 Uhr\nKosten: CHF 25.-/Lektion\nMitbringen: bequeme Kleidung \nKontakt:\nAdrienne Schumacher\n079 289 73 43
URL:https://aaretraum.ch/event/hatha-yoga-fuer-senioren-mit-adrienne-schumacher/2025-06-26/
LOCATION:Aaretraum\, Obere Hauptgasse 72\, Thun\, Bern\, 3600\, Schweiz
ATTACH;FMTTYPE=image/png:https://aaretraum.ch/wp-content/uploads/2e3f0ab24d2949afa4cb17f26e5c6c57.png
ORGANIZER;CN="Adrienne Schumacher":MAILTO:arjuna16@bluemail.ch
END:VEVENT
BEGIN:VEVENT
DTSTART;TZID=Europe/Zurich:20250619T080000
DTEND;TZID=Europe/Zurich:20250619T120000
DTSTAMP:20260426T020827
CREATED:20240612T064329Z
LAST-MODIFIED:20250511T135929Z
UID:10002197-1750320000-1750334400@aaretraum.ch
SUMMARY:Hatha Yoga für Senioren mit Adrienne Schumacher
DESCRIPTION:Mit Hatha Yoga eine Brücke bauen für Körper Geist und Seele\, um in belastenden Alltagssituationen das Gleichgewicht nicht zu verlieren. \nIn der Ruhe liegt die Kraft. \nBeginn: fortlaufend möglich\nOrt: „Aaretraum“\, obere Hauptgasse 72\, Thun\nZeit: Jeden Donnerstag\nKurs 1: 08.45 – 10.00 Uhr\nKurs 2: 10.30 – 11.45 Uhr\nKosten: CHF 25.-/Lektion\nMitbringen: bequeme Kleidung \nKontakt:\nAdrienne Schumacher\n079 289 73 43
URL:https://aaretraum.ch/event/hatha-yoga-fuer-senioren-mit-adrienne-schumacher/2025-06-19/
LOCATION:Aaretraum\, Obere Hauptgasse 72\, Thun\, Bern\, 3600\, Schweiz
ATTACH;FMTTYPE=image/png:https://aaretraum.ch/wp-content/uploads/2e3f0ab24d2949afa4cb17f26e5c6c57.png
ORGANIZER;CN="Adrienne Schumacher":MAILTO:arjuna16@bluemail.ch
END:VEVENT
BEGIN:VEVENT
DTSTART;TZID=Europe/Zurich:20250612T080000
DTEND;TZID=Europe/Zurich:20250612T120000
DTSTAMP:20260426T020827
CREATED:20240612T064329Z
LAST-MODIFIED:20250511T135929Z
UID:10002196-1749715200-1749729600@aaretraum.ch
SUMMARY:Hatha Yoga für Senioren mit Adrienne Schumacher
DESCRIPTION:Mit Hatha Yoga eine Brücke bauen für Körper Geist und Seele\, um in belastenden Alltagssituationen das Gleichgewicht nicht zu verlieren. \nIn der Ruhe liegt die Kraft. \nBeginn: fortlaufend möglich\nOrt: „Aaretraum“\, obere Hauptgasse 72\, Thun\nZeit: Jeden Donnerstag\nKurs 1: 08.45 – 10.00 Uhr\nKurs 2: 10.30 – 11.45 Uhr\nKosten: CHF 25.-/Lektion\nMitbringen: bequeme Kleidung \nKontakt:\nAdrienne Schumacher\n079 289 73 43
URL:https://aaretraum.ch/event/hatha-yoga-fuer-senioren-mit-adrienne-schumacher/2025-06-12/
LOCATION:Aaretraum\, Obere Hauptgasse 72\, Thun\, Bern\, 3600\, Schweiz
ATTACH;FMTTYPE=image/png:https://aaretraum.ch/wp-content/uploads/2e3f0ab24d2949afa4cb17f26e5c6c57.png
ORGANIZER;CN="Adrienne Schumacher":MAILTO:arjuna16@bluemail.ch
END:VEVENT
BEGIN:VEVENT
DTSTART;TZID=Europe/Zurich:20250605T080000
DTEND;TZID=Europe/Zurich:20250605T120000
DTSTAMP:20260426T020827
CREATED:20240612T064329Z
LAST-MODIFIED:20250511T135929Z
UID:10002195-1749110400-1749124800@aaretraum.ch
SUMMARY:Hatha Yoga für Senioren mit Adrienne Schumacher
DESCRIPTION:Mit Hatha Yoga eine Brücke bauen für Körper Geist und Seele\, um in belastenden Alltagssituationen das Gleichgewicht nicht zu verlieren. \nIn der Ruhe liegt die Kraft. \nBeginn: fortlaufend möglich\nOrt: „Aaretraum“\, obere Hauptgasse 72\, Thun\nZeit: Jeden Donnerstag\nKurs 1: 08.45 – 10.00 Uhr\nKurs 2: 10.30 – 11.45 Uhr\nKosten: CHF 25.-/Lektion\nMitbringen: bequeme Kleidung \nKontakt:\nAdrienne Schumacher\n079 289 73 43
URL:https://aaretraum.ch/event/hatha-yoga-fuer-senioren-mit-adrienne-schumacher/2025-06-05/
LOCATION:Aaretraum\, Obere Hauptgasse 72\, Thun\, Bern\, 3600\, Schweiz
ATTACH;FMTTYPE=image/png:https://aaretraum.ch/wp-content/uploads/2e3f0ab24d2949afa4cb17f26e5c6c57.png
ORGANIZER;CN="Adrienne Schumacher":MAILTO:arjuna16@bluemail.ch
END:VEVENT
BEGIN:VEVENT
DTSTART;TZID=Europe/Zurich:20250529T080000
DTEND;TZID=Europe/Zurich:20250529T120000
DTSTAMP:20260426T020827
CREATED:20240612T064329Z
LAST-MODIFIED:20250511T135929Z
UID:10002194-1748505600-1748520000@aaretraum.ch
SUMMARY:Hatha Yoga für Senioren mit Adrienne Schumacher
DESCRIPTION:Mit Hatha Yoga eine Brücke bauen für Körper Geist und Seele\, um in belastenden Alltagssituationen das Gleichgewicht nicht zu verlieren. \nIn der Ruhe liegt die Kraft. \nBeginn: fortlaufend möglich\nOrt: „Aaretraum“\, obere Hauptgasse 72\, Thun\nZeit: Jeden Donnerstag\nKurs 1: 08.45 – 10.00 Uhr\nKurs 2: 10.30 – 11.45 Uhr\nKosten: CHF 25.-/Lektion\nMitbringen: bequeme Kleidung \nKontakt:\nAdrienne Schumacher\n079 289 73 43
URL:https://aaretraum.ch/event/hatha-yoga-fuer-senioren-mit-adrienne-schumacher/2025-05-29/
LOCATION:Aaretraum\, Obere Hauptgasse 72\, Thun\, Bern\, 3600\, Schweiz
ATTACH;FMTTYPE=image/png:https://aaretraum.ch/wp-content/uploads/2e3f0ab24d2949afa4cb17f26e5c6c57.png
ORGANIZER;CN="Adrienne Schumacher":MAILTO:arjuna16@bluemail.ch
END:VEVENT
BEGIN:VEVENT
DTSTART;TZID=Europe/Zurich:20250522T080000
DTEND;TZID=Europe/Zurich:20250522T120000
DTSTAMP:20260426T020827
CREATED:20240612T064329Z
LAST-MODIFIED:20250511T135929Z
UID:10002193-1747900800-1747915200@aaretraum.ch
SUMMARY:Hatha Yoga für Senioren mit Adrienne Schumacher
DESCRIPTION:Mit Hatha Yoga eine Brücke bauen für Körper Geist und Seele\, um in belastenden Alltagssituationen das Gleichgewicht nicht zu verlieren. \nIn der Ruhe liegt die Kraft. \nBeginn: fortlaufend möglich\nOrt: „Aaretraum“\, obere Hauptgasse 72\, Thun\nZeit: Jeden Donnerstag\nKurs 1: 08.45 – 10.00 Uhr\nKurs 2: 10.30 – 11.45 Uhr\nKosten: CHF 25.-/Lektion\nMitbringen: bequeme Kleidung \nKontakt:\nAdrienne Schumacher\n079 289 73 43
URL:https://aaretraum.ch/event/hatha-yoga-fuer-senioren-mit-adrienne-schumacher/2025-05-22/
LOCATION:Aaretraum\, Obere Hauptgasse 72\, Thun\, Bern\, 3600\, Schweiz
ATTACH;FMTTYPE=image/png:https://aaretraum.ch/wp-content/uploads/2e3f0ab24d2949afa4cb17f26e5c6c57.png
ORGANIZER;CN="Adrienne Schumacher":MAILTO:arjuna16@bluemail.ch
END:VEVENT
BEGIN:VEVENT
DTSTART;TZID=Europe/Zurich:20250515T080000
DTEND;TZID=Europe/Zurich:20250515T120000
DTSTAMP:20260426T020827
CREATED:20240612T064329Z
LAST-MODIFIED:20250511T135929Z
UID:10002192-1747296000-1747310400@aaretraum.ch
SUMMARY:Hatha Yoga für Senioren mit Adrienne Schumacher
DESCRIPTION:Mit Hatha Yoga eine Brücke bauen für Körper Geist und Seele\, um in belastenden Alltagssituationen das Gleichgewicht nicht zu verlieren. \nIn der Ruhe liegt die Kraft. \nBeginn: fortlaufend möglich\nOrt: „Aaretraum“\, obere Hauptgasse 72\, Thun\nZeit: Jeden Donnerstag\nKurs 1: 08.45 – 10.00 Uhr\nKurs 2: 10.30 – 11.45 Uhr\nKosten: CHF 25.-/Lektion\nMitbringen: bequeme Kleidung \nKontakt:\nAdrienne Schumacher\n079 289 73 43
URL:https://aaretraum.ch/event/hatha-yoga-fuer-senioren-mit-adrienne-schumacher/2025-05-15/
LOCATION:Aaretraum\, Obere Hauptgasse 72\, Thun\, Bern\, 3600\, Schweiz
ATTACH;FMTTYPE=image/png:https://aaretraum.ch/wp-content/uploads/2e3f0ab24d2949afa4cb17f26e5c6c57.png
ORGANIZER;CN="Adrienne Schumacher":MAILTO:arjuna16@bluemail.ch
END:VEVENT
BEGIN:VEVENT
DTSTART;TZID=Europe/Zurich:20250508T080000
DTEND;TZID=Europe/Zurich:20250508T120000
DTSTAMP:20260426T020827
CREATED:20240612T064329Z
LAST-MODIFIED:20250511T135929Z
UID:10002191-1746691200-1746705600@aaretraum.ch
SUMMARY:Hatha Yoga für Senioren mit Adrienne Schumacher
DESCRIPTION:Mit Hatha Yoga eine Brücke bauen für Körper Geist und Seele\, um in belastenden Alltagssituationen das Gleichgewicht nicht zu verlieren. \nIn der Ruhe liegt die Kraft. \nBeginn: fortlaufend möglich\nOrt: „Aaretraum“\, obere Hauptgasse 72\, Thun\nZeit: Jeden Donnerstag\nKurs 1: 08.45 – 10.00 Uhr\nKurs 2: 10.30 – 11.45 Uhr\nKosten: CHF 25.-/Lektion\nMitbringen: bequeme Kleidung \nKontakt:\nAdrienne Schumacher\n079 289 73 43
URL:https://aaretraum.ch/event/hatha-yoga-fuer-senioren-mit-adrienne-schumacher/2025-05-08/
LOCATION:Aaretraum\, Obere Hauptgasse 72\, Thun\, Bern\, 3600\, Schweiz
ATTACH;FMTTYPE=image/png:https://aaretraum.ch/wp-content/uploads/2e3f0ab24d2949afa4cb17f26e5c6c57.png
ORGANIZER;CN="Adrienne Schumacher":MAILTO:arjuna16@bluemail.ch
END:VEVENT
BEGIN:VEVENT
DTSTART;TZID=Europe/Zurich:20250501T080000
DTEND;TZID=Europe/Zurich:20250501T120000
DTSTAMP:20260426T020827
CREATED:20240612T064329Z
LAST-MODIFIED:20250511T135929Z
UID:10002190-1746086400-1746100800@aaretraum.ch
SUMMARY:Hatha Yoga für Senioren mit Adrienne Schumacher
DESCRIPTION:Mit Hatha Yoga eine Brücke bauen für Körper Geist und Seele\, um in belastenden Alltagssituationen das Gleichgewicht nicht zu verlieren. \nIn der Ruhe liegt die Kraft. \nBeginn: fortlaufend möglich\nOrt: „Aaretraum“\, obere Hauptgasse 72\, Thun\nZeit: Jeden Donnerstag\nKurs 1: 08.45 – 10.00 Uhr\nKurs 2: 10.30 – 11.45 Uhr\nKosten: CHF 25.-/Lektion\nMitbringen: bequeme Kleidung \nKontakt:\nAdrienne Schumacher\n079 289 73 43
URL:https://aaretraum.ch/event/hatha-yoga-fuer-senioren-mit-adrienne-schumacher/2025-05-01/
LOCATION:Aaretraum\, Obere Hauptgasse 72\, Thun\, Bern\, 3600\, Schweiz
ATTACH;FMTTYPE=image/png:https://aaretraum.ch/wp-content/uploads/2e3f0ab24d2949afa4cb17f26e5c6c57.png
ORGANIZER;CN="Adrienne Schumacher":MAILTO:arjuna16@bluemail.ch
END:VEVENT
BEGIN:VEVENT
DTSTART;TZID=Europe/Zurich:20250424T080000
DTEND;TZID=Europe/Zurich:20250424T120000
DTSTAMP:20260426T020827
CREATED:20240612T064329Z
LAST-MODIFIED:20250511T135929Z
UID:10002189-1745481600-1745496000@aaretraum.ch
SUMMARY:Hatha Yoga für Senioren mit Adrienne Schumacher
DESCRIPTION:Mit Hatha Yoga eine Brücke bauen für Körper Geist und Seele\, um in belastenden Alltagssituationen das Gleichgewicht nicht zu verlieren. \nIn der Ruhe liegt die Kraft. \nBeginn: fortlaufend möglich\nOrt: „Aaretraum“\, obere Hauptgasse 72\, Thun\nZeit: Jeden Donnerstag\nKurs 1: 08.45 – 10.00 Uhr\nKurs 2: 10.30 – 11.45 Uhr\nKosten: CHF 25.-/Lektion\nMitbringen: bequeme Kleidung \nKontakt:\nAdrienne Schumacher\n079 289 73 43
URL:https://aaretraum.ch/event/hatha-yoga-fuer-senioren-mit-adrienne-schumacher/2025-04-24/
LOCATION:Aaretraum\, Obere Hauptgasse 72\, Thun\, Bern\, 3600\, Schweiz
ATTACH;FMTTYPE=image/png:https://aaretraum.ch/wp-content/uploads/2e3f0ab24d2949afa4cb17f26e5c6c57.png
ORGANIZER;CN="Adrienne Schumacher":MAILTO:arjuna16@bluemail.ch
END:VEVENT
END:VCALENDAR