BEGIN:VCALENDAR
VERSION:2.0
PRODID:-//Aaretraum - ECPv6.15.20//NONSGML v1.0//EN
CALSCALE:GREGORIAN
METHOD:PUBLISH
X-ORIGINAL-URL:https://aaretraum.ch
X-WR-CALDESC:Ereignisse für Aaretraum
REFRESH-INTERVAL;VALUE=DURATION:PT1H
X-Robots-Tag:noindex
X-PUBLISHED-TTL:PT1H
BEGIN:VTIMEZONE
TZID:Europe/Zurich
BEGIN:DAYLIGHT
TZOFFSETFROM:+0100
TZOFFSETTO:+0200
TZNAME:CEST
DTSTART:20240331T010000
END:DAYLIGHT
BEGIN:STANDARD
TZOFFSETFROM:+0200
TZOFFSETTO:+0100
TZNAME:CET
DTSTART:20241027T010000
END:STANDARD
BEGIN:DAYLIGHT
TZOFFSETFROM:+0100
TZOFFSETTO:+0200
TZNAME:CEST
DTSTART:20250330T010000
END:DAYLIGHT
BEGIN:STANDARD
TZOFFSETFROM:+0200
TZOFFSETTO:+0100
TZNAME:CET
DTSTART:20251026T010000
END:STANDARD
BEGIN:DAYLIGHT
TZOFFSETFROM:+0100
TZOFFSETTO:+0200
TZNAME:CEST
DTSTART:20260329T010000
END:DAYLIGHT
BEGIN:STANDARD
TZOFFSETFROM:+0200
TZOFFSETTO:+0100
TZNAME:CET
DTSTART:20261025T010000
END:STANDARD
END:VTIMEZONE
BEGIN:VEVENT
DTSTART;TZID=Europe/Zurich:20251219T120000
DTEND;TZID=Europe/Zurich:20251219T150000
DTSTAMP:20260425T231753
CREATED:20250716T211827Z
LAST-MODIFIED:20250716T211827Z
UID:10002848-1766145600-1766156400@aaretraum.ch
SUMMARY:Betriebsyoga
DESCRIPTION:
URL:https://aaretraum.ch/event/betriebsyoga/2025-12-19/
LOCATION:Aaretraum\, Obere Hauptgasse 72\, Thun\, Bern\, 3600\, Schweiz
ATTACH;FMTTYPE=image/jpeg:https://aaretraum.ch/wp-content/uploads/entspannung-neutrales-bild.jpg
ORGANIZER;CN="Adrienne Schumacher":MAILTO:arjuna16@bluemail.ch
END:VEVENT
BEGIN:VEVENT
DTSTART;TZID=Europe/Zurich:20251218T080000
DTEND;TZID=Europe/Zurich:20251218T120000
DTSTAMP:20260425T231753
CREATED:20240612T064329Z
LAST-MODIFIED:20250511T135929Z
UID:10002223-1766044800-1766059200@aaretraum.ch
SUMMARY:Hatha Yoga für Senioren mit Adrienne Schumacher
DESCRIPTION:Mit Hatha Yoga eine Brücke bauen für Körper Geist und Seele\, um in belastenden Alltagssituationen das Gleichgewicht nicht zu verlieren. \nIn der Ruhe liegt die Kraft. \nBeginn: fortlaufend möglich\nOrt: „Aaretraum“\, obere Hauptgasse 72\, Thun\nZeit: Jeden Donnerstag\nKurs 1: 08.45 – 10.00 Uhr\nKurs 2: 10.30 – 11.45 Uhr\nKosten: CHF 25.-/Lektion\nMitbringen: bequeme Kleidung \nKontakt:\nAdrienne Schumacher\n079 289 73 43
URL:https://aaretraum.ch/event/hatha-yoga-fuer-senioren-mit-adrienne-schumacher/2025-12-18/
LOCATION:Aaretraum\, Obere Hauptgasse 72\, Thun\, Bern\, 3600\, Schweiz
ATTACH;FMTTYPE=image/png:https://aaretraum.ch/wp-content/uploads/2e3f0ab24d2949afa4cb17f26e5c6c57.png
ORGANIZER;CN="Adrienne Schumacher":MAILTO:arjuna16@bluemail.ch
END:VEVENT
BEGIN:VEVENT
DTSTART;TZID=Europe/Zurich:20251212T120000
DTEND;TZID=Europe/Zurich:20251212T150000
DTSTAMP:20260425T231753
CREATED:20250716T211827Z
LAST-MODIFIED:20250716T211827Z
UID:10002847-1765540800-1765551600@aaretraum.ch
SUMMARY:Betriebsyoga
DESCRIPTION:
URL:https://aaretraum.ch/event/betriebsyoga/2025-12-12/
LOCATION:Aaretraum\, Obere Hauptgasse 72\, Thun\, Bern\, 3600\, Schweiz
ATTACH;FMTTYPE=image/jpeg:https://aaretraum.ch/wp-content/uploads/entspannung-neutrales-bild.jpg
ORGANIZER;CN="Adrienne Schumacher":MAILTO:arjuna16@bluemail.ch
END:VEVENT
BEGIN:VEVENT
DTSTART;TZID=Europe/Zurich:20251211T080000
DTEND;TZID=Europe/Zurich:20251211T120000
DTSTAMP:20260425T231753
CREATED:20240612T064329Z
LAST-MODIFIED:20250511T135929Z
UID:10002222-1765440000-1765454400@aaretraum.ch
SUMMARY:Hatha Yoga für Senioren mit Adrienne Schumacher
DESCRIPTION:Mit Hatha Yoga eine Brücke bauen für Körper Geist und Seele\, um in belastenden Alltagssituationen das Gleichgewicht nicht zu verlieren. \nIn der Ruhe liegt die Kraft. \nBeginn: fortlaufend möglich\nOrt: „Aaretraum“\, obere Hauptgasse 72\, Thun\nZeit: Jeden Donnerstag\nKurs 1: 08.45 – 10.00 Uhr\nKurs 2: 10.30 – 11.45 Uhr\nKosten: CHF 25.-/Lektion\nMitbringen: bequeme Kleidung \nKontakt:\nAdrienne Schumacher\n079 289 73 43
URL:https://aaretraum.ch/event/hatha-yoga-fuer-senioren-mit-adrienne-schumacher/2025-12-11/
LOCATION:Aaretraum\, Obere Hauptgasse 72\, Thun\, Bern\, 3600\, Schweiz
ATTACH;FMTTYPE=image/png:https://aaretraum.ch/wp-content/uploads/2e3f0ab24d2949afa4cb17f26e5c6c57.png
ORGANIZER;CN="Adrienne Schumacher":MAILTO:arjuna16@bluemail.ch
END:VEVENT
BEGIN:VEVENT
DTSTART;TZID=Europe/Zurich:20251205T120000
DTEND;TZID=Europe/Zurich:20251205T150000
DTSTAMP:20260425T231753
CREATED:20250716T211827Z
LAST-MODIFIED:20250716T211827Z
UID:10002846-1764936000-1764946800@aaretraum.ch
SUMMARY:Betriebsyoga
DESCRIPTION:
URL:https://aaretraum.ch/event/betriebsyoga/2025-12-05/
LOCATION:Aaretraum\, Obere Hauptgasse 72\, Thun\, Bern\, 3600\, Schweiz
ATTACH;FMTTYPE=image/jpeg:https://aaretraum.ch/wp-content/uploads/entspannung-neutrales-bild.jpg
ORGANIZER;CN="Adrienne Schumacher":MAILTO:arjuna16@bluemail.ch
END:VEVENT
BEGIN:VEVENT
DTSTART;TZID=Europe/Zurich:20251204T080000
DTEND;TZID=Europe/Zurich:20251204T120000
DTSTAMP:20260425T231753
CREATED:20240612T064329Z
LAST-MODIFIED:20250511T135929Z
UID:10002221-1764835200-1764849600@aaretraum.ch
SUMMARY:Hatha Yoga für Senioren mit Adrienne Schumacher
DESCRIPTION:Mit Hatha Yoga eine Brücke bauen für Körper Geist und Seele\, um in belastenden Alltagssituationen das Gleichgewicht nicht zu verlieren. \nIn der Ruhe liegt die Kraft. \nBeginn: fortlaufend möglich\nOrt: „Aaretraum“\, obere Hauptgasse 72\, Thun\nZeit: Jeden Donnerstag\nKurs 1: 08.45 – 10.00 Uhr\nKurs 2: 10.30 – 11.45 Uhr\nKosten: CHF 25.-/Lektion\nMitbringen: bequeme Kleidung \nKontakt:\nAdrienne Schumacher\n079 289 73 43
URL:https://aaretraum.ch/event/hatha-yoga-fuer-senioren-mit-adrienne-schumacher/2025-12-04/
LOCATION:Aaretraum\, Obere Hauptgasse 72\, Thun\, Bern\, 3600\, Schweiz
ATTACH;FMTTYPE=image/png:https://aaretraum.ch/wp-content/uploads/2e3f0ab24d2949afa4cb17f26e5c6c57.png
ORGANIZER;CN="Adrienne Schumacher":MAILTO:arjuna16@bluemail.ch
END:VEVENT
BEGIN:VEVENT
DTSTART;TZID=Europe/Zurich:20251128T120000
DTEND;TZID=Europe/Zurich:20251128T150000
DTSTAMP:20260425T231753
CREATED:20250716T211827Z
LAST-MODIFIED:20250716T211827Z
UID:10002845-1764331200-1764342000@aaretraum.ch
SUMMARY:Betriebsyoga
DESCRIPTION:
URL:https://aaretraum.ch/event/betriebsyoga/2025-11-28/
LOCATION:Aaretraum\, Obere Hauptgasse 72\, Thun\, Bern\, 3600\, Schweiz
ATTACH;FMTTYPE=image/jpeg:https://aaretraum.ch/wp-content/uploads/entspannung-neutrales-bild.jpg
ORGANIZER;CN="Adrienne Schumacher":MAILTO:arjuna16@bluemail.ch
END:VEVENT
BEGIN:VEVENT
DTSTART;TZID=Europe/Zurich:20251127T080000
DTEND;TZID=Europe/Zurich:20251127T120000
DTSTAMP:20260425T231753
CREATED:20240612T064329Z
LAST-MODIFIED:20250511T135929Z
UID:10002220-1764230400-1764244800@aaretraum.ch
SUMMARY:Hatha Yoga für Senioren mit Adrienne Schumacher
DESCRIPTION:Mit Hatha Yoga eine Brücke bauen für Körper Geist und Seele\, um in belastenden Alltagssituationen das Gleichgewicht nicht zu verlieren. \nIn der Ruhe liegt die Kraft. \nBeginn: fortlaufend möglich\nOrt: „Aaretraum“\, obere Hauptgasse 72\, Thun\nZeit: Jeden Donnerstag\nKurs 1: 08.45 – 10.00 Uhr\nKurs 2: 10.30 – 11.45 Uhr\nKosten: CHF 25.-/Lektion\nMitbringen: bequeme Kleidung \nKontakt:\nAdrienne Schumacher\n079 289 73 43
URL:https://aaretraum.ch/event/hatha-yoga-fuer-senioren-mit-adrienne-schumacher/2025-11-27/
LOCATION:Aaretraum\, Obere Hauptgasse 72\, Thun\, Bern\, 3600\, Schweiz
ATTACH;FMTTYPE=image/png:https://aaretraum.ch/wp-content/uploads/2e3f0ab24d2949afa4cb17f26e5c6c57.png
ORGANIZER;CN="Adrienne Schumacher":MAILTO:arjuna16@bluemail.ch
END:VEVENT
BEGIN:VEVENT
DTSTART;TZID=Europe/Zurich:20251121T120000
DTEND;TZID=Europe/Zurich:20251121T150000
DTSTAMP:20260425T231753
CREATED:20250716T211827Z
LAST-MODIFIED:20250716T211827Z
UID:10002844-1763726400-1763737200@aaretraum.ch
SUMMARY:Betriebsyoga
DESCRIPTION:
URL:https://aaretraum.ch/event/betriebsyoga/2025-11-21/
LOCATION:Aaretraum\, Obere Hauptgasse 72\, Thun\, Bern\, 3600\, Schweiz
ATTACH;FMTTYPE=image/jpeg:https://aaretraum.ch/wp-content/uploads/entspannung-neutrales-bild.jpg
ORGANIZER;CN="Adrienne Schumacher":MAILTO:arjuna16@bluemail.ch
END:VEVENT
BEGIN:VEVENT
DTSTART;TZID=Europe/Zurich:20251120T080000
DTEND;TZID=Europe/Zurich:20251120T120000
DTSTAMP:20260425T231753
CREATED:20240612T064329Z
LAST-MODIFIED:20250511T135929Z
UID:10002219-1763625600-1763640000@aaretraum.ch
SUMMARY:Hatha Yoga für Senioren mit Adrienne Schumacher
DESCRIPTION:Mit Hatha Yoga eine Brücke bauen für Körper Geist und Seele\, um in belastenden Alltagssituationen das Gleichgewicht nicht zu verlieren. \nIn der Ruhe liegt die Kraft. \nBeginn: fortlaufend möglich\nOrt: „Aaretraum“\, obere Hauptgasse 72\, Thun\nZeit: Jeden Donnerstag\nKurs 1: 08.45 – 10.00 Uhr\nKurs 2: 10.30 – 11.45 Uhr\nKosten: CHF 25.-/Lektion\nMitbringen: bequeme Kleidung \nKontakt:\nAdrienne Schumacher\n079 289 73 43
URL:https://aaretraum.ch/event/hatha-yoga-fuer-senioren-mit-adrienne-schumacher/2025-11-20/
LOCATION:Aaretraum\, Obere Hauptgasse 72\, Thun\, Bern\, 3600\, Schweiz
ATTACH;FMTTYPE=image/png:https://aaretraum.ch/wp-content/uploads/2e3f0ab24d2949afa4cb17f26e5c6c57.png
ORGANIZER;CN="Adrienne Schumacher":MAILTO:arjuna16@bluemail.ch
END:VEVENT
BEGIN:VEVENT
DTSTART;TZID=Europe/Zurich:20251114T120000
DTEND;TZID=Europe/Zurich:20251114T150000
DTSTAMP:20260425T231753
CREATED:20250716T211827Z
LAST-MODIFIED:20250716T211827Z
UID:10002843-1763121600-1763132400@aaretraum.ch
SUMMARY:Betriebsyoga
DESCRIPTION:
URL:https://aaretraum.ch/event/betriebsyoga/2025-11-14/
LOCATION:Aaretraum\, Obere Hauptgasse 72\, Thun\, Bern\, 3600\, Schweiz
ATTACH;FMTTYPE=image/jpeg:https://aaretraum.ch/wp-content/uploads/entspannung-neutrales-bild.jpg
ORGANIZER;CN="Adrienne Schumacher":MAILTO:arjuna16@bluemail.ch
END:VEVENT
BEGIN:VEVENT
DTSTART;TZID=Europe/Zurich:20251113T080000
DTEND;TZID=Europe/Zurich:20251113T120000
DTSTAMP:20260425T231753
CREATED:20240612T064329Z
LAST-MODIFIED:20250511T135929Z
UID:10002218-1763020800-1763035200@aaretraum.ch
SUMMARY:Hatha Yoga für Senioren mit Adrienne Schumacher
DESCRIPTION:Mit Hatha Yoga eine Brücke bauen für Körper Geist und Seele\, um in belastenden Alltagssituationen das Gleichgewicht nicht zu verlieren. \nIn der Ruhe liegt die Kraft. \nBeginn: fortlaufend möglich\nOrt: „Aaretraum“\, obere Hauptgasse 72\, Thun\nZeit: Jeden Donnerstag\nKurs 1: 08.45 – 10.00 Uhr\nKurs 2: 10.30 – 11.45 Uhr\nKosten: CHF 25.-/Lektion\nMitbringen: bequeme Kleidung \nKontakt:\nAdrienne Schumacher\n079 289 73 43
URL:https://aaretraum.ch/event/hatha-yoga-fuer-senioren-mit-adrienne-schumacher/2025-11-13/
LOCATION:Aaretraum\, Obere Hauptgasse 72\, Thun\, Bern\, 3600\, Schweiz
ATTACH;FMTTYPE=image/png:https://aaretraum.ch/wp-content/uploads/2e3f0ab24d2949afa4cb17f26e5c6c57.png
ORGANIZER;CN="Adrienne Schumacher":MAILTO:arjuna16@bluemail.ch
END:VEVENT
BEGIN:VEVENT
DTSTART;TZID=Europe/Zurich:20251107T120000
DTEND;TZID=Europe/Zurich:20251107T150000
DTSTAMP:20260425T231753
CREATED:20250716T211827Z
LAST-MODIFIED:20250716T211827Z
UID:10002842-1762516800-1762527600@aaretraum.ch
SUMMARY:Betriebsyoga
DESCRIPTION:
URL:https://aaretraum.ch/event/betriebsyoga/2025-11-07/
LOCATION:Aaretraum\, Obere Hauptgasse 72\, Thun\, Bern\, 3600\, Schweiz
ATTACH;FMTTYPE=image/jpeg:https://aaretraum.ch/wp-content/uploads/entspannung-neutrales-bild.jpg
ORGANIZER;CN="Adrienne Schumacher":MAILTO:arjuna16@bluemail.ch
END:VEVENT
BEGIN:VEVENT
DTSTART;TZID=Europe/Zurich:20251106T080000
DTEND;TZID=Europe/Zurich:20251106T120000
DTSTAMP:20260425T231753
CREATED:20240612T064329Z
LAST-MODIFIED:20250511T135929Z
UID:10002217-1762416000-1762430400@aaretraum.ch
SUMMARY:Hatha Yoga für Senioren mit Adrienne Schumacher
DESCRIPTION:Mit Hatha Yoga eine Brücke bauen für Körper Geist und Seele\, um in belastenden Alltagssituationen das Gleichgewicht nicht zu verlieren. \nIn der Ruhe liegt die Kraft. \nBeginn: fortlaufend möglich\nOrt: „Aaretraum“\, obere Hauptgasse 72\, Thun\nZeit: Jeden Donnerstag\nKurs 1: 08.45 – 10.00 Uhr\nKurs 2: 10.30 – 11.45 Uhr\nKosten: CHF 25.-/Lektion\nMitbringen: bequeme Kleidung \nKontakt:\nAdrienne Schumacher\n079 289 73 43
URL:https://aaretraum.ch/event/hatha-yoga-fuer-senioren-mit-adrienne-schumacher/2025-11-06/
LOCATION:Aaretraum\, Obere Hauptgasse 72\, Thun\, Bern\, 3600\, Schweiz
ATTACH;FMTTYPE=image/png:https://aaretraum.ch/wp-content/uploads/2e3f0ab24d2949afa4cb17f26e5c6c57.png
ORGANIZER;CN="Adrienne Schumacher":MAILTO:arjuna16@bluemail.ch
END:VEVENT
BEGIN:VEVENT
DTSTART;TZID=Europe/Zurich:20251031T120000
DTEND;TZID=Europe/Zurich:20251031T150000
DTSTAMP:20260425T231753
CREATED:20250716T211827Z
LAST-MODIFIED:20250716T211827Z
UID:10002841-1761912000-1761922800@aaretraum.ch
SUMMARY:Betriebsyoga
DESCRIPTION:
URL:https://aaretraum.ch/event/betriebsyoga/2025-10-31/
LOCATION:Aaretraum\, Obere Hauptgasse 72\, Thun\, Bern\, 3600\, Schweiz
ATTACH;FMTTYPE=image/jpeg:https://aaretraum.ch/wp-content/uploads/entspannung-neutrales-bild.jpg
ORGANIZER;CN="Adrienne Schumacher":MAILTO:arjuna16@bluemail.ch
END:VEVENT
BEGIN:VEVENT
DTSTART;TZID=Europe/Zurich:20251030T080000
DTEND;TZID=Europe/Zurich:20251030T120000
DTSTAMP:20260425T231753
CREATED:20240612T064329Z
LAST-MODIFIED:20250511T135929Z
UID:10002216-1761811200-1761825600@aaretraum.ch
SUMMARY:Hatha Yoga für Senioren mit Adrienne Schumacher
DESCRIPTION:Mit Hatha Yoga eine Brücke bauen für Körper Geist und Seele\, um in belastenden Alltagssituationen das Gleichgewicht nicht zu verlieren. \nIn der Ruhe liegt die Kraft. \nBeginn: fortlaufend möglich\nOrt: „Aaretraum“\, obere Hauptgasse 72\, Thun\nZeit: Jeden Donnerstag\nKurs 1: 08.45 – 10.00 Uhr\nKurs 2: 10.30 – 11.45 Uhr\nKosten: CHF 25.-/Lektion\nMitbringen: bequeme Kleidung \nKontakt:\nAdrienne Schumacher\n079 289 73 43
URL:https://aaretraum.ch/event/hatha-yoga-fuer-senioren-mit-adrienne-schumacher/2025-10-30/
LOCATION:Aaretraum\, Obere Hauptgasse 72\, Thun\, Bern\, 3600\, Schweiz
ATTACH;FMTTYPE=image/png:https://aaretraum.ch/wp-content/uploads/2e3f0ab24d2949afa4cb17f26e5c6c57.png
ORGANIZER;CN="Adrienne Schumacher":MAILTO:arjuna16@bluemail.ch
END:VEVENT
BEGIN:VEVENT
DTSTART;TZID=Europe/Zurich:20251024T120000
DTEND;TZID=Europe/Zurich:20251024T150000
DTSTAMP:20260425T231753
CREATED:20250716T211827Z
LAST-MODIFIED:20250716T211827Z
UID:10002840-1761307200-1761318000@aaretraum.ch
SUMMARY:Betriebsyoga
DESCRIPTION:
URL:https://aaretraum.ch/event/betriebsyoga/2025-10-24/
LOCATION:Aaretraum\, Obere Hauptgasse 72\, Thun\, Bern\, 3600\, Schweiz
ATTACH;FMTTYPE=image/jpeg:https://aaretraum.ch/wp-content/uploads/entspannung-neutrales-bild.jpg
ORGANIZER;CN="Adrienne Schumacher":MAILTO:arjuna16@bluemail.ch
END:VEVENT
BEGIN:VEVENT
DTSTART;TZID=Europe/Zurich:20251023T080000
DTEND;TZID=Europe/Zurich:20251023T120000
DTSTAMP:20260425T231753
CREATED:20240612T064329Z
LAST-MODIFIED:20250511T135929Z
UID:10002215-1761206400-1761220800@aaretraum.ch
SUMMARY:Hatha Yoga für Senioren mit Adrienne Schumacher
DESCRIPTION:Mit Hatha Yoga eine Brücke bauen für Körper Geist und Seele\, um in belastenden Alltagssituationen das Gleichgewicht nicht zu verlieren. \nIn der Ruhe liegt die Kraft. \nBeginn: fortlaufend möglich\nOrt: „Aaretraum“\, obere Hauptgasse 72\, Thun\nZeit: Jeden Donnerstag\nKurs 1: 08.45 – 10.00 Uhr\nKurs 2: 10.30 – 11.45 Uhr\nKosten: CHF 25.-/Lektion\nMitbringen: bequeme Kleidung \nKontakt:\nAdrienne Schumacher\n079 289 73 43
URL:https://aaretraum.ch/event/hatha-yoga-fuer-senioren-mit-adrienne-schumacher/2025-10-23/
LOCATION:Aaretraum\, Obere Hauptgasse 72\, Thun\, Bern\, 3600\, Schweiz
ATTACH;FMTTYPE=image/png:https://aaretraum.ch/wp-content/uploads/2e3f0ab24d2949afa4cb17f26e5c6c57.png
ORGANIZER;CN="Adrienne Schumacher":MAILTO:arjuna16@bluemail.ch
END:VEVENT
BEGIN:VEVENT
DTSTART;TZID=Europe/Zurich:20251017T120000
DTEND;TZID=Europe/Zurich:20251017T150000
DTSTAMP:20260425T231753
CREATED:20250716T211827Z
LAST-MODIFIED:20250716T211827Z
UID:10002839-1760702400-1760713200@aaretraum.ch
SUMMARY:Betriebsyoga
DESCRIPTION:
URL:https://aaretraum.ch/event/betriebsyoga/2025-10-17/
LOCATION:Aaretraum\, Obere Hauptgasse 72\, Thun\, Bern\, 3600\, Schweiz
ATTACH;FMTTYPE=image/jpeg:https://aaretraum.ch/wp-content/uploads/entspannung-neutrales-bild.jpg
ORGANIZER;CN="Adrienne Schumacher":MAILTO:arjuna16@bluemail.ch
END:VEVENT
BEGIN:VEVENT
DTSTART;TZID=Europe/Zurich:20251016T080000
DTEND;TZID=Europe/Zurich:20251016T120000
DTSTAMP:20260425T231753
CREATED:20240612T064329Z
LAST-MODIFIED:20250511T135929Z
UID:10002214-1760601600-1760616000@aaretraum.ch
SUMMARY:Hatha Yoga für Senioren mit Adrienne Schumacher
DESCRIPTION:Mit Hatha Yoga eine Brücke bauen für Körper Geist und Seele\, um in belastenden Alltagssituationen das Gleichgewicht nicht zu verlieren. \nIn der Ruhe liegt die Kraft. \nBeginn: fortlaufend möglich\nOrt: „Aaretraum“\, obere Hauptgasse 72\, Thun\nZeit: Jeden Donnerstag\nKurs 1: 08.45 – 10.00 Uhr\nKurs 2: 10.30 – 11.45 Uhr\nKosten: CHF 25.-/Lektion\nMitbringen: bequeme Kleidung \nKontakt:\nAdrienne Schumacher\n079 289 73 43
URL:https://aaretraum.ch/event/hatha-yoga-fuer-senioren-mit-adrienne-schumacher/2025-10-16/
LOCATION:Aaretraum\, Obere Hauptgasse 72\, Thun\, Bern\, 3600\, Schweiz
ATTACH;FMTTYPE=image/png:https://aaretraum.ch/wp-content/uploads/2e3f0ab24d2949afa4cb17f26e5c6c57.png
ORGANIZER;CN="Adrienne Schumacher":MAILTO:arjuna16@bluemail.ch
END:VEVENT
BEGIN:VEVENT
DTSTART;TZID=Europe/Zurich:20251010T120000
DTEND;TZID=Europe/Zurich:20251010T150000
DTSTAMP:20260425T231753
CREATED:20250716T211827Z
LAST-MODIFIED:20250716T211827Z
UID:10002838-1760097600-1760108400@aaretraum.ch
SUMMARY:Betriebsyoga
DESCRIPTION:
URL:https://aaretraum.ch/event/betriebsyoga/2025-10-10/
LOCATION:Aaretraum\, Obere Hauptgasse 72\, Thun\, Bern\, 3600\, Schweiz
ATTACH;FMTTYPE=image/jpeg:https://aaretraum.ch/wp-content/uploads/entspannung-neutrales-bild.jpg
ORGANIZER;CN="Adrienne Schumacher":MAILTO:arjuna16@bluemail.ch
END:VEVENT
BEGIN:VEVENT
DTSTART;TZID=Europe/Zurich:20251009T080000
DTEND;TZID=Europe/Zurich:20251009T120000
DTSTAMP:20260425T231753
CREATED:20240612T064329Z
LAST-MODIFIED:20250511T135929Z
UID:10002213-1759996800-1760011200@aaretraum.ch
SUMMARY:Hatha Yoga für Senioren mit Adrienne Schumacher
DESCRIPTION:Mit Hatha Yoga eine Brücke bauen für Körper Geist und Seele\, um in belastenden Alltagssituationen das Gleichgewicht nicht zu verlieren. \nIn der Ruhe liegt die Kraft. \nBeginn: fortlaufend möglich\nOrt: „Aaretraum“\, obere Hauptgasse 72\, Thun\nZeit: Jeden Donnerstag\nKurs 1: 08.45 – 10.00 Uhr\nKurs 2: 10.30 – 11.45 Uhr\nKosten: CHF 25.-/Lektion\nMitbringen: bequeme Kleidung \nKontakt:\nAdrienne Schumacher\n079 289 73 43
URL:https://aaretraum.ch/event/hatha-yoga-fuer-senioren-mit-adrienne-schumacher/2025-10-09/
LOCATION:Aaretraum\, Obere Hauptgasse 72\, Thun\, Bern\, 3600\, Schweiz
ATTACH;FMTTYPE=image/png:https://aaretraum.ch/wp-content/uploads/2e3f0ab24d2949afa4cb17f26e5c6c57.png
ORGANIZER;CN="Adrienne Schumacher":MAILTO:arjuna16@bluemail.ch
END:VEVENT
BEGIN:VEVENT
DTSTART;TZID=Europe/Zurich:20251003T120000
DTEND;TZID=Europe/Zurich:20251003T150000
DTSTAMP:20260425T231753
CREATED:20250716T211827Z
LAST-MODIFIED:20250716T211827Z
UID:10002837-1759492800-1759503600@aaretraum.ch
SUMMARY:Betriebsyoga
DESCRIPTION:
URL:https://aaretraum.ch/event/betriebsyoga/2025-10-03/
LOCATION:Aaretraum\, Obere Hauptgasse 72\, Thun\, Bern\, 3600\, Schweiz
ATTACH;FMTTYPE=image/jpeg:https://aaretraum.ch/wp-content/uploads/entspannung-neutrales-bild.jpg
ORGANIZER;CN="Adrienne Schumacher":MAILTO:arjuna16@bluemail.ch
END:VEVENT
BEGIN:VEVENT
DTSTART;TZID=Europe/Zurich:20251002T080000
DTEND;TZID=Europe/Zurich:20251002T120000
DTSTAMP:20260425T231753
CREATED:20240612T064329Z
LAST-MODIFIED:20250511T135929Z
UID:10002212-1759392000-1759406400@aaretraum.ch
SUMMARY:Hatha Yoga für Senioren mit Adrienne Schumacher
DESCRIPTION:Mit Hatha Yoga eine Brücke bauen für Körper Geist und Seele\, um in belastenden Alltagssituationen das Gleichgewicht nicht zu verlieren. \nIn der Ruhe liegt die Kraft. \nBeginn: fortlaufend möglich\nOrt: „Aaretraum“\, obere Hauptgasse 72\, Thun\nZeit: Jeden Donnerstag\nKurs 1: 08.45 – 10.00 Uhr\nKurs 2: 10.30 – 11.45 Uhr\nKosten: CHF 25.-/Lektion\nMitbringen: bequeme Kleidung \nKontakt:\nAdrienne Schumacher\n079 289 73 43
URL:https://aaretraum.ch/event/hatha-yoga-fuer-senioren-mit-adrienne-schumacher/2025-10-02/
LOCATION:Aaretraum\, Obere Hauptgasse 72\, Thun\, Bern\, 3600\, Schweiz
ATTACH;FMTTYPE=image/png:https://aaretraum.ch/wp-content/uploads/2e3f0ab24d2949afa4cb17f26e5c6c57.png
ORGANIZER;CN="Adrienne Schumacher":MAILTO:arjuna16@bluemail.ch
END:VEVENT
BEGIN:VEVENT
DTSTART;TZID=Europe/Zurich:20250926T120000
DTEND;TZID=Europe/Zurich:20250926T150000
DTSTAMP:20260425T231753
CREATED:20250716T211827Z
LAST-MODIFIED:20250716T211827Z
UID:10002836-1758888000-1758898800@aaretraum.ch
SUMMARY:Betriebsyoga
DESCRIPTION:
URL:https://aaretraum.ch/event/betriebsyoga/2025-09-26/
LOCATION:Aaretraum\, Obere Hauptgasse 72\, Thun\, Bern\, 3600\, Schweiz
ATTACH;FMTTYPE=image/jpeg:https://aaretraum.ch/wp-content/uploads/entspannung-neutrales-bild.jpg
ORGANIZER;CN="Adrienne Schumacher":MAILTO:arjuna16@bluemail.ch
END:VEVENT
BEGIN:VEVENT
DTSTART;TZID=Europe/Zurich:20250925T080000
DTEND;TZID=Europe/Zurich:20250925T120000
DTSTAMP:20260425T231753
CREATED:20240612T064329Z
LAST-MODIFIED:20250511T135929Z
UID:10002211-1758787200-1758801600@aaretraum.ch
SUMMARY:Hatha Yoga für Senioren mit Adrienne Schumacher
DESCRIPTION:Mit Hatha Yoga eine Brücke bauen für Körper Geist und Seele\, um in belastenden Alltagssituationen das Gleichgewicht nicht zu verlieren. \nIn der Ruhe liegt die Kraft. \nBeginn: fortlaufend möglich\nOrt: „Aaretraum“\, obere Hauptgasse 72\, Thun\nZeit: Jeden Donnerstag\nKurs 1: 08.45 – 10.00 Uhr\nKurs 2: 10.30 – 11.45 Uhr\nKosten: CHF 25.-/Lektion\nMitbringen: bequeme Kleidung \nKontakt:\nAdrienne Schumacher\n079 289 73 43
URL:https://aaretraum.ch/event/hatha-yoga-fuer-senioren-mit-adrienne-schumacher/2025-09-25/
LOCATION:Aaretraum\, Obere Hauptgasse 72\, Thun\, Bern\, 3600\, Schweiz
ATTACH;FMTTYPE=image/png:https://aaretraum.ch/wp-content/uploads/2e3f0ab24d2949afa4cb17f26e5c6c57.png
ORGANIZER;CN="Adrienne Schumacher":MAILTO:arjuna16@bluemail.ch
END:VEVENT
BEGIN:VEVENT
DTSTART;TZID=Europe/Zurich:20250919T120000
DTEND;TZID=Europe/Zurich:20250919T150000
DTSTAMP:20260425T231753
CREATED:20250716T211827Z
LAST-MODIFIED:20250716T211827Z
UID:10002835-1758283200-1758294000@aaretraum.ch
SUMMARY:Betriebsyoga
DESCRIPTION:
URL:https://aaretraum.ch/event/betriebsyoga/2025-09-19/
LOCATION:Aaretraum\, Obere Hauptgasse 72\, Thun\, Bern\, 3600\, Schweiz
ATTACH;FMTTYPE=image/jpeg:https://aaretraum.ch/wp-content/uploads/entspannung-neutrales-bild.jpg
ORGANIZER;CN="Adrienne Schumacher":MAILTO:arjuna16@bluemail.ch
END:VEVENT
BEGIN:VEVENT
DTSTART;TZID=Europe/Zurich:20250918T080000
DTEND;TZID=Europe/Zurich:20250918T120000
DTSTAMP:20260425T231753
CREATED:20240612T064329Z
LAST-MODIFIED:20250511T135929Z
UID:10002210-1758182400-1758196800@aaretraum.ch
SUMMARY:Hatha Yoga für Senioren mit Adrienne Schumacher
DESCRIPTION:Mit Hatha Yoga eine Brücke bauen für Körper Geist und Seele\, um in belastenden Alltagssituationen das Gleichgewicht nicht zu verlieren. \nIn der Ruhe liegt die Kraft. \nBeginn: fortlaufend möglich\nOrt: „Aaretraum“\, obere Hauptgasse 72\, Thun\nZeit: Jeden Donnerstag\nKurs 1: 08.45 – 10.00 Uhr\nKurs 2: 10.30 – 11.45 Uhr\nKosten: CHF 25.-/Lektion\nMitbringen: bequeme Kleidung \nKontakt:\nAdrienne Schumacher\n079 289 73 43
URL:https://aaretraum.ch/event/hatha-yoga-fuer-senioren-mit-adrienne-schumacher/2025-09-18/
LOCATION:Aaretraum\, Obere Hauptgasse 72\, Thun\, Bern\, 3600\, Schweiz
ATTACH;FMTTYPE=image/png:https://aaretraum.ch/wp-content/uploads/2e3f0ab24d2949afa4cb17f26e5c6c57.png
ORGANIZER;CN="Adrienne Schumacher":MAILTO:arjuna16@bluemail.ch
END:VEVENT
BEGIN:VEVENT
DTSTART;TZID=Europe/Zurich:20250912T120000
DTEND;TZID=Europe/Zurich:20250912T150000
DTSTAMP:20260425T231753
CREATED:20250716T211827Z
LAST-MODIFIED:20250716T211827Z
UID:10002834-1757678400-1757689200@aaretraum.ch
SUMMARY:Betriebsyoga
DESCRIPTION:
URL:https://aaretraum.ch/event/betriebsyoga/2025-09-12/
LOCATION:Aaretraum\, Obere Hauptgasse 72\, Thun\, Bern\, 3600\, Schweiz
ATTACH;FMTTYPE=image/jpeg:https://aaretraum.ch/wp-content/uploads/entspannung-neutrales-bild.jpg
ORGANIZER;CN="Adrienne Schumacher":MAILTO:arjuna16@bluemail.ch
END:VEVENT
BEGIN:VEVENT
DTSTART;TZID=Europe/Zurich:20250911T080000
DTEND;TZID=Europe/Zurich:20250911T120000
DTSTAMP:20260425T231753
CREATED:20240612T064329Z
LAST-MODIFIED:20250511T135929Z
UID:10002209-1757577600-1757592000@aaretraum.ch
SUMMARY:Hatha Yoga für Senioren mit Adrienne Schumacher
DESCRIPTION:Mit Hatha Yoga eine Brücke bauen für Körper Geist und Seele\, um in belastenden Alltagssituationen das Gleichgewicht nicht zu verlieren. \nIn der Ruhe liegt die Kraft. \nBeginn: fortlaufend möglich\nOrt: „Aaretraum“\, obere Hauptgasse 72\, Thun\nZeit: Jeden Donnerstag\nKurs 1: 08.45 – 10.00 Uhr\nKurs 2: 10.30 – 11.45 Uhr\nKosten: CHF 25.-/Lektion\nMitbringen: bequeme Kleidung \nKontakt:\nAdrienne Schumacher\n079 289 73 43
URL:https://aaretraum.ch/event/hatha-yoga-fuer-senioren-mit-adrienne-schumacher/2025-09-11/
LOCATION:Aaretraum\, Obere Hauptgasse 72\, Thun\, Bern\, 3600\, Schweiz
ATTACH;FMTTYPE=image/png:https://aaretraum.ch/wp-content/uploads/2e3f0ab24d2949afa4cb17f26e5c6c57.png
ORGANIZER;CN="Adrienne Schumacher":MAILTO:arjuna16@bluemail.ch
END:VEVENT
END:VCALENDAR