BEGIN:VCALENDAR
VERSION:2.0
PRODID:-//Aaretraum - ECPv6.15.20//NONSGML v1.0//EN
CALSCALE:GREGORIAN
METHOD:PUBLISH
X-ORIGINAL-URL:https://aaretraum.ch
X-WR-CALDESC:Ereignisse für Aaretraum
REFRESH-INTERVAL;VALUE=DURATION:PT1H
X-Robots-Tag:noindex
X-PUBLISHED-TTL:PT1H
BEGIN:VTIMEZONE
TZID:Europe/Zurich
BEGIN:DAYLIGHT
TZOFFSETFROM:+0100
TZOFFSETTO:+0200
TZNAME:CEST
DTSTART:20250330T010000
END:DAYLIGHT
BEGIN:STANDARD
TZOFFSETFROM:+0200
TZOFFSETTO:+0100
TZNAME:CET
DTSTART:20251026T010000
END:STANDARD
BEGIN:DAYLIGHT
TZOFFSETFROM:+0100
TZOFFSETTO:+0200
TZNAME:CEST
DTSTART:20260329T010000
END:DAYLIGHT
BEGIN:STANDARD
TZOFFSETFROM:+0200
TZOFFSETTO:+0100
TZNAME:CET
DTSTART:20261025T010000
END:STANDARD
BEGIN:DAYLIGHT
TZOFFSETFROM:+0100
TZOFFSETTO:+0200
TZNAME:CEST
DTSTART:20270328T010000
END:DAYLIGHT
BEGIN:STANDARD
TZOFFSETFROM:+0200
TZOFFSETTO:+0100
TZNAME:CET
DTSTART:20271031T010000
END:STANDARD
END:VTIMEZONE
BEGIN:VEVENT
DTSTART;TZID=Europe/Zurich:20260723T080000
DTEND;TZID=Europe/Zurich:20260723T120000
DTSTAMP:20260425T201340
CREATED:20240612T064329Z
LAST-MODIFIED:20250511T135929Z
UID:10002693-1784793600-1784808000@aaretraum.ch
SUMMARY:Hatha Yoga für Senioren mit Adrienne Schumacher
DESCRIPTION:Mit Hatha Yoga eine Brücke bauen für Körper Geist und Seele\, um in belastenden Alltagssituationen das Gleichgewicht nicht zu verlieren. \nIn der Ruhe liegt die Kraft. \nBeginn: fortlaufend möglich\nOrt: „Aaretraum“\, obere Hauptgasse 72\, Thun\nZeit: Jeden Donnerstag\nKurs 1: 08.45 – 10.00 Uhr\nKurs 2: 10.30 – 11.45 Uhr\nKosten: CHF 25.-/Lektion\nMitbringen: bequeme Kleidung \nKontakt:\nAdrienne Schumacher\n079 289 73 43
URL:https://aaretraum.ch/event/hatha-yoga-fuer-senioren-mit-adrienne-schumacher/2026-07-23/
LOCATION:Aaretraum\, Obere Hauptgasse 72\, Thun\, Bern\, 3600\, Schweiz
ATTACH;FMTTYPE=image/png:https://aaretraum.ch/wp-content/uploads/2e3f0ab24d2949afa4cb17f26e5c6c57.png
ORGANIZER;CN="Adrienne Schumacher":MAILTO:arjuna16@bluemail.ch
END:VEVENT
BEGIN:VEVENT
DTSTART;TZID=Europe/Zurich:20260724T120000
DTEND;TZID=Europe/Zurich:20260724T150000
DTSTAMP:20260425T201340
CREATED:20250716T211827Z
LAST-MODIFIED:20250716T211827Z
UID:10002879-1784894400-1784905200@aaretraum.ch
SUMMARY:Betriebsyoga
DESCRIPTION:
URL:https://aaretraum.ch/event/betriebsyoga/2026-07-24/
LOCATION:Aaretraum\, Obere Hauptgasse 72\, Thun\, Bern\, 3600\, Schweiz
ATTACH;FMTTYPE=image/jpeg:https://aaretraum.ch/wp-content/uploads/entspannung-neutrales-bild.jpg
ORGANIZER;CN="Adrienne Schumacher":MAILTO:arjuna16@bluemail.ch
END:VEVENT
BEGIN:VEVENT
DTSTART;TZID=Europe/Zurich:20260730T080000
DTEND;TZID=Europe/Zurich:20260730T120000
DTSTAMP:20260425T201340
CREATED:20240612T064329Z
LAST-MODIFIED:20250511T135929Z
UID:10002694-1785398400-1785412800@aaretraum.ch
SUMMARY:Hatha Yoga für Senioren mit Adrienne Schumacher
DESCRIPTION:Mit Hatha Yoga eine Brücke bauen für Körper Geist und Seele\, um in belastenden Alltagssituationen das Gleichgewicht nicht zu verlieren. \nIn der Ruhe liegt die Kraft. \nBeginn: fortlaufend möglich\nOrt: „Aaretraum“\, obere Hauptgasse 72\, Thun\nZeit: Jeden Donnerstag\nKurs 1: 08.45 – 10.00 Uhr\nKurs 2: 10.30 – 11.45 Uhr\nKosten: CHF 25.-/Lektion\nMitbringen: bequeme Kleidung \nKontakt:\nAdrienne Schumacher\n079 289 73 43
URL:https://aaretraum.ch/event/hatha-yoga-fuer-senioren-mit-adrienne-schumacher/2026-07-30/
LOCATION:Aaretraum\, Obere Hauptgasse 72\, Thun\, Bern\, 3600\, Schweiz
ATTACH;FMTTYPE=image/png:https://aaretraum.ch/wp-content/uploads/2e3f0ab24d2949afa4cb17f26e5c6c57.png
ORGANIZER;CN="Adrienne Schumacher":MAILTO:arjuna16@bluemail.ch
END:VEVENT
BEGIN:VEVENT
DTSTART;TZID=Europe/Zurich:20260731T120000
DTEND;TZID=Europe/Zurich:20260731T150000
DTSTAMP:20260425T201340
CREATED:20250716T211827Z
LAST-MODIFIED:20250716T211827Z
UID:10002880-1785499200-1785510000@aaretraum.ch
SUMMARY:Betriebsyoga
DESCRIPTION:
URL:https://aaretraum.ch/event/betriebsyoga/2026-07-31/
LOCATION:Aaretraum\, Obere Hauptgasse 72\, Thun\, Bern\, 3600\, Schweiz
ATTACH;FMTTYPE=image/jpeg:https://aaretraum.ch/wp-content/uploads/entspannung-neutrales-bild.jpg
ORGANIZER;CN="Adrienne Schumacher":MAILTO:arjuna16@bluemail.ch
END:VEVENT
BEGIN:VEVENT
DTSTART;TZID=Europe/Zurich:20260806T080000
DTEND;TZID=Europe/Zurich:20260806T120000
DTSTAMP:20260425T201340
CREATED:20240612T064329Z
LAST-MODIFIED:20250511T135929Z
UID:10002695-1786003200-1786017600@aaretraum.ch
SUMMARY:Hatha Yoga für Senioren mit Adrienne Schumacher
DESCRIPTION:Mit Hatha Yoga eine Brücke bauen für Körper Geist und Seele\, um in belastenden Alltagssituationen das Gleichgewicht nicht zu verlieren. \nIn der Ruhe liegt die Kraft. \nBeginn: fortlaufend möglich\nOrt: „Aaretraum“\, obere Hauptgasse 72\, Thun\nZeit: Jeden Donnerstag\nKurs 1: 08.45 – 10.00 Uhr\nKurs 2: 10.30 – 11.45 Uhr\nKosten: CHF 25.-/Lektion\nMitbringen: bequeme Kleidung \nKontakt:\nAdrienne Schumacher\n079 289 73 43
URL:https://aaretraum.ch/event/hatha-yoga-fuer-senioren-mit-adrienne-schumacher/2026-08-06/
LOCATION:Aaretraum\, Obere Hauptgasse 72\, Thun\, Bern\, 3600\, Schweiz
ATTACH;FMTTYPE=image/png:https://aaretraum.ch/wp-content/uploads/2e3f0ab24d2949afa4cb17f26e5c6c57.png
ORGANIZER;CN="Adrienne Schumacher":MAILTO:arjuna16@bluemail.ch
END:VEVENT
BEGIN:VEVENT
DTSTART;TZID=Europe/Zurich:20260807T120000
DTEND;TZID=Europe/Zurich:20260807T150000
DTSTAMP:20260425T201340
CREATED:20250716T211827Z
LAST-MODIFIED:20250716T211827Z
UID:10002881-1786104000-1786114800@aaretraum.ch
SUMMARY:Betriebsyoga
DESCRIPTION:
URL:https://aaretraum.ch/event/betriebsyoga/2026-08-07/
LOCATION:Aaretraum\, Obere Hauptgasse 72\, Thun\, Bern\, 3600\, Schweiz
ATTACH;FMTTYPE=image/jpeg:https://aaretraum.ch/wp-content/uploads/entspannung-neutrales-bild.jpg
ORGANIZER;CN="Adrienne Schumacher":MAILTO:arjuna16@bluemail.ch
END:VEVENT
BEGIN:VEVENT
DTSTART;TZID=Europe/Zurich:20260813T080000
DTEND;TZID=Europe/Zurich:20260813T120000
DTSTAMP:20260425T201340
CREATED:20240612T064329Z
LAST-MODIFIED:20250511T135929Z
UID:10002696-1786608000-1786622400@aaretraum.ch
SUMMARY:Hatha Yoga für Senioren mit Adrienne Schumacher
DESCRIPTION:Mit Hatha Yoga eine Brücke bauen für Körper Geist und Seele\, um in belastenden Alltagssituationen das Gleichgewicht nicht zu verlieren. \nIn der Ruhe liegt die Kraft. \nBeginn: fortlaufend möglich\nOrt: „Aaretraum“\, obere Hauptgasse 72\, Thun\nZeit: Jeden Donnerstag\nKurs 1: 08.45 – 10.00 Uhr\nKurs 2: 10.30 – 11.45 Uhr\nKosten: CHF 25.-/Lektion\nMitbringen: bequeme Kleidung \nKontakt:\nAdrienne Schumacher\n079 289 73 43
URL:https://aaretraum.ch/event/hatha-yoga-fuer-senioren-mit-adrienne-schumacher/2026-08-13/
LOCATION:Aaretraum\, Obere Hauptgasse 72\, Thun\, Bern\, 3600\, Schweiz
ATTACH;FMTTYPE=image/png:https://aaretraum.ch/wp-content/uploads/2e3f0ab24d2949afa4cb17f26e5c6c57.png
ORGANIZER;CN="Adrienne Schumacher":MAILTO:arjuna16@bluemail.ch
END:VEVENT
BEGIN:VEVENT
DTSTART;TZID=Europe/Zurich:20260814T120000
DTEND;TZID=Europe/Zurich:20260814T150000
DTSTAMP:20260425T201340
CREATED:20250716T211827Z
LAST-MODIFIED:20250716T211827Z
UID:10002882-1786708800-1786719600@aaretraum.ch
SUMMARY:Betriebsyoga
DESCRIPTION:
URL:https://aaretraum.ch/event/betriebsyoga/2026-08-14/
LOCATION:Aaretraum\, Obere Hauptgasse 72\, Thun\, Bern\, 3600\, Schweiz
ATTACH;FMTTYPE=image/jpeg:https://aaretraum.ch/wp-content/uploads/entspannung-neutrales-bild.jpg
ORGANIZER;CN="Adrienne Schumacher":MAILTO:arjuna16@bluemail.ch
END:VEVENT
BEGIN:VEVENT
DTSTART;TZID=Europe/Zurich:20260820T080000
DTEND;TZID=Europe/Zurich:20260820T120000
DTSTAMP:20260425T201340
CREATED:20240612T064329Z
LAST-MODIFIED:20250511T135929Z
UID:10002697-1787212800-1787227200@aaretraum.ch
SUMMARY:Hatha Yoga für Senioren mit Adrienne Schumacher
DESCRIPTION:Mit Hatha Yoga eine Brücke bauen für Körper Geist und Seele\, um in belastenden Alltagssituationen das Gleichgewicht nicht zu verlieren. \nIn der Ruhe liegt die Kraft. \nBeginn: fortlaufend möglich\nOrt: „Aaretraum“\, obere Hauptgasse 72\, Thun\nZeit: Jeden Donnerstag\nKurs 1: 08.45 – 10.00 Uhr\nKurs 2: 10.30 – 11.45 Uhr\nKosten: CHF 25.-/Lektion\nMitbringen: bequeme Kleidung \nKontakt:\nAdrienne Schumacher\n079 289 73 43
URL:https://aaretraum.ch/event/hatha-yoga-fuer-senioren-mit-adrienne-schumacher/2026-08-20/
LOCATION:Aaretraum\, Obere Hauptgasse 72\, Thun\, Bern\, 3600\, Schweiz
ATTACH;FMTTYPE=image/png:https://aaretraum.ch/wp-content/uploads/2e3f0ab24d2949afa4cb17f26e5c6c57.png
ORGANIZER;CN="Adrienne Schumacher":MAILTO:arjuna16@bluemail.ch
END:VEVENT
BEGIN:VEVENT
DTSTART;TZID=Europe/Zurich:20260821T120000
DTEND;TZID=Europe/Zurich:20260821T150000
DTSTAMP:20260425T201340
CREATED:20250716T211827Z
LAST-MODIFIED:20250716T211827Z
UID:10002883-1787313600-1787324400@aaretraum.ch
SUMMARY:Betriebsyoga
DESCRIPTION:
URL:https://aaretraum.ch/event/betriebsyoga/2026-08-21/
LOCATION:Aaretraum\, Obere Hauptgasse 72\, Thun\, Bern\, 3600\, Schweiz
ATTACH;FMTTYPE=image/jpeg:https://aaretraum.ch/wp-content/uploads/entspannung-neutrales-bild.jpg
ORGANIZER;CN="Adrienne Schumacher":MAILTO:arjuna16@bluemail.ch
END:VEVENT
BEGIN:VEVENT
DTSTART;TZID=Europe/Zurich:20260827T080000
DTEND;TZID=Europe/Zurich:20260827T120000
DTSTAMP:20260425T201340
CREATED:20240612T064329Z
LAST-MODIFIED:20250511T135929Z
UID:10002698-1787817600-1787832000@aaretraum.ch
SUMMARY:Hatha Yoga für Senioren mit Adrienne Schumacher
DESCRIPTION:Mit Hatha Yoga eine Brücke bauen für Körper Geist und Seele\, um in belastenden Alltagssituationen das Gleichgewicht nicht zu verlieren. \nIn der Ruhe liegt die Kraft. \nBeginn: fortlaufend möglich\nOrt: „Aaretraum“\, obere Hauptgasse 72\, Thun\nZeit: Jeden Donnerstag\nKurs 1: 08.45 – 10.00 Uhr\nKurs 2: 10.30 – 11.45 Uhr\nKosten: CHF 25.-/Lektion\nMitbringen: bequeme Kleidung \nKontakt:\nAdrienne Schumacher\n079 289 73 43
URL:https://aaretraum.ch/event/hatha-yoga-fuer-senioren-mit-adrienne-schumacher/2026-08-27/
LOCATION:Aaretraum\, Obere Hauptgasse 72\, Thun\, Bern\, 3600\, Schweiz
ATTACH;FMTTYPE=image/png:https://aaretraum.ch/wp-content/uploads/2e3f0ab24d2949afa4cb17f26e5c6c57.png
ORGANIZER;CN="Adrienne Schumacher":MAILTO:arjuna16@bluemail.ch
END:VEVENT
BEGIN:VEVENT
DTSTART;TZID=Europe/Zurich:20260828T120000
DTEND;TZID=Europe/Zurich:20260828T150000
DTSTAMP:20260425T201340
CREATED:20250716T211827Z
LAST-MODIFIED:20250716T211827Z
UID:10002884-1787918400-1787929200@aaretraum.ch
SUMMARY:Betriebsyoga
DESCRIPTION:
URL:https://aaretraum.ch/event/betriebsyoga/2026-08-28/
LOCATION:Aaretraum\, Obere Hauptgasse 72\, Thun\, Bern\, 3600\, Schweiz
ATTACH;FMTTYPE=image/jpeg:https://aaretraum.ch/wp-content/uploads/entspannung-neutrales-bild.jpg
ORGANIZER;CN="Adrienne Schumacher":MAILTO:arjuna16@bluemail.ch
END:VEVENT
BEGIN:VEVENT
DTSTART;TZID=Europe/Zurich:20260903T080000
DTEND;TZID=Europe/Zurich:20260903T120000
DTSTAMP:20260425T201340
CREATED:20240612T064329Z
LAST-MODIFIED:20250511T135929Z
UID:10002699-1788422400-1788436800@aaretraum.ch
SUMMARY:Hatha Yoga für Senioren mit Adrienne Schumacher
DESCRIPTION:Mit Hatha Yoga eine Brücke bauen für Körper Geist und Seele\, um in belastenden Alltagssituationen das Gleichgewicht nicht zu verlieren. \nIn der Ruhe liegt die Kraft. \nBeginn: fortlaufend möglich\nOrt: „Aaretraum“\, obere Hauptgasse 72\, Thun\nZeit: Jeden Donnerstag\nKurs 1: 08.45 – 10.00 Uhr\nKurs 2: 10.30 – 11.45 Uhr\nKosten: CHF 25.-/Lektion\nMitbringen: bequeme Kleidung \nKontakt:\nAdrienne Schumacher\n079 289 73 43
URL:https://aaretraum.ch/event/hatha-yoga-fuer-senioren-mit-adrienne-schumacher/2026-09-03/
LOCATION:Aaretraum\, Obere Hauptgasse 72\, Thun\, Bern\, 3600\, Schweiz
ATTACH;FMTTYPE=image/png:https://aaretraum.ch/wp-content/uploads/2e3f0ab24d2949afa4cb17f26e5c6c57.png
ORGANIZER;CN="Adrienne Schumacher":MAILTO:arjuna16@bluemail.ch
END:VEVENT
BEGIN:VEVENT
DTSTART;TZID=Europe/Zurich:20260904T120000
DTEND;TZID=Europe/Zurich:20260904T150000
DTSTAMP:20260425T201340
CREATED:20250716T211827Z
LAST-MODIFIED:20250716T211827Z
UID:10002885-1788523200-1788534000@aaretraum.ch
SUMMARY:Betriebsyoga
DESCRIPTION:
URL:https://aaretraum.ch/event/betriebsyoga/2026-09-04/
LOCATION:Aaretraum\, Obere Hauptgasse 72\, Thun\, Bern\, 3600\, Schweiz
ATTACH;FMTTYPE=image/jpeg:https://aaretraum.ch/wp-content/uploads/entspannung-neutrales-bild.jpg
ORGANIZER;CN="Adrienne Schumacher":MAILTO:arjuna16@bluemail.ch
END:VEVENT
BEGIN:VEVENT
DTSTART;TZID=Europe/Zurich:20260910T080000
DTEND;TZID=Europe/Zurich:20260910T120000
DTSTAMP:20260425T201340
CREATED:20240612T064329Z
LAST-MODIFIED:20250511T135929Z
UID:10002700-1789027200-1789041600@aaretraum.ch
SUMMARY:Hatha Yoga für Senioren mit Adrienne Schumacher
DESCRIPTION:Mit Hatha Yoga eine Brücke bauen für Körper Geist und Seele\, um in belastenden Alltagssituationen das Gleichgewicht nicht zu verlieren. \nIn der Ruhe liegt die Kraft. \nBeginn: fortlaufend möglich\nOrt: „Aaretraum“\, obere Hauptgasse 72\, Thun\nZeit: Jeden Donnerstag\nKurs 1: 08.45 – 10.00 Uhr\nKurs 2: 10.30 – 11.45 Uhr\nKosten: CHF 25.-/Lektion\nMitbringen: bequeme Kleidung \nKontakt:\nAdrienne Schumacher\n079 289 73 43
URL:https://aaretraum.ch/event/hatha-yoga-fuer-senioren-mit-adrienne-schumacher/2026-09-10/
LOCATION:Aaretraum\, Obere Hauptgasse 72\, Thun\, Bern\, 3600\, Schweiz
ATTACH;FMTTYPE=image/png:https://aaretraum.ch/wp-content/uploads/2e3f0ab24d2949afa4cb17f26e5c6c57.png
ORGANIZER;CN="Adrienne Schumacher":MAILTO:arjuna16@bluemail.ch
END:VEVENT
BEGIN:VEVENT
DTSTART;TZID=Europe/Zurich:20260911T120000
DTEND;TZID=Europe/Zurich:20260911T150000
DTSTAMP:20260425T201340
CREATED:20250716T211827Z
LAST-MODIFIED:20250716T211827Z
UID:10002886-1789128000-1789138800@aaretraum.ch
SUMMARY:Betriebsyoga
DESCRIPTION:
URL:https://aaretraum.ch/event/betriebsyoga/2026-09-11/
LOCATION:Aaretraum\, Obere Hauptgasse 72\, Thun\, Bern\, 3600\, Schweiz
ATTACH;FMTTYPE=image/jpeg:https://aaretraum.ch/wp-content/uploads/entspannung-neutrales-bild.jpg
ORGANIZER;CN="Adrienne Schumacher":MAILTO:arjuna16@bluemail.ch
END:VEVENT
BEGIN:VEVENT
DTSTART;TZID=Europe/Zurich:20260917T080000
DTEND;TZID=Europe/Zurich:20260917T120000
DTSTAMP:20260425T201340
CREATED:20240612T064329Z
LAST-MODIFIED:20250511T135929Z
UID:10002701-1789632000-1789646400@aaretraum.ch
SUMMARY:Hatha Yoga für Senioren mit Adrienne Schumacher
DESCRIPTION:Mit Hatha Yoga eine Brücke bauen für Körper Geist und Seele\, um in belastenden Alltagssituationen das Gleichgewicht nicht zu verlieren. \nIn der Ruhe liegt die Kraft. \nBeginn: fortlaufend möglich\nOrt: „Aaretraum“\, obere Hauptgasse 72\, Thun\nZeit: Jeden Donnerstag\nKurs 1: 08.45 – 10.00 Uhr\nKurs 2: 10.30 – 11.45 Uhr\nKosten: CHF 25.-/Lektion\nMitbringen: bequeme Kleidung \nKontakt:\nAdrienne Schumacher\n079 289 73 43
URL:https://aaretraum.ch/event/hatha-yoga-fuer-senioren-mit-adrienne-schumacher/2026-09-17/
LOCATION:Aaretraum\, Obere Hauptgasse 72\, Thun\, Bern\, 3600\, Schweiz
ATTACH;FMTTYPE=image/png:https://aaretraum.ch/wp-content/uploads/2e3f0ab24d2949afa4cb17f26e5c6c57.png
ORGANIZER;CN="Adrienne Schumacher":MAILTO:arjuna16@bluemail.ch
END:VEVENT
BEGIN:VEVENT
DTSTART;TZID=Europe/Zurich:20260918T120000
DTEND;TZID=Europe/Zurich:20260918T150000
DTSTAMP:20260425T201340
CREATED:20250716T211827Z
LAST-MODIFIED:20250716T211827Z
UID:10002887-1789732800-1789743600@aaretraum.ch
SUMMARY:Betriebsyoga
DESCRIPTION:
URL:https://aaretraum.ch/event/betriebsyoga/2026-09-18/
LOCATION:Aaretraum\, Obere Hauptgasse 72\, Thun\, Bern\, 3600\, Schweiz
ATTACH;FMTTYPE=image/jpeg:https://aaretraum.ch/wp-content/uploads/entspannung-neutrales-bild.jpg
ORGANIZER;CN="Adrienne Schumacher":MAILTO:arjuna16@bluemail.ch
END:VEVENT
BEGIN:VEVENT
DTSTART;TZID=Europe/Zurich:20260924T080000
DTEND;TZID=Europe/Zurich:20260924T120000
DTSTAMP:20260425T201340
CREATED:20240612T064329Z
LAST-MODIFIED:20250511T135929Z
UID:10002702-1790236800-1790251200@aaretraum.ch
SUMMARY:Hatha Yoga für Senioren mit Adrienne Schumacher
DESCRIPTION:Mit Hatha Yoga eine Brücke bauen für Körper Geist und Seele\, um in belastenden Alltagssituationen das Gleichgewicht nicht zu verlieren. \nIn der Ruhe liegt die Kraft. \nBeginn: fortlaufend möglich\nOrt: „Aaretraum“\, obere Hauptgasse 72\, Thun\nZeit: Jeden Donnerstag\nKurs 1: 08.45 – 10.00 Uhr\nKurs 2: 10.30 – 11.45 Uhr\nKosten: CHF 25.-/Lektion\nMitbringen: bequeme Kleidung \nKontakt:\nAdrienne Schumacher\n079 289 73 43
URL:https://aaretraum.ch/event/hatha-yoga-fuer-senioren-mit-adrienne-schumacher/2026-09-24/
LOCATION:Aaretraum\, Obere Hauptgasse 72\, Thun\, Bern\, 3600\, Schweiz
ATTACH;FMTTYPE=image/png:https://aaretraum.ch/wp-content/uploads/2e3f0ab24d2949afa4cb17f26e5c6c57.png
ORGANIZER;CN="Adrienne Schumacher":MAILTO:arjuna16@bluemail.ch
END:VEVENT
BEGIN:VEVENT
DTSTART;TZID=Europe/Zurich:20260925T120000
DTEND;TZID=Europe/Zurich:20260925T150000
DTSTAMP:20260425T201340
CREATED:20250716T211827Z
LAST-MODIFIED:20250716T211827Z
UID:10002888-1790337600-1790348400@aaretraum.ch
SUMMARY:Betriebsyoga
DESCRIPTION:
URL:https://aaretraum.ch/event/betriebsyoga/2026-09-25/
LOCATION:Aaretraum\, Obere Hauptgasse 72\, Thun\, Bern\, 3600\, Schweiz
ATTACH;FMTTYPE=image/jpeg:https://aaretraum.ch/wp-content/uploads/entspannung-neutrales-bild.jpg
ORGANIZER;CN="Adrienne Schumacher":MAILTO:arjuna16@bluemail.ch
END:VEVENT
BEGIN:VEVENT
DTSTART;TZID=Europe/Zurich:20261001T080000
DTEND;TZID=Europe/Zurich:20261001T120000
DTSTAMP:20260425T201340
CREATED:20240612T064329Z
LAST-MODIFIED:20250511T135929Z
UID:10002703-1790841600-1790856000@aaretraum.ch
SUMMARY:Hatha Yoga für Senioren mit Adrienne Schumacher
DESCRIPTION:Mit Hatha Yoga eine Brücke bauen für Körper Geist und Seele\, um in belastenden Alltagssituationen das Gleichgewicht nicht zu verlieren. \nIn der Ruhe liegt die Kraft. \nBeginn: fortlaufend möglich\nOrt: „Aaretraum“\, obere Hauptgasse 72\, Thun\nZeit: Jeden Donnerstag\nKurs 1: 08.45 – 10.00 Uhr\nKurs 2: 10.30 – 11.45 Uhr\nKosten: CHF 25.-/Lektion\nMitbringen: bequeme Kleidung \nKontakt:\nAdrienne Schumacher\n079 289 73 43
URL:https://aaretraum.ch/event/hatha-yoga-fuer-senioren-mit-adrienne-schumacher/2026-10-01/
LOCATION:Aaretraum\, Obere Hauptgasse 72\, Thun\, Bern\, 3600\, Schweiz
ATTACH;FMTTYPE=image/png:https://aaretraum.ch/wp-content/uploads/2e3f0ab24d2949afa4cb17f26e5c6c57.png
ORGANIZER;CN="Adrienne Schumacher":MAILTO:arjuna16@bluemail.ch
END:VEVENT
BEGIN:VEVENT
DTSTART;TZID=Europe/Zurich:20261002T120000
DTEND;TZID=Europe/Zurich:20261002T150000
DTSTAMP:20260425T201340
CREATED:20250716T211827Z
LAST-MODIFIED:20250716T211827Z
UID:10002889-1790942400-1790953200@aaretraum.ch
SUMMARY:Betriebsyoga
DESCRIPTION:
URL:https://aaretraum.ch/event/betriebsyoga/2026-10-02/
LOCATION:Aaretraum\, Obere Hauptgasse 72\, Thun\, Bern\, 3600\, Schweiz
ATTACH;FMTTYPE=image/jpeg:https://aaretraum.ch/wp-content/uploads/entspannung-neutrales-bild.jpg
ORGANIZER;CN="Adrienne Schumacher":MAILTO:arjuna16@bluemail.ch
END:VEVENT
BEGIN:VEVENT
DTSTART;TZID=Europe/Zurich:20261008T080000
DTEND;TZID=Europe/Zurich:20261008T120000
DTSTAMP:20260425T201340
CREATED:20240612T064329Z
LAST-MODIFIED:20250511T135929Z
UID:10002704-1791446400-1791460800@aaretraum.ch
SUMMARY:Hatha Yoga für Senioren mit Adrienne Schumacher
DESCRIPTION:Mit Hatha Yoga eine Brücke bauen für Körper Geist und Seele\, um in belastenden Alltagssituationen das Gleichgewicht nicht zu verlieren. \nIn der Ruhe liegt die Kraft. \nBeginn: fortlaufend möglich\nOrt: „Aaretraum“\, obere Hauptgasse 72\, Thun\nZeit: Jeden Donnerstag\nKurs 1: 08.45 – 10.00 Uhr\nKurs 2: 10.30 – 11.45 Uhr\nKosten: CHF 25.-/Lektion\nMitbringen: bequeme Kleidung \nKontakt:\nAdrienne Schumacher\n079 289 73 43
URL:https://aaretraum.ch/event/hatha-yoga-fuer-senioren-mit-adrienne-schumacher/2026-10-08/
LOCATION:Aaretraum\, Obere Hauptgasse 72\, Thun\, Bern\, 3600\, Schweiz
ATTACH;FMTTYPE=image/png:https://aaretraum.ch/wp-content/uploads/2e3f0ab24d2949afa4cb17f26e5c6c57.png
ORGANIZER;CN="Adrienne Schumacher":MAILTO:arjuna16@bluemail.ch
END:VEVENT
BEGIN:VEVENT
DTSTART;TZID=Europe/Zurich:20261009T120000
DTEND;TZID=Europe/Zurich:20261009T150000
DTSTAMP:20260425T201340
CREATED:20250716T211827Z
LAST-MODIFIED:20250716T211827Z
UID:10002890-1791547200-1791558000@aaretraum.ch
SUMMARY:Betriebsyoga
DESCRIPTION:
URL:https://aaretraum.ch/event/betriebsyoga/2026-10-09/
LOCATION:Aaretraum\, Obere Hauptgasse 72\, Thun\, Bern\, 3600\, Schweiz
ATTACH;FMTTYPE=image/jpeg:https://aaretraum.ch/wp-content/uploads/entspannung-neutrales-bild.jpg
ORGANIZER;CN="Adrienne Schumacher":MAILTO:arjuna16@bluemail.ch
END:VEVENT
BEGIN:VEVENT
DTSTART;TZID=Europe/Zurich:20261015T080000
DTEND;TZID=Europe/Zurich:20261015T120000
DTSTAMP:20260425T201340
CREATED:20240612T064329Z
LAST-MODIFIED:20250511T135929Z
UID:10002705-1792051200-1792065600@aaretraum.ch
SUMMARY:Hatha Yoga für Senioren mit Adrienne Schumacher
DESCRIPTION:Mit Hatha Yoga eine Brücke bauen für Körper Geist und Seele\, um in belastenden Alltagssituationen das Gleichgewicht nicht zu verlieren. \nIn der Ruhe liegt die Kraft. \nBeginn: fortlaufend möglich\nOrt: „Aaretraum“\, obere Hauptgasse 72\, Thun\nZeit: Jeden Donnerstag\nKurs 1: 08.45 – 10.00 Uhr\nKurs 2: 10.30 – 11.45 Uhr\nKosten: CHF 25.-/Lektion\nMitbringen: bequeme Kleidung \nKontakt:\nAdrienne Schumacher\n079 289 73 43
URL:https://aaretraum.ch/event/hatha-yoga-fuer-senioren-mit-adrienne-schumacher/2026-10-15/
LOCATION:Aaretraum\, Obere Hauptgasse 72\, Thun\, Bern\, 3600\, Schweiz
ATTACH;FMTTYPE=image/png:https://aaretraum.ch/wp-content/uploads/2e3f0ab24d2949afa4cb17f26e5c6c57.png
ORGANIZER;CN="Adrienne Schumacher":MAILTO:arjuna16@bluemail.ch
END:VEVENT
BEGIN:VEVENT
DTSTART;TZID=Europe/Zurich:20261016T120000
DTEND;TZID=Europe/Zurich:20261016T150000
DTSTAMP:20260425T201340
CREATED:20250716T211827Z
LAST-MODIFIED:20250716T211827Z
UID:10002891-1792152000-1792162800@aaretraum.ch
SUMMARY:Betriebsyoga
DESCRIPTION:
URL:https://aaretraum.ch/event/betriebsyoga/2026-10-16/
LOCATION:Aaretraum\, Obere Hauptgasse 72\, Thun\, Bern\, 3600\, Schweiz
ATTACH;FMTTYPE=image/jpeg:https://aaretraum.ch/wp-content/uploads/entspannung-neutrales-bild.jpg
ORGANIZER;CN="Adrienne Schumacher":MAILTO:arjuna16@bluemail.ch
END:VEVENT
BEGIN:VEVENT
DTSTART;TZID=Europe/Zurich:20261022T080000
DTEND;TZID=Europe/Zurich:20261022T120000
DTSTAMP:20260425T201340
CREATED:20240612T064329Z
LAST-MODIFIED:20250511T135929Z
UID:10002706-1792656000-1792670400@aaretraum.ch
SUMMARY:Hatha Yoga für Senioren mit Adrienne Schumacher
DESCRIPTION:Mit Hatha Yoga eine Brücke bauen für Körper Geist und Seele\, um in belastenden Alltagssituationen das Gleichgewicht nicht zu verlieren. \nIn der Ruhe liegt die Kraft. \nBeginn: fortlaufend möglich\nOrt: „Aaretraum“\, obere Hauptgasse 72\, Thun\nZeit: Jeden Donnerstag\nKurs 1: 08.45 – 10.00 Uhr\nKurs 2: 10.30 – 11.45 Uhr\nKosten: CHF 25.-/Lektion\nMitbringen: bequeme Kleidung \nKontakt:\nAdrienne Schumacher\n079 289 73 43
URL:https://aaretraum.ch/event/hatha-yoga-fuer-senioren-mit-adrienne-schumacher/2026-10-22/
LOCATION:Aaretraum\, Obere Hauptgasse 72\, Thun\, Bern\, 3600\, Schweiz
ATTACH;FMTTYPE=image/png:https://aaretraum.ch/wp-content/uploads/2e3f0ab24d2949afa4cb17f26e5c6c57.png
ORGANIZER;CN="Adrienne Schumacher":MAILTO:arjuna16@bluemail.ch
END:VEVENT
BEGIN:VEVENT
DTSTART;TZID=Europe/Zurich:20261023T120000
DTEND;TZID=Europe/Zurich:20261023T150000
DTSTAMP:20260425T201340
CREATED:20250716T211827Z
LAST-MODIFIED:20250716T211827Z
UID:10002892-1792756800-1792767600@aaretraum.ch
SUMMARY:Betriebsyoga
DESCRIPTION:
URL:https://aaretraum.ch/event/betriebsyoga/2026-10-23/
LOCATION:Aaretraum\, Obere Hauptgasse 72\, Thun\, Bern\, 3600\, Schweiz
ATTACH;FMTTYPE=image/jpeg:https://aaretraum.ch/wp-content/uploads/entspannung-neutrales-bild.jpg
ORGANIZER;CN="Adrienne Schumacher":MAILTO:arjuna16@bluemail.ch
END:VEVENT
BEGIN:VEVENT
DTSTART;TZID=Europe/Zurich:20261029T080000
DTEND;TZID=Europe/Zurich:20261029T120000
DTSTAMP:20260425T201340
CREATED:20240612T064329Z
LAST-MODIFIED:20250511T135929Z
UID:10002707-1793260800-1793275200@aaretraum.ch
SUMMARY:Hatha Yoga für Senioren mit Adrienne Schumacher
DESCRIPTION:Mit Hatha Yoga eine Brücke bauen für Körper Geist und Seele\, um in belastenden Alltagssituationen das Gleichgewicht nicht zu verlieren. \nIn der Ruhe liegt die Kraft. \nBeginn: fortlaufend möglich\nOrt: „Aaretraum“\, obere Hauptgasse 72\, Thun\nZeit: Jeden Donnerstag\nKurs 1: 08.45 – 10.00 Uhr\nKurs 2: 10.30 – 11.45 Uhr\nKosten: CHF 25.-/Lektion\nMitbringen: bequeme Kleidung \nKontakt:\nAdrienne Schumacher\n079 289 73 43
URL:https://aaretraum.ch/event/hatha-yoga-fuer-senioren-mit-adrienne-schumacher/2026-10-29/
LOCATION:Aaretraum\, Obere Hauptgasse 72\, Thun\, Bern\, 3600\, Schweiz
ATTACH;FMTTYPE=image/png:https://aaretraum.ch/wp-content/uploads/2e3f0ab24d2949afa4cb17f26e5c6c57.png
ORGANIZER;CN="Adrienne Schumacher":MAILTO:arjuna16@bluemail.ch
END:VEVENT
BEGIN:VEVENT
DTSTART;TZID=Europe/Zurich:20261030T120000
DTEND;TZID=Europe/Zurich:20261030T150000
DTSTAMP:20260425T201340
CREATED:20250716T211827Z
LAST-MODIFIED:20250716T211827Z
UID:10002893-1793361600-1793372400@aaretraum.ch
SUMMARY:Betriebsyoga
DESCRIPTION:
URL:https://aaretraum.ch/event/betriebsyoga/2026-10-30/
LOCATION:Aaretraum\, Obere Hauptgasse 72\, Thun\, Bern\, 3600\, Schweiz
ATTACH;FMTTYPE=image/jpeg:https://aaretraum.ch/wp-content/uploads/entspannung-neutrales-bild.jpg
ORGANIZER;CN="Adrienne Schumacher":MAILTO:arjuna16@bluemail.ch
END:VEVENT
END:VCALENDAR