BEGIN:VCALENDAR
VERSION:2.0
PRODID:-//Aaretraum - ECPv6.15.20//NONSGML v1.0//EN
CALSCALE:GREGORIAN
METHOD:PUBLISH
X-WR-CALNAME:Aaretraum
X-ORIGINAL-URL:https://aaretraum.ch
X-WR-CALDESC:Ereignisse für Aaretraum
REFRESH-INTERVAL;VALUE=DURATION:PT1H
X-Robots-Tag:noindex
X-PUBLISHED-TTL:PT1H
BEGIN:VTIMEZONE
TZID:Europe/Zurich
BEGIN:DAYLIGHT
TZOFFSETFROM:+0100
TZOFFSETTO:+0200
TZNAME:CEST
DTSTART:20250330T010000
END:DAYLIGHT
BEGIN:STANDARD
TZOFFSETFROM:+0200
TZOFFSETTO:+0100
TZNAME:CET
DTSTART:20251026T010000
END:STANDARD
BEGIN:DAYLIGHT
TZOFFSETFROM:+0100
TZOFFSETTO:+0200
TZNAME:CEST
DTSTART:20260329T010000
END:DAYLIGHT
BEGIN:STANDARD
TZOFFSETFROM:+0200
TZOFFSETTO:+0100
TZNAME:CET
DTSTART:20261025T010000
END:STANDARD
BEGIN:DAYLIGHT
TZOFFSETFROM:+0100
TZOFFSETTO:+0200
TZNAME:CEST
DTSTART:20270328T010000
END:DAYLIGHT
BEGIN:STANDARD
TZOFFSETFROM:+0200
TZOFFSETTO:+0100
TZNAME:CET
DTSTART:20271031T010000
END:STANDARD
END:VTIMEZONE
BEGIN:VEVENT
DTSTART;TZID=Europe/Zurich:20260424T120000
DTEND;TZID=Europe/Zurich:20260424T150000
DTSTAMP:20260425T183251
CREATED:20250716T211827Z
LAST-MODIFIED:20250716T211827Z
UID:10002866-1777032000-1777042800@aaretraum.ch
SUMMARY:Betriebsyoga
DESCRIPTION:
URL:https://aaretraum.ch/event/betriebsyoga/2026-04-24/
LOCATION:Aaretraum\, Obere Hauptgasse 72\, Thun\, Bern\, 3600\, Schweiz
ATTACH;FMTTYPE=image/jpeg:https://aaretraum.ch/wp-content/uploads/entspannung-neutrales-bild.jpg
ORGANIZER;CN="Adrienne Schumacher":MAILTO:arjuna16@bluemail.ch
END:VEVENT
BEGIN:VEVENT
DTSTART;TZID=Europe/Zurich:20260423T080000
DTEND;TZID=Europe/Zurich:20260423T120000
DTSTAMP:20260425T183251
CREATED:20240612T064329Z
LAST-MODIFIED:20250511T135929Z
UID:10002680-1776931200-1776945600@aaretraum.ch
SUMMARY:Hatha Yoga für Senioren mit Adrienne Schumacher
DESCRIPTION:Mit Hatha Yoga eine Brücke bauen für Körper Geist und Seele\, um in belastenden Alltagssituationen das Gleichgewicht nicht zu verlieren. \nIn der Ruhe liegt die Kraft. \nBeginn: fortlaufend möglich\nOrt: „Aaretraum“\, obere Hauptgasse 72\, Thun\nZeit: Jeden Donnerstag\nKurs 1: 08.45 – 10.00 Uhr\nKurs 2: 10.30 – 11.45 Uhr\nKosten: CHF 25.-/Lektion\nMitbringen: bequeme Kleidung \nKontakt:\nAdrienne Schumacher\n079 289 73 43
URL:https://aaretraum.ch/event/hatha-yoga-fuer-senioren-mit-adrienne-schumacher/2026-04-23/
LOCATION:Aaretraum\, Obere Hauptgasse 72\, Thun\, Bern\, 3600\, Schweiz
ATTACH;FMTTYPE=image/png:https://aaretraum.ch/wp-content/uploads/2e3f0ab24d2949afa4cb17f26e5c6c57.png
ORGANIZER;CN="Adrienne Schumacher":MAILTO:arjuna16@bluemail.ch
END:VEVENT
BEGIN:VEVENT
DTSTART;TZID=Europe/Zurich:20260417T120000
DTEND;TZID=Europe/Zurich:20260417T150000
DTSTAMP:20260425T183251
CREATED:20250716T211827Z
LAST-MODIFIED:20250716T211827Z
UID:10002865-1776427200-1776438000@aaretraum.ch
SUMMARY:Betriebsyoga
DESCRIPTION:
URL:https://aaretraum.ch/event/betriebsyoga/2026-04-17/
LOCATION:Aaretraum\, Obere Hauptgasse 72\, Thun\, Bern\, 3600\, Schweiz
ATTACH;FMTTYPE=image/jpeg:https://aaretraum.ch/wp-content/uploads/entspannung-neutrales-bild.jpg
ORGANIZER;CN="Adrienne Schumacher":MAILTO:arjuna16@bluemail.ch
END:VEVENT
BEGIN:VEVENT
DTSTART;TZID=Europe/Zurich:20260416T080000
DTEND;TZID=Europe/Zurich:20260416T120000
DTSTAMP:20260425T183251
CREATED:20240612T064329Z
LAST-MODIFIED:20250511T135929Z
UID:10002679-1776326400-1776340800@aaretraum.ch
SUMMARY:Hatha Yoga für Senioren mit Adrienne Schumacher
DESCRIPTION:Mit Hatha Yoga eine Brücke bauen für Körper Geist und Seele\, um in belastenden Alltagssituationen das Gleichgewicht nicht zu verlieren. \nIn der Ruhe liegt die Kraft. \nBeginn: fortlaufend möglich\nOrt: „Aaretraum“\, obere Hauptgasse 72\, Thun\nZeit: Jeden Donnerstag\nKurs 1: 08.45 – 10.00 Uhr\nKurs 2: 10.30 – 11.45 Uhr\nKosten: CHF 25.-/Lektion\nMitbringen: bequeme Kleidung \nKontakt:\nAdrienne Schumacher\n079 289 73 43
URL:https://aaretraum.ch/event/hatha-yoga-fuer-senioren-mit-adrienne-schumacher/2026-04-16/
LOCATION:Aaretraum\, Obere Hauptgasse 72\, Thun\, Bern\, 3600\, Schweiz
ATTACH;FMTTYPE=image/png:https://aaretraum.ch/wp-content/uploads/2e3f0ab24d2949afa4cb17f26e5c6c57.png
ORGANIZER;CN="Adrienne Schumacher":MAILTO:arjuna16@bluemail.ch
END:VEVENT
BEGIN:VEVENT
DTSTART;TZID=Europe/Zurich:20260410T120000
DTEND;TZID=Europe/Zurich:20260410T150000
DTSTAMP:20260425T183251
CREATED:20250716T211827Z
LAST-MODIFIED:20250716T211827Z
UID:10002864-1775822400-1775833200@aaretraum.ch
SUMMARY:Betriebsyoga
DESCRIPTION:
URL:https://aaretraum.ch/event/betriebsyoga/2026-04-10/
LOCATION:Aaretraum\, Obere Hauptgasse 72\, Thun\, Bern\, 3600\, Schweiz
ATTACH;FMTTYPE=image/jpeg:https://aaretraum.ch/wp-content/uploads/entspannung-neutrales-bild.jpg
ORGANIZER;CN="Adrienne Schumacher":MAILTO:arjuna16@bluemail.ch
END:VEVENT
BEGIN:VEVENT
DTSTART;TZID=Europe/Zurich:20260409T080000
DTEND;TZID=Europe/Zurich:20260409T120000
DTSTAMP:20260425T183251
CREATED:20240612T064329Z
LAST-MODIFIED:20250511T135929Z
UID:10002678-1775721600-1775736000@aaretraum.ch
SUMMARY:Hatha Yoga für Senioren mit Adrienne Schumacher
DESCRIPTION:Mit Hatha Yoga eine Brücke bauen für Körper Geist und Seele\, um in belastenden Alltagssituationen das Gleichgewicht nicht zu verlieren. \nIn der Ruhe liegt die Kraft. \nBeginn: fortlaufend möglich\nOrt: „Aaretraum“\, obere Hauptgasse 72\, Thun\nZeit: Jeden Donnerstag\nKurs 1: 08.45 – 10.00 Uhr\nKurs 2: 10.30 – 11.45 Uhr\nKosten: CHF 25.-/Lektion\nMitbringen: bequeme Kleidung \nKontakt:\nAdrienne Schumacher\n079 289 73 43
URL:https://aaretraum.ch/event/hatha-yoga-fuer-senioren-mit-adrienne-schumacher/2026-04-09/
LOCATION:Aaretraum\, Obere Hauptgasse 72\, Thun\, Bern\, 3600\, Schweiz
ATTACH;FMTTYPE=image/png:https://aaretraum.ch/wp-content/uploads/2e3f0ab24d2949afa4cb17f26e5c6c57.png
ORGANIZER;CN="Adrienne Schumacher":MAILTO:arjuna16@bluemail.ch
END:VEVENT
BEGIN:VEVENT
DTSTART;TZID=Europe/Zurich:20260403T120000
DTEND;TZID=Europe/Zurich:20260403T150000
DTSTAMP:20260425T183251
CREATED:20250716T211827Z
LAST-MODIFIED:20250716T211827Z
UID:10002863-1775217600-1775228400@aaretraum.ch
SUMMARY:Betriebsyoga
DESCRIPTION:
URL:https://aaretraum.ch/event/betriebsyoga/2026-04-03/
LOCATION:Aaretraum\, Obere Hauptgasse 72\, Thun\, Bern\, 3600\, Schweiz
ATTACH;FMTTYPE=image/jpeg:https://aaretraum.ch/wp-content/uploads/entspannung-neutrales-bild.jpg
ORGANIZER;CN="Adrienne Schumacher":MAILTO:arjuna16@bluemail.ch
END:VEVENT
BEGIN:VEVENT
DTSTART;TZID=Europe/Zurich:20260402T080000
DTEND;TZID=Europe/Zurich:20260402T120000
DTSTAMP:20260425T183251
CREATED:20240612T064329Z
LAST-MODIFIED:20250511T135929Z
UID:10002677-1775116800-1775131200@aaretraum.ch
SUMMARY:Hatha Yoga für Senioren mit Adrienne Schumacher
DESCRIPTION:Mit Hatha Yoga eine Brücke bauen für Körper Geist und Seele\, um in belastenden Alltagssituationen das Gleichgewicht nicht zu verlieren. \nIn der Ruhe liegt die Kraft. \nBeginn: fortlaufend möglich\nOrt: „Aaretraum“\, obere Hauptgasse 72\, Thun\nZeit: Jeden Donnerstag\nKurs 1: 08.45 – 10.00 Uhr\nKurs 2: 10.30 – 11.45 Uhr\nKosten: CHF 25.-/Lektion\nMitbringen: bequeme Kleidung \nKontakt:\nAdrienne Schumacher\n079 289 73 43
URL:https://aaretraum.ch/event/hatha-yoga-fuer-senioren-mit-adrienne-schumacher/2026-04-02/
LOCATION:Aaretraum\, Obere Hauptgasse 72\, Thun\, Bern\, 3600\, Schweiz
ATTACH;FMTTYPE=image/png:https://aaretraum.ch/wp-content/uploads/2e3f0ab24d2949afa4cb17f26e5c6c57.png
ORGANIZER;CN="Adrienne Schumacher":MAILTO:arjuna16@bluemail.ch
END:VEVENT
BEGIN:VEVENT
DTSTART;TZID=Europe/Zurich:20260327T120000
DTEND;TZID=Europe/Zurich:20260327T150000
DTSTAMP:20260425T183251
CREATED:20250716T211827Z
LAST-MODIFIED:20250716T211827Z
UID:10002862-1774612800-1774623600@aaretraum.ch
SUMMARY:Betriebsyoga
DESCRIPTION:
URL:https://aaretraum.ch/event/betriebsyoga/2026-03-27/
LOCATION:Aaretraum\, Obere Hauptgasse 72\, Thun\, Bern\, 3600\, Schweiz
ATTACH;FMTTYPE=image/jpeg:https://aaretraum.ch/wp-content/uploads/entspannung-neutrales-bild.jpg
ORGANIZER;CN="Adrienne Schumacher":MAILTO:arjuna16@bluemail.ch
END:VEVENT
BEGIN:VEVENT
DTSTART;TZID=Europe/Zurich:20260326T080000
DTEND;TZID=Europe/Zurich:20260326T120000
DTSTAMP:20260425T183251
CREATED:20240612T064329Z
LAST-MODIFIED:20250511T135929Z
UID:10002676-1774512000-1774526400@aaretraum.ch
SUMMARY:Hatha Yoga für Senioren mit Adrienne Schumacher
DESCRIPTION:Mit Hatha Yoga eine Brücke bauen für Körper Geist und Seele\, um in belastenden Alltagssituationen das Gleichgewicht nicht zu verlieren. \nIn der Ruhe liegt die Kraft. \nBeginn: fortlaufend möglich\nOrt: „Aaretraum“\, obere Hauptgasse 72\, Thun\nZeit: Jeden Donnerstag\nKurs 1: 08.45 – 10.00 Uhr\nKurs 2: 10.30 – 11.45 Uhr\nKosten: CHF 25.-/Lektion\nMitbringen: bequeme Kleidung \nKontakt:\nAdrienne Schumacher\n079 289 73 43
URL:https://aaretraum.ch/event/hatha-yoga-fuer-senioren-mit-adrienne-schumacher/2026-03-26/
LOCATION:Aaretraum\, Obere Hauptgasse 72\, Thun\, Bern\, 3600\, Schweiz
ATTACH;FMTTYPE=image/png:https://aaretraum.ch/wp-content/uploads/2e3f0ab24d2949afa4cb17f26e5c6c57.png
ORGANIZER;CN="Adrienne Schumacher":MAILTO:arjuna16@bluemail.ch
END:VEVENT
BEGIN:VEVENT
DTSTART;TZID=Europe/Zurich:20260320T120000
DTEND;TZID=Europe/Zurich:20260320T150000
DTSTAMP:20260425T183251
CREATED:20250716T211827Z
LAST-MODIFIED:20250716T211827Z
UID:10002861-1774008000-1774018800@aaretraum.ch
SUMMARY:Betriebsyoga
DESCRIPTION:
URL:https://aaretraum.ch/event/betriebsyoga/2026-03-20/
LOCATION:Aaretraum\, Obere Hauptgasse 72\, Thun\, Bern\, 3600\, Schweiz
ATTACH;FMTTYPE=image/jpeg:https://aaretraum.ch/wp-content/uploads/entspannung-neutrales-bild.jpg
ORGANIZER;CN="Adrienne Schumacher":MAILTO:arjuna16@bluemail.ch
END:VEVENT
BEGIN:VEVENT
DTSTART;TZID=Europe/Zurich:20260319T080000
DTEND;TZID=Europe/Zurich:20260319T120000
DTSTAMP:20260425T183251
CREATED:20240612T064329Z
LAST-MODIFIED:20250511T135929Z
UID:10002675-1773907200-1773921600@aaretraum.ch
SUMMARY:Hatha Yoga für Senioren mit Adrienne Schumacher
DESCRIPTION:Mit Hatha Yoga eine Brücke bauen für Körper Geist und Seele\, um in belastenden Alltagssituationen das Gleichgewicht nicht zu verlieren. \nIn der Ruhe liegt die Kraft. \nBeginn: fortlaufend möglich\nOrt: „Aaretraum“\, obere Hauptgasse 72\, Thun\nZeit: Jeden Donnerstag\nKurs 1: 08.45 – 10.00 Uhr\nKurs 2: 10.30 – 11.45 Uhr\nKosten: CHF 25.-/Lektion\nMitbringen: bequeme Kleidung \nKontakt:\nAdrienne Schumacher\n079 289 73 43
URL:https://aaretraum.ch/event/hatha-yoga-fuer-senioren-mit-adrienne-schumacher/2026-03-19/
LOCATION:Aaretraum\, Obere Hauptgasse 72\, Thun\, Bern\, 3600\, Schweiz
ATTACH;FMTTYPE=image/png:https://aaretraum.ch/wp-content/uploads/2e3f0ab24d2949afa4cb17f26e5c6c57.png
ORGANIZER;CN="Adrienne Schumacher":MAILTO:arjuna16@bluemail.ch
END:VEVENT
BEGIN:VEVENT
DTSTART;TZID=Europe/Zurich:20260313T120000
DTEND;TZID=Europe/Zurich:20260313T150000
DTSTAMP:20260425T183251
CREATED:20250716T211827Z
LAST-MODIFIED:20250716T211827Z
UID:10002860-1773403200-1773414000@aaretraum.ch
SUMMARY:Betriebsyoga
DESCRIPTION:
URL:https://aaretraum.ch/event/betriebsyoga/2026-03-13/
LOCATION:Aaretraum\, Obere Hauptgasse 72\, Thun\, Bern\, 3600\, Schweiz
ATTACH;FMTTYPE=image/jpeg:https://aaretraum.ch/wp-content/uploads/entspannung-neutrales-bild.jpg
ORGANIZER;CN="Adrienne Schumacher":MAILTO:arjuna16@bluemail.ch
END:VEVENT
BEGIN:VEVENT
DTSTART;TZID=Europe/Zurich:20260312T080000
DTEND;TZID=Europe/Zurich:20260312T120000
DTSTAMP:20260425T183251
CREATED:20240612T064329Z
LAST-MODIFIED:20250511T135929Z
UID:10002674-1773302400-1773316800@aaretraum.ch
SUMMARY:Hatha Yoga für Senioren mit Adrienne Schumacher
DESCRIPTION:Mit Hatha Yoga eine Brücke bauen für Körper Geist und Seele\, um in belastenden Alltagssituationen das Gleichgewicht nicht zu verlieren. \nIn der Ruhe liegt die Kraft. \nBeginn: fortlaufend möglich\nOrt: „Aaretraum“\, obere Hauptgasse 72\, Thun\nZeit: Jeden Donnerstag\nKurs 1: 08.45 – 10.00 Uhr\nKurs 2: 10.30 – 11.45 Uhr\nKosten: CHF 25.-/Lektion\nMitbringen: bequeme Kleidung \nKontakt:\nAdrienne Schumacher\n079 289 73 43
URL:https://aaretraum.ch/event/hatha-yoga-fuer-senioren-mit-adrienne-schumacher/2026-03-12/
LOCATION:Aaretraum\, Obere Hauptgasse 72\, Thun\, Bern\, 3600\, Schweiz
ATTACH;FMTTYPE=image/png:https://aaretraum.ch/wp-content/uploads/2e3f0ab24d2949afa4cb17f26e5c6c57.png
ORGANIZER;CN="Adrienne Schumacher":MAILTO:arjuna16@bluemail.ch
END:VEVENT
BEGIN:VEVENT
DTSTART;TZID=Europe/Zurich:20260306T120000
DTEND;TZID=Europe/Zurich:20260306T150000
DTSTAMP:20260425T183251
CREATED:20250716T211827Z
LAST-MODIFIED:20250716T211827Z
UID:10002859-1772798400-1772809200@aaretraum.ch
SUMMARY:Betriebsyoga
DESCRIPTION:
URL:https://aaretraum.ch/event/betriebsyoga/2026-03-06/
LOCATION:Aaretraum\, Obere Hauptgasse 72\, Thun\, Bern\, 3600\, Schweiz
ATTACH;FMTTYPE=image/jpeg:https://aaretraum.ch/wp-content/uploads/entspannung-neutrales-bild.jpg
ORGANIZER;CN="Adrienne Schumacher":MAILTO:arjuna16@bluemail.ch
END:VEVENT
BEGIN:VEVENT
DTSTART;TZID=Europe/Zurich:20260305T080000
DTEND;TZID=Europe/Zurich:20260305T120000
DTSTAMP:20260425T183251
CREATED:20240612T064329Z
LAST-MODIFIED:20250511T135929Z
UID:10002673-1772697600-1772712000@aaretraum.ch
SUMMARY:Hatha Yoga für Senioren mit Adrienne Schumacher
DESCRIPTION:Mit Hatha Yoga eine Brücke bauen für Körper Geist und Seele\, um in belastenden Alltagssituationen das Gleichgewicht nicht zu verlieren. \nIn der Ruhe liegt die Kraft. \nBeginn: fortlaufend möglich\nOrt: „Aaretraum“\, obere Hauptgasse 72\, Thun\nZeit: Jeden Donnerstag\nKurs 1: 08.45 – 10.00 Uhr\nKurs 2: 10.30 – 11.45 Uhr\nKosten: CHF 25.-/Lektion\nMitbringen: bequeme Kleidung \nKontakt:\nAdrienne Schumacher\n079 289 73 43
URL:https://aaretraum.ch/event/hatha-yoga-fuer-senioren-mit-adrienne-schumacher/2026-03-05/
LOCATION:Aaretraum\, Obere Hauptgasse 72\, Thun\, Bern\, 3600\, Schweiz
ATTACH;FMTTYPE=image/png:https://aaretraum.ch/wp-content/uploads/2e3f0ab24d2949afa4cb17f26e5c6c57.png
ORGANIZER;CN="Adrienne Schumacher":MAILTO:arjuna16@bluemail.ch
END:VEVENT
BEGIN:VEVENT
DTSTART;TZID=Europe/Zurich:20260227T120000
DTEND;TZID=Europe/Zurich:20260227T150000
DTSTAMP:20260425T183251
CREATED:20250716T211827Z
LAST-MODIFIED:20250716T211827Z
UID:10002858-1772193600-1772204400@aaretraum.ch
SUMMARY:Betriebsyoga
DESCRIPTION:
URL:https://aaretraum.ch/event/betriebsyoga/2026-02-27/
LOCATION:Aaretraum\, Obere Hauptgasse 72\, Thun\, Bern\, 3600\, Schweiz
ATTACH;FMTTYPE=image/jpeg:https://aaretraum.ch/wp-content/uploads/entspannung-neutrales-bild.jpg
ORGANIZER;CN="Adrienne Schumacher":MAILTO:arjuna16@bluemail.ch
END:VEVENT
BEGIN:VEVENT
DTSTART;TZID=Europe/Zurich:20260226T080000
DTEND;TZID=Europe/Zurich:20260226T120000
DTSTAMP:20260425T183251
CREATED:20240612T064329Z
LAST-MODIFIED:20250511T135929Z
UID:10002672-1772092800-1772107200@aaretraum.ch
SUMMARY:Hatha Yoga für Senioren mit Adrienne Schumacher
DESCRIPTION:Mit Hatha Yoga eine Brücke bauen für Körper Geist und Seele\, um in belastenden Alltagssituationen das Gleichgewicht nicht zu verlieren. \nIn der Ruhe liegt die Kraft. \nBeginn: fortlaufend möglich\nOrt: „Aaretraum“\, obere Hauptgasse 72\, Thun\nZeit: Jeden Donnerstag\nKurs 1: 08.45 – 10.00 Uhr\nKurs 2: 10.30 – 11.45 Uhr\nKosten: CHF 25.-/Lektion\nMitbringen: bequeme Kleidung \nKontakt:\nAdrienne Schumacher\n079 289 73 43
URL:https://aaretraum.ch/event/hatha-yoga-fuer-senioren-mit-adrienne-schumacher/2026-02-26/
LOCATION:Aaretraum\, Obere Hauptgasse 72\, Thun\, Bern\, 3600\, Schweiz
ATTACH;FMTTYPE=image/png:https://aaretraum.ch/wp-content/uploads/2e3f0ab24d2949afa4cb17f26e5c6c57.png
ORGANIZER;CN="Adrienne Schumacher":MAILTO:arjuna16@bluemail.ch
END:VEVENT
BEGIN:VEVENT
DTSTART;TZID=Europe/Zurich:20260220T120000
DTEND;TZID=Europe/Zurich:20260220T150000
DTSTAMP:20260425T183251
CREATED:20250716T211827Z
LAST-MODIFIED:20250716T211827Z
UID:10002857-1771588800-1771599600@aaretraum.ch
SUMMARY:Betriebsyoga
DESCRIPTION:
URL:https://aaretraum.ch/event/betriebsyoga/2026-02-20/
LOCATION:Aaretraum\, Obere Hauptgasse 72\, Thun\, Bern\, 3600\, Schweiz
ATTACH;FMTTYPE=image/jpeg:https://aaretraum.ch/wp-content/uploads/entspannung-neutrales-bild.jpg
ORGANIZER;CN="Adrienne Schumacher":MAILTO:arjuna16@bluemail.ch
END:VEVENT
BEGIN:VEVENT
DTSTART;TZID=Europe/Zurich:20260219T080000
DTEND;TZID=Europe/Zurich:20260219T120000
DTSTAMP:20260425T183251
CREATED:20240612T064329Z
LAST-MODIFIED:20250511T135929Z
UID:10002671-1771488000-1771502400@aaretraum.ch
SUMMARY:Hatha Yoga für Senioren mit Adrienne Schumacher
DESCRIPTION:Mit Hatha Yoga eine Brücke bauen für Körper Geist und Seele\, um in belastenden Alltagssituationen das Gleichgewicht nicht zu verlieren. \nIn der Ruhe liegt die Kraft. \nBeginn: fortlaufend möglich\nOrt: „Aaretraum“\, obere Hauptgasse 72\, Thun\nZeit: Jeden Donnerstag\nKurs 1: 08.45 – 10.00 Uhr\nKurs 2: 10.30 – 11.45 Uhr\nKosten: CHF 25.-/Lektion\nMitbringen: bequeme Kleidung \nKontakt:\nAdrienne Schumacher\n079 289 73 43
URL:https://aaretraum.ch/event/hatha-yoga-fuer-senioren-mit-adrienne-schumacher/2026-02-19/
LOCATION:Aaretraum\, Obere Hauptgasse 72\, Thun\, Bern\, 3600\, Schweiz
ATTACH;FMTTYPE=image/png:https://aaretraum.ch/wp-content/uploads/2e3f0ab24d2949afa4cb17f26e5c6c57.png
ORGANIZER;CN="Adrienne Schumacher":MAILTO:arjuna16@bluemail.ch
END:VEVENT
BEGIN:VEVENT
DTSTART;TZID=Europe/Zurich:20260213T120000
DTEND;TZID=Europe/Zurich:20260213T150000
DTSTAMP:20260425T183251
CREATED:20250716T211827Z
LAST-MODIFIED:20250716T211827Z
UID:10002856-1770984000-1770994800@aaretraum.ch
SUMMARY:Betriebsyoga
DESCRIPTION:
URL:https://aaretraum.ch/event/betriebsyoga/2026-02-13/
LOCATION:Aaretraum\, Obere Hauptgasse 72\, Thun\, Bern\, 3600\, Schweiz
ATTACH;FMTTYPE=image/jpeg:https://aaretraum.ch/wp-content/uploads/entspannung-neutrales-bild.jpg
ORGANIZER;CN="Adrienne Schumacher":MAILTO:arjuna16@bluemail.ch
END:VEVENT
BEGIN:VEVENT
DTSTART;TZID=Europe/Zurich:20260212T080000
DTEND;TZID=Europe/Zurich:20260212T120000
DTSTAMP:20260425T183251
CREATED:20240612T064329Z
LAST-MODIFIED:20250511T135929Z
UID:10002670-1770883200-1770897600@aaretraum.ch
SUMMARY:Hatha Yoga für Senioren mit Adrienne Schumacher
DESCRIPTION:Mit Hatha Yoga eine Brücke bauen für Körper Geist und Seele\, um in belastenden Alltagssituationen das Gleichgewicht nicht zu verlieren. \nIn der Ruhe liegt die Kraft. \nBeginn: fortlaufend möglich\nOrt: „Aaretraum“\, obere Hauptgasse 72\, Thun\nZeit: Jeden Donnerstag\nKurs 1: 08.45 – 10.00 Uhr\nKurs 2: 10.30 – 11.45 Uhr\nKosten: CHF 25.-/Lektion\nMitbringen: bequeme Kleidung \nKontakt:\nAdrienne Schumacher\n079 289 73 43
URL:https://aaretraum.ch/event/hatha-yoga-fuer-senioren-mit-adrienne-schumacher/2026-02-12/
LOCATION:Aaretraum\, Obere Hauptgasse 72\, Thun\, Bern\, 3600\, Schweiz
ATTACH;FMTTYPE=image/png:https://aaretraum.ch/wp-content/uploads/2e3f0ab24d2949afa4cb17f26e5c6c57.png
ORGANIZER;CN="Adrienne Schumacher":MAILTO:arjuna16@bluemail.ch
END:VEVENT
BEGIN:VEVENT
DTSTART;TZID=Europe/Zurich:20260206T120000
DTEND;TZID=Europe/Zurich:20260206T150000
DTSTAMP:20260425T183251
CREATED:20250716T211827Z
LAST-MODIFIED:20250716T211827Z
UID:10002855-1770379200-1770390000@aaretraum.ch
SUMMARY:Betriebsyoga
DESCRIPTION:
URL:https://aaretraum.ch/event/betriebsyoga/2026-02-06/
LOCATION:Aaretraum\, Obere Hauptgasse 72\, Thun\, Bern\, 3600\, Schweiz
ATTACH;FMTTYPE=image/jpeg:https://aaretraum.ch/wp-content/uploads/entspannung-neutrales-bild.jpg
ORGANIZER;CN="Adrienne Schumacher":MAILTO:arjuna16@bluemail.ch
END:VEVENT
BEGIN:VEVENT
DTSTART;TZID=Europe/Zurich:20260205T080000
DTEND;TZID=Europe/Zurich:20260205T120000
DTSTAMP:20260425T183251
CREATED:20240612T064329Z
LAST-MODIFIED:20250511T135929Z
UID:10002669-1770278400-1770292800@aaretraum.ch
SUMMARY:Hatha Yoga für Senioren mit Adrienne Schumacher
DESCRIPTION:Mit Hatha Yoga eine Brücke bauen für Körper Geist und Seele\, um in belastenden Alltagssituationen das Gleichgewicht nicht zu verlieren. \nIn der Ruhe liegt die Kraft. \nBeginn: fortlaufend möglich\nOrt: „Aaretraum“\, obere Hauptgasse 72\, Thun\nZeit: Jeden Donnerstag\nKurs 1: 08.45 – 10.00 Uhr\nKurs 2: 10.30 – 11.45 Uhr\nKosten: CHF 25.-/Lektion\nMitbringen: bequeme Kleidung \nKontakt:\nAdrienne Schumacher\n079 289 73 43
URL:https://aaretraum.ch/event/hatha-yoga-fuer-senioren-mit-adrienne-schumacher/2026-02-05/
LOCATION:Aaretraum\, Obere Hauptgasse 72\, Thun\, Bern\, 3600\, Schweiz
ATTACH;FMTTYPE=image/png:https://aaretraum.ch/wp-content/uploads/2e3f0ab24d2949afa4cb17f26e5c6c57.png
ORGANIZER;CN="Adrienne Schumacher":MAILTO:arjuna16@bluemail.ch
END:VEVENT
BEGIN:VEVENT
DTSTART;TZID=Europe/Zurich:20260130T120000
DTEND;TZID=Europe/Zurich:20260130T150000
DTSTAMP:20260425T183251
CREATED:20250716T211827Z
LAST-MODIFIED:20250716T211827Z
UID:10002854-1769774400-1769785200@aaretraum.ch
SUMMARY:Betriebsyoga
DESCRIPTION:
URL:https://aaretraum.ch/event/betriebsyoga/2026-01-30/
LOCATION:Aaretraum\, Obere Hauptgasse 72\, Thun\, Bern\, 3600\, Schweiz
ATTACH;FMTTYPE=image/jpeg:https://aaretraum.ch/wp-content/uploads/entspannung-neutrales-bild.jpg
ORGANIZER;CN="Adrienne Schumacher":MAILTO:arjuna16@bluemail.ch
END:VEVENT
BEGIN:VEVENT
DTSTART;TZID=Europe/Zurich:20260129T080000
DTEND;TZID=Europe/Zurich:20260129T120000
DTSTAMP:20260425T183251
CREATED:20240612T064329Z
LAST-MODIFIED:20250511T135929Z
UID:10002668-1769673600-1769688000@aaretraum.ch
SUMMARY:Hatha Yoga für Senioren mit Adrienne Schumacher
DESCRIPTION:Mit Hatha Yoga eine Brücke bauen für Körper Geist und Seele\, um in belastenden Alltagssituationen das Gleichgewicht nicht zu verlieren. \nIn der Ruhe liegt die Kraft. \nBeginn: fortlaufend möglich\nOrt: „Aaretraum“\, obere Hauptgasse 72\, Thun\nZeit: Jeden Donnerstag\nKurs 1: 08.45 – 10.00 Uhr\nKurs 2: 10.30 – 11.45 Uhr\nKosten: CHF 25.-/Lektion\nMitbringen: bequeme Kleidung \nKontakt:\nAdrienne Schumacher\n079 289 73 43
URL:https://aaretraum.ch/event/hatha-yoga-fuer-senioren-mit-adrienne-schumacher/2026-01-29/
LOCATION:Aaretraum\, Obere Hauptgasse 72\, Thun\, Bern\, 3600\, Schweiz
ATTACH;FMTTYPE=image/png:https://aaretraum.ch/wp-content/uploads/2e3f0ab24d2949afa4cb17f26e5c6c57.png
ORGANIZER;CN="Adrienne Schumacher":MAILTO:arjuna16@bluemail.ch
END:VEVENT
BEGIN:VEVENT
DTSTART;TZID=Europe/Zurich:20260123T120000
DTEND;TZID=Europe/Zurich:20260123T150000
DTSTAMP:20260425T183251
CREATED:20250716T211827Z
LAST-MODIFIED:20250716T211827Z
UID:10002853-1769169600-1769180400@aaretraum.ch
SUMMARY:Betriebsyoga
DESCRIPTION:
URL:https://aaretraum.ch/event/betriebsyoga/2026-01-23/
LOCATION:Aaretraum\, Obere Hauptgasse 72\, Thun\, Bern\, 3600\, Schweiz
ATTACH;FMTTYPE=image/jpeg:https://aaretraum.ch/wp-content/uploads/entspannung-neutrales-bild.jpg
ORGANIZER;CN="Adrienne Schumacher":MAILTO:arjuna16@bluemail.ch
END:VEVENT
BEGIN:VEVENT
DTSTART;TZID=Europe/Zurich:20260122T080000
DTEND;TZID=Europe/Zurich:20260122T120000
DTSTAMP:20260425T183251
CREATED:20240612T064329Z
LAST-MODIFIED:20250511T135929Z
UID:10002667-1769068800-1769083200@aaretraum.ch
SUMMARY:Hatha Yoga für Senioren mit Adrienne Schumacher
DESCRIPTION:Mit Hatha Yoga eine Brücke bauen für Körper Geist und Seele\, um in belastenden Alltagssituationen das Gleichgewicht nicht zu verlieren. \nIn der Ruhe liegt die Kraft. \nBeginn: fortlaufend möglich\nOrt: „Aaretraum“\, obere Hauptgasse 72\, Thun\nZeit: Jeden Donnerstag\nKurs 1: 08.45 – 10.00 Uhr\nKurs 2: 10.30 – 11.45 Uhr\nKosten: CHF 25.-/Lektion\nMitbringen: bequeme Kleidung \nKontakt:\nAdrienne Schumacher\n079 289 73 43
URL:https://aaretraum.ch/event/hatha-yoga-fuer-senioren-mit-adrienne-schumacher/2026-01-22/
LOCATION:Aaretraum\, Obere Hauptgasse 72\, Thun\, Bern\, 3600\, Schweiz
ATTACH;FMTTYPE=image/png:https://aaretraum.ch/wp-content/uploads/2e3f0ab24d2949afa4cb17f26e5c6c57.png
ORGANIZER;CN="Adrienne Schumacher":MAILTO:arjuna16@bluemail.ch
END:VEVENT
BEGIN:VEVENT
DTSTART;TZID=Europe/Zurich:20260116T120000
DTEND;TZID=Europe/Zurich:20260116T150000
DTSTAMP:20260425T183251
CREATED:20250716T211827Z
LAST-MODIFIED:20250716T211827Z
UID:10002852-1768564800-1768575600@aaretraum.ch
SUMMARY:Betriebsyoga
DESCRIPTION:
URL:https://aaretraum.ch/event/betriebsyoga/2026-01-16/
LOCATION:Aaretraum\, Obere Hauptgasse 72\, Thun\, Bern\, 3600\, Schweiz
ATTACH;FMTTYPE=image/jpeg:https://aaretraum.ch/wp-content/uploads/entspannung-neutrales-bild.jpg
ORGANIZER;CN="Adrienne Schumacher":MAILTO:arjuna16@bluemail.ch
END:VEVENT
BEGIN:VEVENT
DTSTART;TZID=Europe/Zurich:20260115T080000
DTEND;TZID=Europe/Zurich:20260115T120000
DTSTAMP:20260425T183251
CREATED:20240612T064329Z
LAST-MODIFIED:20250511T135929Z
UID:10002666-1768464000-1768478400@aaretraum.ch
SUMMARY:Hatha Yoga für Senioren mit Adrienne Schumacher
DESCRIPTION:Mit Hatha Yoga eine Brücke bauen für Körper Geist und Seele\, um in belastenden Alltagssituationen das Gleichgewicht nicht zu verlieren. \nIn der Ruhe liegt die Kraft. \nBeginn: fortlaufend möglich\nOrt: „Aaretraum“\, obere Hauptgasse 72\, Thun\nZeit: Jeden Donnerstag\nKurs 1: 08.45 – 10.00 Uhr\nKurs 2: 10.30 – 11.45 Uhr\nKosten: CHF 25.-/Lektion\nMitbringen: bequeme Kleidung \nKontakt:\nAdrienne Schumacher\n079 289 73 43
URL:https://aaretraum.ch/event/hatha-yoga-fuer-senioren-mit-adrienne-schumacher/2026-01-15/
LOCATION:Aaretraum\, Obere Hauptgasse 72\, Thun\, Bern\, 3600\, Schweiz
ATTACH;FMTTYPE=image/png:https://aaretraum.ch/wp-content/uploads/2e3f0ab24d2949afa4cb17f26e5c6c57.png
ORGANIZER;CN="Adrienne Schumacher":MAILTO:arjuna16@bluemail.ch
END:VEVENT
END:VCALENDAR