BEGIN:VCALENDAR
VERSION:2.0
PRODID:-//Aaretraum - ECPv6.15.20//NONSGML v1.0//EN
CALSCALE:GREGORIAN
METHOD:PUBLISH
X-ORIGINAL-URL:https://aaretraum.ch
X-WR-CALDESC:Ereignisse für Aaretraum
REFRESH-INTERVAL;VALUE=DURATION:PT1H
X-Robots-Tag:noindex
X-PUBLISHED-TTL:PT1H
BEGIN:VTIMEZONE
TZID:Europe/Zurich
BEGIN:DAYLIGHT
TZOFFSETFROM:+0100
TZOFFSETTO:+0200
TZNAME:CEST
DTSTART:20270328T010000
END:DAYLIGHT
BEGIN:STANDARD
TZOFFSETFROM:+0200
TZOFFSETTO:+0100
TZNAME:CET
DTSTART:20271031T010000
END:STANDARD
BEGIN:DAYLIGHT
TZOFFSETFROM:+0100
TZOFFSETTO:+0200
TZNAME:CEST
DTSTART:20280326T010000
END:DAYLIGHT
BEGIN:STANDARD
TZOFFSETFROM:+0200
TZOFFSETTO:+0100
TZNAME:CET
DTSTART:20281029T010000
END:STANDARD
BEGIN:DAYLIGHT
TZOFFSETFROM:+0100
TZOFFSETTO:+0200
TZNAME:CEST
DTSTART:20290325T010000
END:DAYLIGHT
BEGIN:STANDARD
TZOFFSETFROM:+0200
TZOFFSETTO:+0100
TZNAME:CET
DTSTART:20291028T010000
END:STANDARD
END:VTIMEZONE
BEGIN:VEVENT
DTSTART;TZID=Europe/Zurich:20280901T120000
DTEND;TZID=Europe/Zurich:20280901T150000
DTSTAMP:20260423T112924
CREATED:20250716T211827Z
LAST-MODIFIED:20250716T211827Z
UID:10002989-1851422400-1851433200@aaretraum.ch
SUMMARY:Betriebsyoga
DESCRIPTION:
URL:https://aaretraum.ch/event/betriebsyoga/2028-09-01/
LOCATION:Aaretraum\, Obere Hauptgasse 72\, Thun\, Bern\, 3600\, Schweiz
ATTACH;FMTTYPE=image/jpeg:https://aaretraum.ch/wp-content/uploads/entspannung-neutrales-bild.jpg
ORGANIZER;CN="Adrienne Schumacher":MAILTO:arjuna16@bluemail.ch
END:VEVENT
BEGIN:VEVENT
DTSTART;TZID=Europe/Zurich:20280905T173000
DTEND;TZID=Europe/Zurich:20280905T203000
DTSTAMP:20260423T112924
CREATED:20241001T175119Z
LAST-MODIFIED:20241011T173548Z
UID:10002079-1851787800-1851798600@aaretraum.ch
SUMMARY:Power Yoga mit Paula Friess
DESCRIPTION:Weitere Informationen siehe unter: www.paulapoweryoga.ch
URL:https://aaretraum.ch/event/poweryoga-mit-paula-friess/2028-09-05/
LOCATION:Aaretraum\, Obere Hauptgasse 72\, Thun\, Bern\, 3600\, Schweiz
ATTACH;FMTTYPE=image/jpeg:https://aaretraum.ch/wp-content/uploads/logo_paula_power_yoga-1.jpg
ORGANIZER;CN="Paula Friess":MAILTO:paulapoweryoga@gmx.ch
END:VEVENT
BEGIN:VEVENT
DTSTART;TZID=Europe/Zurich:20280908T120000
DTEND;TZID=Europe/Zurich:20280908T150000
DTSTAMP:20260423T112924
CREATED:20250716T211827Z
LAST-MODIFIED:20250716T211827Z
UID:10002990-1852027200-1852038000@aaretraum.ch
SUMMARY:Betriebsyoga
DESCRIPTION:
URL:https://aaretraum.ch/event/betriebsyoga/2028-09-08/
LOCATION:Aaretraum\, Obere Hauptgasse 72\, Thun\, Bern\, 3600\, Schweiz
ATTACH;FMTTYPE=image/jpeg:https://aaretraum.ch/wp-content/uploads/entspannung-neutrales-bild.jpg
ORGANIZER;CN="Adrienne Schumacher":MAILTO:arjuna16@bluemail.ch
END:VEVENT
BEGIN:VEVENT
DTSTART;TZID=Europe/Zurich:20280912T173000
DTEND;TZID=Europe/Zurich:20280912T203000
DTSTAMP:20260423T112924
CREATED:20241001T175119Z
LAST-MODIFIED:20241011T173548Z
UID:10002080-1852392600-1852403400@aaretraum.ch
SUMMARY:Power Yoga mit Paula Friess
DESCRIPTION:Weitere Informationen siehe unter: www.paulapoweryoga.ch
URL:https://aaretraum.ch/event/poweryoga-mit-paula-friess/2028-09-12/
LOCATION:Aaretraum\, Obere Hauptgasse 72\, Thun\, Bern\, 3600\, Schweiz
ATTACH;FMTTYPE=image/jpeg:https://aaretraum.ch/wp-content/uploads/logo_paula_power_yoga-1.jpg
ORGANIZER;CN="Paula Friess":MAILTO:paulapoweryoga@gmx.ch
END:VEVENT
BEGIN:VEVENT
DTSTART;TZID=Europe/Zurich:20280915T120000
DTEND;TZID=Europe/Zurich:20280915T150000
DTSTAMP:20260423T112924
CREATED:20250716T211827Z
LAST-MODIFIED:20250716T211827Z
UID:10002991-1852632000-1852642800@aaretraum.ch
SUMMARY:Betriebsyoga
DESCRIPTION:
URL:https://aaretraum.ch/event/betriebsyoga/2028-09-15/
LOCATION:Aaretraum\, Obere Hauptgasse 72\, Thun\, Bern\, 3600\, Schweiz
ATTACH;FMTTYPE=image/jpeg:https://aaretraum.ch/wp-content/uploads/entspannung-neutrales-bild.jpg
ORGANIZER;CN="Adrienne Schumacher":MAILTO:arjuna16@bluemail.ch
END:VEVENT
BEGIN:VEVENT
DTSTART;TZID=Europe/Zurich:20280919T173000
DTEND;TZID=Europe/Zurich:20280919T203000
DTSTAMP:20260423T112924
CREATED:20241001T175119Z
LAST-MODIFIED:20241011T173548Z
UID:10002081-1852997400-1853008200@aaretraum.ch
SUMMARY:Power Yoga mit Paula Friess
DESCRIPTION:Weitere Informationen siehe unter: www.paulapoweryoga.ch
URL:https://aaretraum.ch/event/poweryoga-mit-paula-friess/2028-09-19/
LOCATION:Aaretraum\, Obere Hauptgasse 72\, Thun\, Bern\, 3600\, Schweiz
ATTACH;FMTTYPE=image/jpeg:https://aaretraum.ch/wp-content/uploads/logo_paula_power_yoga-1.jpg
ORGANIZER;CN="Paula Friess":MAILTO:paulapoweryoga@gmx.ch
END:VEVENT
BEGIN:VEVENT
DTSTART;TZID=Europe/Zurich:20280922T120000
DTEND;TZID=Europe/Zurich:20280922T150000
DTSTAMP:20260423T112924
CREATED:20250716T211827Z
LAST-MODIFIED:20250716T211827Z
UID:10002992-1853236800-1853247600@aaretraum.ch
SUMMARY:Betriebsyoga
DESCRIPTION:
URL:https://aaretraum.ch/event/betriebsyoga/2028-09-22/
LOCATION:Aaretraum\, Obere Hauptgasse 72\, Thun\, Bern\, 3600\, Schweiz
ATTACH;FMTTYPE=image/jpeg:https://aaretraum.ch/wp-content/uploads/entspannung-neutrales-bild.jpg
ORGANIZER;CN="Adrienne Schumacher":MAILTO:arjuna16@bluemail.ch
END:VEVENT
BEGIN:VEVENT
DTSTART;TZID=Europe/Zurich:20280926T173000
DTEND;TZID=Europe/Zurich:20280926T203000
DTSTAMP:20260423T112924
CREATED:20241001T175119Z
LAST-MODIFIED:20241011T173548Z
UID:10002082-1853602200-1853613000@aaretraum.ch
SUMMARY:Power Yoga mit Paula Friess
DESCRIPTION:Weitere Informationen siehe unter: www.paulapoweryoga.ch
URL:https://aaretraum.ch/event/poweryoga-mit-paula-friess/2028-09-26/
LOCATION:Aaretraum\, Obere Hauptgasse 72\, Thun\, Bern\, 3600\, Schweiz
ATTACH;FMTTYPE=image/jpeg:https://aaretraum.ch/wp-content/uploads/logo_paula_power_yoga-1.jpg
ORGANIZER;CN="Paula Friess":MAILTO:paulapoweryoga@gmx.ch
END:VEVENT
BEGIN:VEVENT
DTSTART;TZID=Europe/Zurich:20280929T120000
DTEND;TZID=Europe/Zurich:20280929T150000
DTSTAMP:20260423T112924
CREATED:20250716T211827Z
LAST-MODIFIED:20250716T211827Z
UID:10002993-1853841600-1853852400@aaretraum.ch
SUMMARY:Betriebsyoga
DESCRIPTION:
URL:https://aaretraum.ch/event/betriebsyoga/2028-09-29/
LOCATION:Aaretraum\, Obere Hauptgasse 72\, Thun\, Bern\, 3600\, Schweiz
ATTACH;FMTTYPE=image/jpeg:https://aaretraum.ch/wp-content/uploads/entspannung-neutrales-bild.jpg
ORGANIZER;CN="Adrienne Schumacher":MAILTO:arjuna16@bluemail.ch
END:VEVENT
END:VCALENDAR